BEGIN:VCALENDAR
VERSION:2.0
PRODID:-//Ancestral Voice - ECPv6.15.20//NONSGML v1.0//EN
CALSCALE:GREGORIAN
METHOD:PUBLISH
X-ORIGINAL-URL:https://ancestralvoice.org
X-WR-CALDESC:Events for Ancestral Voice
REFRESH-INTERVAL;VALUE=DURATION:PT1H
X-Robots-Tag:noindex
X-PUBLISHED-TTL:PT1H
BEGIN:VTIMEZONE
TZID:America/Denver
BEGIN:DAYLIGHT
TZOFFSETFROM:-0700
TZOFFSETTO:-0600
TZNAME:MDT
DTSTART:20230312T090000
END:DAYLIGHT
BEGIN:STANDARD
TZOFFSETFROM:-0600
TZOFFSETTO:-0700
TZNAME:MST
DTSTART:20231105T080000
END:STANDARD
BEGIN:DAYLIGHT
TZOFFSETFROM:-0700
TZOFFSETTO:-0600
TZNAME:MDT
DTSTART:20240310T090000
END:DAYLIGHT
BEGIN:STANDARD
TZOFFSETFROM:-0600
TZOFFSETTO:-0700
TZNAME:MST
DTSTART:20241103T080000
END:STANDARD
BEGIN:DAYLIGHT
TZOFFSETFROM:-0700
TZOFFSETTO:-0600
TZNAME:MDT
DTSTART:20250309T090000
END:DAYLIGHT
BEGIN:STANDARD
TZOFFSETFROM:-0600
TZOFFSETTO:-0700
TZNAME:MST
DTSTART:20251102T080000
END:STANDARD
END:VTIMEZONE
BEGIN:VEVENT
DTSTART;TZID=America/Denver:20240802T193000
DTEND;TZID=America/Denver:20240802T193000
DTSTAMP:20260424T180914
CREATED:20240806T194232Z
LAST-MODIFIED:20240806T194232Z
UID:2329-1722627000-1722627000@ancestralvoice.org
SUMMARY:Lammas Ceremony in Novato & via Zoom
DESCRIPTION:
URL:https://ancestralvoice.org/calendar/lammas-ceremony-in-novato-via-zoom/
LOCATION:CA
END:VEVENT
BEGIN:VEVENT
DTSTART;TZID=America/Denver:20240808T193000
DTEND;TZID=America/Denver:20240808T193000
DTSTAMP:20260424T180914
CREATED:20240806T194306Z
LAST-MODIFIED:20240806T194306Z
UID:2331-1723145400-1723145400@ancestralvoice.org
SUMMARY:Traditional Drum Tie in Novato
DESCRIPTION:
URL:https://ancestralvoice.org/calendar/traditional-drum-tie-in-novato-2/
LOCATION:CA
END:VEVENT
BEGIN:VEVENT
DTSTART;TZID=America/Denver:20240816T160000
DTEND;TZID=America/Denver:20240816T160000
DTSTAMP:20260424T180914
CREATED:20240806T194355Z
LAST-MODIFIED:20240806T194355Z
UID:2333-1723824000-1723824000@ancestralvoice.org
SUMMARY:Good of the Whole Traditional Ceremony & Teachings Zoomcast
DESCRIPTION:Please email for the link
URL:https://ancestralvoice.org/calendar/good-of-the-whole-traditional-ceremony-teachings-zoomcast-3/
LOCATION:CA
END:VEVENT
BEGIN:VEVENT
DTSTART;TZID=America/Denver:20240816T190000
DTEND;TZID=America/Denver:20240816T190000
DTSTAMP:20260424T180914
CREATED:20240806T194421Z
LAST-MODIFIED:20240806T194421Z
UID:2335-1723834800-1723834800@ancestralvoice.org
SUMMARY:Traditional Ceremony & Teachings in Mill Valley
DESCRIPTION:
URL:https://ancestralvoice.org/calendar/traditional-ceremony-teachings-in-mill-valley-3/
LOCATION:CA
END:VEVENT
BEGIN:VEVENT
DTSTART;TZID=America/Denver:20240817T110000
DTEND;TZID=America/Denver:20240817T110000
DTSTAMP:20260424T180914
CREATED:20240806T194513Z
LAST-MODIFIED:20240806T194513Z
UID:2337-1723892400-1723892400@ancestralvoice.org
SUMMARY:Traditional Purification Lodge in Celebration of the 30th Anniversary of Ancestral Voice in Petaluma
DESCRIPTION:
URL:https://ancestralvoice.org/calendar/traditional-purification-lodge-in-celebration-of-the-30th-anniversary-of-ancestral-voice-in-petaluma/
LOCATION:CA
END:VEVENT
BEGIN:VEVENT
DTSTART;TZID=America/Denver:20240818T100000
DTEND;TZID=America/Denver:20240818T113000
DTSTAMP:20260424T180914
CREATED:20240806T194604Z
LAST-MODIFIED:20240806T194604Z
UID:2339-1723975200-1723980600@ancestralvoice.org
SUMMARY:Awakened Leadership 9 month online course via Zoom Ancestral Voice AV
DESCRIPTION:Please email for the link
URL:https://ancestralvoice.org/calendar/awakened-leadership-9-month-online-course-via-zoom-ancestral-voice-av-2/
LOCATION:CA
END:VEVENT
BEGIN:VEVENT
DTSTART;TZID=America/Denver:20240818T130000
DTEND;TZID=America/Denver:20240818T200000
DTSTAMP:20260424T180914
CREATED:20240806T194647Z
LAST-MODIFIED:20240806T194647Z
UID:2341-1723986000-1724011200@ancestralvoice.org
SUMMARY:30th Anniversary of Ancestral Voice (including evening Full Moon Ceremony)
DESCRIPTION:in Novato
URL:https://ancestralvoice.org/calendar/30th-anniversary-of-ancestral-voice-including-evening-full-moon-ceremony/
LOCATION:CA
END:VEVENT
BEGIN:VEVENT
DTSTART;TZID=America/Denver:20240820T200000
DTEND;TZID=America/Denver:20240820T200000
DTSTAMP:20260424T180914
CREATED:20240806T194724Z
LAST-MODIFIED:20240806T194724Z
UID:2343-1724184000-1724184000@ancestralvoice.org
SUMMARY:Traditional Full Moon Ceremony
DESCRIPTION:at New Mission Yoga in San Francisco
URL:https://ancestralvoice.org/calendar/traditional-full-moon-ceremony-2/
LOCATION:CA
END:VEVENT
BEGIN:VEVENT
DTSTART;TZID=America/Denver:20240829T193000
DTEND;TZID=America/Denver:20240829T193000
DTSTAMP:20260424T180914
CREATED:20240806T194804Z
LAST-MODIFIED:20240806T194804Z
UID:2345-1724959800-1724959800@ancestralvoice.org
SUMMARY:Sacred Hoops in Novato and via Zoom Ancestral Voice AV
DESCRIPTION:Please email for the link
URL:https://ancestralvoice.org/calendar/sacred-hoops-in-novato-and-via-zoom-ancestral-voice-av-2/
LOCATION:CA
END:VEVENT
BEGIN:VEVENT
DTSTART;TZID=America/Denver:20240831T110000
DTEND;TZID=America/Denver:20240831T110000
DTSTAMP:20260424T180914
CREATED:20240806T194920Z
LAST-MODIFIED:20240806T194920Z
UID:2347-1725102000-1725102000@ancestralvoice.org
SUMMARY:Traditional Purification Lodge
DESCRIPTION:in Petaluma (4010 Bodega Ave.)
URL:https://ancestralvoice.org/calendar/traditional-purification-lodge-8/
LOCATION:CA
END:VEVENT
END:VCALENDAR