BEGIN:VCALENDAR
VERSION:2.0
PRODID:-//Ancestral Voice - ECPv6.15.20//NONSGML v1.0//EN
CALSCALE:GREGORIAN
METHOD:PUBLISH
X-WR-CALNAME:Ancestral Voice
X-ORIGINAL-URL:https://ancestralvoice.org
X-WR-CALDESC:Events for Ancestral Voice
REFRESH-INTERVAL;VALUE=DURATION:PT1H
X-Robots-Tag:noindex
X-PUBLISHED-TTL:PT1H
BEGIN:VTIMEZONE
TZID:America/Denver
BEGIN:DAYLIGHT
TZOFFSETFROM:-0700
TZOFFSETTO:-0600
TZNAME:MDT
DTSTART:20220313T090000
END:DAYLIGHT
BEGIN:STANDARD
TZOFFSETFROM:-0600
TZOFFSETTO:-0700
TZNAME:MST
DTSTART:20221106T080000
END:STANDARD
BEGIN:DAYLIGHT
TZOFFSETFROM:-0700
TZOFFSETTO:-0600
TZNAME:MDT
DTSTART:20230312T090000
END:DAYLIGHT
BEGIN:STANDARD
TZOFFSETFROM:-0600
TZOFFSETTO:-0700
TZNAME:MST
DTSTART:20231105T080000
END:STANDARD
BEGIN:DAYLIGHT
TZOFFSETFROM:-0700
TZOFFSETTO:-0600
TZNAME:MDT
DTSTART:20240310T090000
END:DAYLIGHT
BEGIN:STANDARD
TZOFFSETFROM:-0600
TZOFFSETTO:-0700
TZNAME:MST
DTSTART:20241103T080000
END:STANDARD
END:VTIMEZONE
BEGIN:VEVENT
DTSTART;VALUE=DATE:20230423
DTEND;VALUE=DATE:20230424
DTSTAMP:20260424T211458
CREATED:20230420T233319Z
LAST-MODIFIED:20230420T233319Z
UID:1444-1682208000-1682294399@ancestralvoice.org
SUMMARY:Sunday\, April 23: Indigenous Medicine Ways 9 month online course\, hosted by the Sufi Universal Fraternal Institute\, 12:30 - 1:30pm
DESCRIPTION:
URL:https://ancestralvoice.org/calendar/sunday-april-23-indigenous-medicine-ways-9-month-online-course-hosted-by-the-sufi-universal-fraternal-institute-1230-130pm/
END:VEVENT
BEGIN:VEVENT
DTSTART;VALUE=DATE:20230422
DTEND;VALUE=DATE:20230423
DTSTAMP:20260424T211458
CREATED:20230420T233215Z
LAST-MODIFIED:20230420T233215Z
UID:1442-1682121600-1682207999@ancestralvoice.org
SUMMARY:Saturday\, April 22: Purification Lodge in Petaluma\, 11am
DESCRIPTION:
URL:https://ancestralvoice.org/calendar/saturday-april-22-purification-lodge-in-petaluma-11am/
END:VEVENT
BEGIN:VEVENT
DTSTART;VALUE=DATE:20230421
DTEND;VALUE=DATE:20230422
DTSTAMP:20260424T211458
CREATED:20230421T060945Z
LAST-MODIFIED:20230421T060945Z
UID:1433-1682035200-1682121599@ancestralvoice.org
SUMMARY:Friday\, April 21: Good of the Whole Zoomcast (see link below)\, 4pm Pacific time
DESCRIPTION:
URL:https://ancestralvoice.org/calendar/friday-april-21-good-of-the-whole-zoomcast-see-link-below-4pm-pacific-time/
END:VEVENT
END:VCALENDAR