BEGIN:VCALENDAR
VERSION:2.0
PRODID:-//Ancestral Voice - ECPv6.15.20//NONSGML v1.0//EN
CALSCALE:GREGORIAN
METHOD:PUBLISH
X-ORIGINAL-URL:https://ancestralvoice.org
X-WR-CALDESC:Events for Ancestral Voice
REFRESH-INTERVAL;VALUE=DURATION:PT1H
X-Robots-Tag:noindex
X-PUBLISHED-TTL:PT1H
BEGIN:VTIMEZONE
TZID:America/Los_Angeles
BEGIN:DAYLIGHT
TZOFFSETFROM:-0800
TZOFFSETTO:-0700
TZNAME:PDT
DTSTART:20250309T100000
END:DAYLIGHT
BEGIN:STANDARD
TZOFFSETFROM:-0700
TZOFFSETTO:-0800
TZNAME:PST
DTSTART:20251102T090000
END:STANDARD
BEGIN:DAYLIGHT
TZOFFSETFROM:-0800
TZOFFSETTO:-0700
TZNAME:PDT
DTSTART:20260308T100000
END:DAYLIGHT
BEGIN:STANDARD
TZOFFSETFROM:-0700
TZOFFSETTO:-0800
TZNAME:PST
DTSTART:20261101T090000
END:STANDARD
BEGIN:DAYLIGHT
TZOFFSETFROM:-0800
TZOFFSETTO:-0700
TZNAME:PDT
DTSTART:20270314T100000
END:DAYLIGHT
BEGIN:STANDARD
TZOFFSETFROM:-0700
TZOFFSETTO:-0800
TZNAME:PST
DTSTART:20271107T090000
END:STANDARD
END:VTIMEZONE
BEGIN:VEVENT
DTSTART;TZID=America/Los_Angeles:20260501T193000
DTEND;TZID=America/Los_Angeles:20260501T220000
DTSTAMP:20260423T164252
CREATED:20260415T015038Z
LAST-MODIFIED:20260415T015038Z
UID:2786-1777663800-1777672800@ancestralvoice.org
SUMMARY:Traditional Full Moon & Beltane Ceremony
DESCRIPTION:
URL:https://ancestralvoice.org/calendar/traditional-full-moon-beltane-ceremony/
LOCATION:Novato (108D Oliva Ct.)
END:VEVENT
BEGIN:VEVENT
DTSTART;TZID=America/Los_Angeles:20260502T160000
DTEND;TZID=America/Los_Angeles:20260502T220000
DTSTAMP:20260423T164252
CREATED:20260415T013950Z
LAST-MODIFIED:20260415T013950Z
UID:2775-1777737600-1777759200@ancestralvoice.org
SUMMARY:Traditional Full Moon Purification Lodge - NOTE: 4pm Arrival
DESCRIPTION:The Purification Lodge (often referred to as a “sweatlodge”) is an ancient\, Indigenous Prayer and Healing Ceremony\, which combines the Sacred elements- Water\, Air and Fire – within the womb of the Earth. The Ceremony is conducted in a Traditional manner. Everyone welcome. \nIf new to the Lodge\, please notify us of your attendance so we can convey the protocols of what to bring\, what to where and how to show up in a good way. Call or text us at (415) 310-0981. \nToksa!
URL:https://ancestralvoice.org/calendar/traditional-full-moon-purification-lodge-note-4pm-arrival/
LOCATION:Petaluma (4010 Bodega Ave.)
END:VEVENT
BEGIN:VEVENT
DTSTART;TZID=America/Los_Angeles:20260519T193000
DTEND;TZID=America/Los_Angeles:20260519T213000
DTSTAMP:20260423T164252
CREATED:20260415T015301Z
LAST-MODIFIED:20260415T015301Z
UID:2788-1779219000-1779226200@ancestralvoice.org
SUMMARY:Traditional Drum Tie
DESCRIPTION:A gathering in honour of my father\, a beloved and respected Roadman who sang his Final Set of Songs on the Earth\, we Tie up the Water Drum and\, along with the Gourd Rattle practice Sacred NAC Songs and receive Teachings regarding the Tipi Way. Everyone welcome. Please text me to RSVP at (415) 310-0981
URL:https://ancestralvoice.org/calendar/traditional-drum-tie-19/
LOCATION:Novato (108D Oliva Ct.)
END:VEVENT
BEGIN:VEVENT
DTSTART;TZID=America/Los_Angeles:20260526T200000
DTEND;TZID=America/Los_Angeles:20260526T220000
DTSTAMP:20260423T164252
CREATED:20260415T015440Z
LAST-MODIFIED:20260415T015440Z
UID:2792-1779825600-1779832800@ancestralvoice.org
SUMMARY:Traditional Full Moon & Sacred Tobacco Ceremony
DESCRIPTION:at New Mission Yoga in San Francisco
URL:https://ancestralvoice.org/calendar/traditional-full-moon-sacred-tobacco-ceremony-3/
LOCATION:New Mission Yoga in San Francisco (2415 Mission St.)
END:VEVENT
BEGIN:VEVENT
DTSTART;TZID=America/Los_Angeles:20260528T193000
DTEND;TZID=America/Los_Angeles:20260528T220000
DTSTAMP:20260423T164252
CREATED:20260415T013626Z
LAST-MODIFIED:20260415T013626Z
UID:2769-1779996600-1780005600@ancestralvoice.org
SUMMARY:Sacred Hoops
DESCRIPTION:Gatherings dedicated to exploring and deepening our connections to the Sacred by receiving Teachings\, learning Traditional Native Songs and the fundamentals of respectful Ceremonial participation and/or by listening to the Wisdom of invited Elders\, Medicine People and Healers from various Indigenous Nations and cultures.  Everyone welcome. \nAvailable in-person for Bay Area locals and via Zoom. \nPlease contact me directly for the Zoom link at phillip@ancestralvoice.org
URL:https://ancestralvoice.org/calendar/sacred-hoops-14/
LOCATION:Novato (108D Oliva Ct.)
END:VEVENT
BEGIN:VEVENT
DTSTART;TZID=America/Los_Angeles:20260530T100000
DTEND;TZID=America/Los_Angeles:20260531T180000
DTSTAMP:20260423T164252
CREATED:20260415T015638Z
LAST-MODIFIED:20260415T015638Z
UID:2794-1780135200-1780250400@ancestralvoice.org
SUMMARY:Intensive: Indigenous Healing
DESCRIPTION:Medicine peoples’ relationship to disease\, illness and trauma is wholly unique.  Advanced techniques in ancient Native methods of assessment and treatment\, as well as Indigenous perspectives to such phenomena are introduced and thoroughly practiced. \nPrerequisite: The Indigenous Journey or prior experience with journeywork. \nLocation: Ancestral Voice Institute in Novato \nReciprocity: $350 \nPlease note: If you need alternative accommodations for the reciprocity\, please reach out to me directly at (415)310-0981. \nSign up via link below
URL:https://ancestralvoice.org/calendar/intensive-indigenous-healing-2/
LOCATION:Novato (108D Oliva Ct.)
END:VEVENT
BEGIN:VEVENT
DTSTART;TZID=America/Los_Angeles:20260530T160000
DTEND;TZID=America/Los_Angeles:20260530T220000
DTSTAMP:20260423T164252
CREATED:20260415T014052Z
LAST-MODIFIED:20260415T014052Z
UID:2777-1780156800-1780178400@ancestralvoice.org
SUMMARY:Traditional Full Moon Purification Lodge - NOTE: 4pm Arrival
DESCRIPTION:The Purification Lodge (often referred to as a “sweatlodge”) is an ancient\, Indigenous Prayer and Healing Ceremony\, which combines the Sacred elements- Water\, Air and Fire – within the womb of the Earth. The Ceremony is conducted in a Traditional manner. Everyone welcome. \nIf new to the Lodge\, please notify us of your attendance so we can convey the protocols of what to bring\, what to where and how to show up in a good way. Call or text us at (415) 310-0981. \nToksa!
URL:https://ancestralvoice.org/calendar/traditional-full-moon-purification-lodge-note-4pm-arrival-2/
LOCATION:Petaluma (4010 Bodega Ave.)
END:VEVENT
BEGIN:VEVENT
DTSTART;TZID=America/Los_Angeles:20260602T193000
DTEND;TZID=America/Los_Angeles:20260602T213000
DTSTAMP:20260423T164252
CREATED:20260415T015337Z
LAST-MODIFIED:20260415T015337Z
UID:2790-1780428600-1780435800@ancestralvoice.org
SUMMARY:Traditional Drum Tie
DESCRIPTION:A gathering in honour of my father\, a beloved and respected Roadman who sang his Final Set of Songs on the Earth\, we Tie up the Water Drum and\, along with the Gourd Rattle practice Sacred NAC Songs and receive Teachings regarding the Tipi Way. Everyone welcome. Please text me to RSVP at (415) 310-0981
URL:https://ancestralvoice.org/calendar/traditional-drum-tie-20/
LOCATION:Novato (108D Oliva Ct.)
END:VEVENT
BEGIN:VEVENT
DTSTART;TZID=America/Los_Angeles:20260609T200000
DTEND;TZID=America/Los_Angeles:20260609T220000
DTSTAMP:20260423T164252
CREATED:20260415T015740Z
LAST-MODIFIED:20260415T015740Z
UID:2796-1781035200-1781042400@ancestralvoice.org
SUMMARY:Traditional Solstice and Sacred Tobacco Ceremony
DESCRIPTION:at New Mission Yoga in San Francisco
URL:https://ancestralvoice.org/calendar/traditional-solstice-and-sacred-tobacco-ceremony/
LOCATION:New Mission Yoga in San Francisco (2415 Mission St.)
END:VEVENT
BEGIN:VEVENT
DTSTART;TZID=America/Los_Angeles:20260611T193000
DTEND;TZID=America/Los_Angeles:20260611T220000
DTSTAMP:20260423T164252
CREATED:20260415T013724Z
LAST-MODIFIED:20260415T013724Z
UID:2771-1781206200-1781215200@ancestralvoice.org
SUMMARY:Sacred Hoops & Traditional Solstice Ceremony
DESCRIPTION:Gatherings dedicated to exploring and deepening our connections to the Sacred by receiving Teachings\, learning Traditional Native Songs and the fundamentals of respectful Ceremonial participation and/or by listening to the Wisdom of invited Elders\, Medicine People and Healers from various Indigenous Nations and cultures.  Everyone welcome. \nAvailable in-person for Bay Area locals and via Zoom. \nPlease contact me directly for the Zoom link at phillip@ancestralvoice.org
URL:https://ancestralvoice.org/calendar/sacred-hoops-traditional-solstice-ceremony/
END:VEVENT
BEGIN:VEVENT
DTSTART;TZID=America/Los_Angeles:20260612T160000
DTEND;TZID=America/Los_Angeles:20260612T173000
DTSTAMP:20260423T164252
CREATED:20260415T015911Z
LAST-MODIFIED:20260415T015911Z
UID:2798-1781280000-1781285400@ancestralvoice.org
SUMMARY:Traditional Solstice Ceremony
DESCRIPTION:Please call or text (415) 310-0981 for the Zoom Link.
URL:https://ancestralvoice.org/calendar/traditional-solstice-ceremony/
LOCATION:Zoomcast CF
END:VEVENT
BEGIN:VEVENT
DTSTART;TZID=America/Los_Angeles:20260613T110000
DTEND;TZID=America/Los_Angeles:20260613T173000
DTSTAMP:20260423T164252
CREATED:20260415T014142Z
LAST-MODIFIED:20260415T014142Z
UID:2779-1781348400-1781371800@ancestralvoice.org
SUMMARY:Traditional Purification Lodge
DESCRIPTION:The Purification Lodge (often referred to as a “sweatlodge”) is an ancient\, Indigenous Prayer and Healing Ceremony\, which combines the Sacred elements- Water\, Air and Fire – within the womb of the Earth. The Ceremony is conducted in a Traditional manner. Everyone welcome. \nIf new to the Lodge\, please notify us of your attendance so we can convey the protocols of what to bring\, what to where and how to show up in a good way. Call or text us at (415) 310-0981. \nToksa!
URL:https://ancestralvoice.org/calendar/traditional-purification-lodge-21/
LOCATION:Petaluma (4010 Bodega Ave.)
END:VEVENT
BEGIN:VEVENT
DTSTART;TZID=America/Los_Angeles:20260614T133000
DTEND;TZID=America/Los_Angeles:20260614T173000
DTSTAMP:20260423T164252
CREATED:20260415T020111Z
LAST-MODIFIED:20260415T020111Z
UID:2800-1781443800-1781458200@ancestralvoice.org
SUMMARY:Mt. Tamalpais Summer Solstice Medicine Wheel Ceremony
DESCRIPTION:The Medicine Wheel is an ancient\, powerful navigational way of life employed by Indigenous peoples throughout the world for health and healing. \nWe will initially meet at the OLD Whole Foods on Miller Ave in Mill Valley\, then caravan together to assemble atop Mt. Tamalpais\, the Sacred mountain of the Coastal Miwok\, Pomo and Ohlone Nations for a Ceremony to create a Medicine Wheel (Sacred Hoop of Life) in honour and celebration of the seasonal shifts and thresholds and to Pray for All of Our Relations. Everyone is welcome. \nIf new to the Medicine Wheel Ceremony\, please RSVP for this event so we can send you information on what to bring\, what to where and how to show up in a good way. Please notify us of your attendance by calling or texting us at (415) 310-0981.
URL:https://ancestralvoice.org/calendar/mt-tamalpais-summer-solstice-medicine-wheel-ceremony-3/
LOCATION:Whole Foods Mill Valley\, Miller Ave\, Mill Valley
END:VEVENT
BEGIN:VEVENT
DTSTART;TZID=America/Los_Angeles:20260614T183000
DTEND;TZID=America/Los_Angeles:20260614T203000
DTSTAMP:20260423T164252
CREATED:20260415T020313Z
LAST-MODIFIED:20260415T020313Z
UID:2802-1781461800-1781469000@ancestralvoice.org
SUMMARY:Traditional Summer Solstice Ceremony
DESCRIPTION:at 11:11 Portal in Novato (863 Grant Ave.)
URL:https://ancestralvoice.org/calendar/traditional-summer-solstice-ceremony-2/
LOCATION:11:11 Portal (863 Grand Ave. Novato)\, 863 Grand Ave\, Novato\, CA\, United States
END:VEVENT
END:VCALENDAR