BEGIN:VCALENDAR
VERSION:2.0
PRODID:-//Ancestral Voice - ECPv6.15.20//NONSGML v1.0//EN
CALSCALE:GREGORIAN
METHOD:PUBLISH
X-WR-CALNAME:Ancestral Voice
X-ORIGINAL-URL:https://ancestralvoice.org
X-WR-CALDESC:Events for Ancestral Voice
REFRESH-INTERVAL;VALUE=DURATION:PT1H
X-Robots-Tag:noindex
X-PUBLISHED-TTL:PT1H
BEGIN:VTIMEZONE
TZID:America/Los_Angeles
BEGIN:DAYLIGHT
TZOFFSETFROM:-0800
TZOFFSETTO:-0700
TZNAME:PDT
DTSTART:20240310T100000
END:DAYLIGHT
BEGIN:STANDARD
TZOFFSETFROM:-0700
TZOFFSETTO:-0800
TZNAME:PST
DTSTART:20241103T090000
END:STANDARD
BEGIN:DAYLIGHT
TZOFFSETFROM:-0800
TZOFFSETTO:-0700
TZNAME:PDT
DTSTART:20250309T100000
END:DAYLIGHT
BEGIN:STANDARD
TZOFFSETFROM:-0700
TZOFFSETTO:-0800
TZNAME:PST
DTSTART:20251102T090000
END:STANDARD
BEGIN:DAYLIGHT
TZOFFSETFROM:-0800
TZOFFSETTO:-0700
TZNAME:PDT
DTSTART:20260308T100000
END:DAYLIGHT
BEGIN:STANDARD
TZOFFSETFROM:-0700
TZOFFSETTO:-0800
TZNAME:PST
DTSTART:20261101T090000
END:STANDARD
END:VTIMEZONE
BEGIN:VEVENT
DTSTART;TZID=America/Los_Angeles:20250807T193000
DTEND;TZID=America/Los_Angeles:20250807T213000
DTSTAMP:20260424T090836
CREATED:20250714T185331Z
LAST-MODIFIED:20250714T185331Z
UID:2577-1754595000-1754602200@ancestralvoice.org
SUMMARY:Traditional Drum Tie
DESCRIPTION:A gathering in honour of my father\, a beloved and respected Roadman who sang his Final Set of Songs on the Earth\, we Tie up the Water Drum and\, along with the Gourd Rattle practice Sacred NAC Songs and receive Teachings regarding the Tipi Way. Everyone welcome. Please text me to RSVP at (415) 310-0981
URL:https://ancestralvoice.org/calendar/traditional-drum-tie-13/
LOCATION:Novato (108D Oliva Ct.)
END:VEVENT
BEGIN:VEVENT
DTSTART;TZID=America/Los_Angeles:20250802T190000
DTEND;TZID=America/Los_Angeles:20250802T213000
DTSTAMP:20260424T090836
CREATED:20250714T185210Z
LAST-MODIFIED:20250714T185210Z
UID:2575-1754161200-1754170200@ancestralvoice.org
SUMMARY:Lammas Ceremony
DESCRIPTION:Join us in ceremony to celebrate the mark of mid-summer and the beginning of Harvest season.
URL:https://ancestralvoice.org/calendar/lammas-ceremony/
LOCATION:Novato (108D Oliva Ct.)
END:VEVENT
BEGIN:VEVENT
DTSTART;TZID=America/Los_Angeles:20250726T110000
DTEND;TZID=America/Los_Angeles:20250726T173000
DTSTAMP:20260424T090836
CREATED:20250714T184719Z
LAST-MODIFIED:20250714T184719Z
UID:2571-1753527600-1753551000@ancestralvoice.org
SUMMARY:Traditional Purification Lodge (Inipi)
DESCRIPTION:The Purification Lodge (often referred to as a “sweatlodge”) is an ancient\, Indigenous Prayer and Healing Ceremony\, which combines the Sacred elements- Water\, Air and Fire – within the womb of the Earth. The Ceremony is conducted in a Traditional manner. Everyone welcome. \nPlease sign up via the link below.
URL:https://ancestralvoice.org/calendar/traditional-purification-lodge-inipi/
LOCATION:4010 Bodega Ave.
END:VEVENT
BEGIN:VEVENT
DTSTART;TZID=America/Los_Angeles:20250724T193000
DTEND;TZID=America/Los_Angeles:20250724T220000
DTSTAMP:20260424T090836
CREATED:20250714T184846Z
LAST-MODIFIED:20250714T184846Z
UID:2573-1753385400-1753394400@ancestralvoice.org
SUMMARY:Sacred Hoops
DESCRIPTION:Gatherings dedicated to exploring and deepening our connections to the Sacred by receiving Teachings\, learning Traditional Native Songs and the fundamentals of respectful Ceremonial participation and/or by listening to the Wisdom of invited Elders\, Medicine People and Healers from various Indigenous Nations and cultures.  Everyone welcome. \nAvailable in-person for Bay Area locals and via Zoom. \nPlease contact me directly for the Zoom link at phillip@ancestralvoice.org
URL:https://ancestralvoice.org/calendar/sacred-hoops-6/
LOCATION:Novato (108D Oliva Ct.)
END:VEVENT
BEGIN:VEVENT
DTSTART;TZID=America/Los_Angeles:20250629T190000
DTEND;TZID=America/Los_Angeles:20250629T210000
DTSTAMP:20260424T090836
CREATED:20250507T223923Z
LAST-MODIFIED:20250507T223923Z
UID:2564-1751223600-1751230800@ancestralvoice.org
SUMMARY:Indigenous Medicine Ways - 9 Month Virtual Course [Meeting 3]
DESCRIPTION:Indigenous Medicine is the most ancient form of healing on the planet. Its elegant\, sophisticated methods remain potent and efficacious to this day. The cycles of Nature are honoured and intimate relationships with the Earth and Unseen realms are cultivated. This experiential course presents Indigenous perspectives– principles and practices- related to Medicine Ways. It is designed to introduce and inform the participant of the rich\, complex worldviews and lifeways of Native peoples as well as to foster religious/ cultural sensitivity and personal healing.  Exposed to and immersed in the Sacred traditions\, Dreaming and healing practices of Indigenous traditions\, participants will directly benefit from a deepening of relationship to the Source\, the Ancestors\, Earth and All of our Relations. Furthermore\, an appreciation and honouring of the diversity of other cultures will result. Contemporary matters regarding cultural appropriation\, the decolonization of “shamanism” and Sacred Plant Medicines will be addressed. \nIn terms of some of the topics that will be touched upon: \nIndigenous Perspectives & Healing Modalities\, The Sacred Hoop of Life (Medicine Wheel)\, Dreams & Sacred Plant Medicine\, Matrilineal Ways of Relationship and the Role of the Sacred/Earth/Ancestors and Community\, Death & Dying\, Cultivating Cultural Sensitivity & Awareness\, Decolonizing “shamanism”\, Contemporary Issues/Challenges & Applications.
URL:https://ancestralvoice.org/calendar/indigenous-medicine-ways-9-month-virtual-course-meeting-3-2/
LOCATION:AV Zoom
END:VEVENT
BEGIN:VEVENT
DTSTART;TZID=America/Los_Angeles:20250629T140000
DTEND;TZID=America/Los_Angeles:20250629T173000
DTSTAMP:20260424T090836
CREATED:20250507T222958Z
LAST-MODIFIED:20250607T053339Z
UID:2545-1751205600-1751218200@ancestralvoice.org
SUMMARY:Mt. Tamalpais Summer Solstice Medicine Wheel Ceremony
DESCRIPTION:The Medicine Wheel is an ancient\, powerful navigational way of life employed by Indigenous peoples throughout the world for health and healing. \nWe will initially meet at the Whole Foods on Miller Ave in Mill Valley\, then caravan together to assemble atop Mt. Tamalpais\, the Sacred mountain of the Coastal Miwok\, Pomo and Ohlone Nations for a Ceremony to create a Medicine Wheel (Sacred Hoop of Life) in honour and celebration of the seasonal shifts and thresholds and to Pray for All of Our Relations. Everyone is welcome.
URL:https://ancestralvoice.org/calendar/mt-tamalpais-summer-solstice-medicine-wheel-ceremony-2/
LOCATION:Whole Foods Mill Valley\, Miller Ave\, Mill Valley
END:VEVENT
BEGIN:VEVENT
DTSTART;TZID=America/Los_Angeles:20250629T100000
DTEND;TZID=America/Los_Angeles:20250629T113000
DTSTAMP:20260424T090836
CREATED:20250507T223815Z
LAST-MODIFIED:20250507T223815Z
UID:2562-1751191200-1751196600@ancestralvoice.org
SUMMARY:Prayer Service
DESCRIPTION:at East County Shared Ministry\, Pittsburg\, CA
URL:https://ancestralvoice.org/calendar/prayer-service-2/
END:VEVENT
BEGIN:VEVENT
DTSTART;TZID=America/Los_Angeles:20250628T110000
DTEND;TZID=America/Los_Angeles:20250628T173000
DTSTAMP:20260424T090836
CREATED:20250507T223733Z
LAST-MODIFIED:20250507T223733Z
UID:2560-1751108400-1751131800@ancestralvoice.org
SUMMARY:Traditional Purification Lodge
DESCRIPTION:The Purification Lodge (often referred to as a “sweatlodge”) is an ancient\, Indigenous Prayer and Healing Ceremony\, which combines the Sacred elements- Water\, Air and Fire – within the womb of the Earth. The Ceremony is conducted in a Traditional manner. Everyone welcome. \nPlease sign up via the link below.
URL:https://ancestralvoice.org/calendar/traditional-purification-lodge-18/
LOCATION:Petaluma (4010 Bodega Ave.)
END:VEVENT
BEGIN:VEVENT
DTSTART;TZID=America/Los_Angeles:20250627T160000
DTEND;TZID=America/Los_Angeles:20250627T173000
DTSTAMP:20260424T090836
CREATED:20250507T223122Z
LAST-MODIFIED:20250507T223122Z
UID:2548-1751040000-1751045400@ancestralvoice.org
SUMMARY:Traditional Summer Solstice Ceremony [ZOOM]
DESCRIPTION:
URL:https://ancestralvoice.org/calendar/traditional-summer-solstice-ceremony-zoom/
LOCATION:Zoomcast CF
END:VEVENT
BEGIN:VEVENT
DTSTART;TZID=America/Los_Angeles:20250626T193000
DTEND;TZID=America/Los_Angeles:20250626T220000
DTSTAMP:20260424T090836
CREATED:20250507T223642Z
LAST-MODIFIED:20250507T223642Z
UID:2558-1750966200-1750975200@ancestralvoice.org
SUMMARY:Sacred Hoops & Summer Solstice Ceremony
DESCRIPTION:Gatherings dedicated to exploring and deepening our connections to the Sacred by receiving Teachings\, learning Traditional Native Songs and the fundamentals of respectful Ceremonial participation and/or by listening to the Wisdom of invited Elders\, Medicine People and Healers from various Indigenous Nations and cultures.  Everyone welcome. \nAvailable in-person for Bay Area locals and via Zoom. \nPlease contact me directly for the Zoom link at phillip@ancestralvoice.org
URL:https://ancestralvoice.org/calendar/sacred-hoops-summer-solstice-ceremony/
LOCATION:Novato (108D Oliva Ct.)
END:VEVENT
BEGIN:VEVENT
DTSTART;VALUE=DATE:20250614
DTEND;VALUE=DATE:20250623
DTSTAMP:20260424T090836
CREATED:20250507T223535Z
LAST-MODIFIED:20250507T223535Z
UID:2556-1749859200-1750636799@ancestralvoice.org
SUMMARY:New Mexico Sundance
DESCRIPTION:We will be away attending a Traditional Sundance Ceremony in New Mexico.
URL:https://ancestralvoice.org/calendar/new-mexico-sundance/
END:VEVENT
BEGIN:VEVENT
DTSTART;TZID=America/Los_Angeles:20250611T193000
DTEND;TZID=America/Los_Angeles:20250611T220000
DTSTAMP:20260424T090836
CREATED:20250507T223427Z
LAST-MODIFIED:20250507T223427Z
UID:2554-1749670200-1749679200@ancestralvoice.org
SUMMARY:Traditional Sacred Pipe & Full Moon Ceremony
DESCRIPTION:
URL:https://ancestralvoice.org/calendar/traditional-sacred-pipe-full-moon-ceremony/
LOCATION:Novato (108D Oliva Ct.)
END:VEVENT
BEGIN:VEVENT
DTSTART;TZID=America/Los_Angeles:20250610T200000
DTEND;TZID=America/Los_Angeles:20250610T220000
DTSTAMP:20260424T090836
CREATED:20250507T223334Z
LAST-MODIFIED:20250507T223334Z
UID:2552-1749585600-1749592800@ancestralvoice.org
SUMMARY:Traditional Summer Solstice and Full Moon Ceremony
DESCRIPTION:at New Mission Yoga in San Francisco
URL:https://ancestralvoice.org/calendar/traditional-summer-solstice-and-full-moon-ceremony/
LOCATION:New Mission Yoga in San Francisco (2415 Mission St.)
END:VEVENT
BEGIN:VEVENT
DTSTART;TZID=America/Los_Angeles:20250608T190000
DTEND;TZID=America/Los_Angeles:20250608T210000
DTSTAMP:20260424T090836
CREATED:20250507T223222Z
LAST-MODIFIED:20250507T223222Z
UID:2550-1749409200-1749416400@ancestralvoice.org
SUMMARY:Men's Hoop: A 9-Month Journey Toward Awakened Warriorship [Meeting 4]
DESCRIPTION:A nine month journey of learning to receive teachings and challenges in order to cultivate the code and values of Awakened Warriorship – integrity\, honesty\, respect\, maturity\, responsibility and accountability – within a Sacred container to explore healthy masculinity in the modern world. Please email at phillip@ancestralvoice.org to join via Zoom.
URL:https://ancestralvoice.org/calendar/mens-hoop-a-9-month-journey-toward-awakened-warriorship-meeting-4/
LOCATION:AV Zoom
END:VEVENT
BEGIN:VEVENT
DTSTART;TZID=America/Los_Angeles:20250607T110000
DTEND;TZID=America/Los_Angeles:20250607T180000
DTSTAMP:20260424T090836
CREATED:20250507T222633Z
LAST-MODIFIED:20250507T222633Z
UID:2543-1749294000-1749319200@ancestralvoice.org
SUMMARY:Traditional Purification Lodge
DESCRIPTION:The Purification Lodge (often referred to as a “sweatlodge”) is an ancient\, Indigenous Prayer and Healing Ceremony\, which combines the Sacred elements- Water\, Air and Fire – within the womb of the Earth. The Ceremony is conducted in a Traditional manner. Everyone welcome. \nPlease sign up via the link below.
URL:https://ancestralvoice.org/calendar/traditional-purification-lodge-17/
LOCATION:Petaluma (4010 Bodega Ave.)
END:VEVENT
BEGIN:VEVENT
DTSTART;TZID=America/Los_Angeles:20250605T193000
DTEND;TZID=America/Los_Angeles:20250605T220000
DTSTAMP:20260424T090836
CREATED:20250507T220802Z
LAST-MODIFIED:20250507T220802Z
UID:2521-1749151800-1749160800@ancestralvoice.org
SUMMARY:Traditional Drum Tie
DESCRIPTION:A gathering in honour of my father\, a beloved and respected Roadman who sang his Final Set of Songs on the Earth\, we Tie up the Water Drum and\, along with the Gourd Rattle practice Sacred NAC Songs and receive Teachings regarding the Tipi Way. Everyone welcome. Please text me to RSVP at (415) 310-0981
URL:https://ancestralvoice.org/calendar/traditional-drum-tie-12/
LOCATION:Novato (108D Oliva Ct.)
END:VEVENT
BEGIN:VEVENT
DTSTART;TZID=America/Los_Angeles:20250531T110000
DTEND;TZID=America/Los_Angeles:20250531T173000
DTSTAMP:20260424T090836
CREATED:20250526T031809Z
LAST-MODIFIED:20250526T031809Z
UID:2568-1748689200-1748712600@ancestralvoice.org
SUMMARY:Traditional Purification Lodge
DESCRIPTION:The Purification Lodge (often referred to as a “sweatlodge”) is an ancient\, Indigenous Prayer and Healing Ceremony\, which combines the Sacred elements- Water\, Air and Fire – within the womb of the Earth. The Ceremony is conducted in a Traditional manner. Everyone welcome. \nPlease sign up via the link below.
URL:https://ancestralvoice.org/calendar/traditional-purification-lodge-19/
END:VEVENT
BEGIN:VEVENT
DTSTART;TZID=America/Los_Angeles:20250531T110000
DTEND;TZID=America/Los_Angeles:20250531T170000
DTSTAMP:20260424T090836
CREATED:20250531T180059Z
LAST-MODIFIED:20250507T222729Z
UID:2541-1748689200-1748710800@ancestralvoice.org
SUMMARY:Traditional Purification Lodge
DESCRIPTION:The Purification Lodge (often referred to as a “sweatlodge”) is an ancient\, Indigenous Prayer and Healing Ceremony\, which combines the Sacred elements- Water\, Air and Fire – within the womb of the Earth. The Ceremony is conducted in a Traditional manner. Everyone welcome. \nPlease sign up via the link below.
URL:https://ancestralvoice.org/calendar/traditional-purification-lodge-16/
LOCATION:Petaluma (4010 Bodega Ave.)
END:VEVENT
BEGIN:VEVENT
DTSTART;TZID=America/Los_Angeles:20250529T193000
DTEND;TZID=America/Los_Angeles:20250529T220000
DTSTAMP:20260424T090836
CREATED:20250507T222326Z
LAST-MODIFIED:20250507T222326Z
UID:2539-1748547000-1748556000@ancestralvoice.org
SUMMARY:Sacred Hoops
DESCRIPTION:Gatherings dedicated to exploring and deepening our connections to the Sacred by receiving Teachings\, learning Traditional Native Songs and the fundamentals of respectful Ceremonial participation and/or by listening to the Wisdom of invited Elders\, Medicine People and Healers from various Indigenous Nations and cultures.  Everyone welcome. \nAvailable in-person for Bay Area locals and via Zoom. \nPlease contact me directly for the Zoom link at phillip@ancestralvoice.org
URL:https://ancestralvoice.org/calendar/sacred-hoops-5/
LOCATION:Novato (108D Oliva Ct.)
END:VEVENT
BEGIN:VEVENT
DTSTART;VALUE=DATE:20250521
DTEND;VALUE=DATE:20250526
DTSTAMP:20260424T090836
CREATED:20250507T222127Z
LAST-MODIFIED:20250507T222127Z
UID:2536-1747785600-1748217599@ancestralvoice.org
SUMMARY:Lightning in a Bottle
DESCRIPTION:We will be attending and supporting Indigenous events at the Lightning in a Bottle Festival.
URL:https://ancestralvoice.org/calendar/lightning-in-a-bottle/
END:VEVENT
BEGIN:VEVENT
DTSTART;TZID=America/Los_Angeles:20250518T190000
DTEND;TZID=America/Los_Angeles:20250518T210000
DTSTAMP:20260424T090836
CREATED:20250507T222003Z
LAST-MODIFIED:20250507T222003Z
UID:2534-1747594800-1747602000@ancestralvoice.org
SUMMARY:Indigenous Medicine Ways - 9 Month Virtual Course [Meeting 4]
DESCRIPTION:Indigenous Medicine is the most ancient form of healing on the planet. Its elegant\, sophisticated methods remain potent and efficacious to this day. The cycles of Nature are honoured and intimate relationships with the Earth and Unseen realms are cultivated. This experiential course presents Indigenous perspectives– principles and practices- related to Medicine Ways. It is designed to introduce and inform the participant of the rich\, complex worldviews and lifeways of Native peoples as well as to foster religious/ cultural sensitivity and personal healing.  Exposed to and immersed in the Sacred traditions\, Dreaming and healing practices of Indigenous traditions\, participants will directly benefit from a deepening of relationship to the Source\, the Ancestors\, Earth and All of our Relations. Furthermore\, an appreciation and honouring of the diversity of other cultures will result. Contemporary matters regarding cultural appropriation\, the decolonization of “shamanism” and Sacred Plant Medicines will be addressed. \nIn terms of some of the topics that will be touched upon: \nIndigenous Perspectives & Healing Modalities\, The Sacred Hoop of Life (Medicine Wheel)\, Dreams & Sacred Plant Medicine\, Matrilineal Ways of Relationship and the Role of the Sacred/Earth/Ancestors and Community\, Death & Dying\, Cultivating Cultural Sensitivity & Awareness\, Decolonizing “shamanism”\, Contemporary Issues/Challenges & Applications.
URL:https://ancestralvoice.org/calendar/indigenous-medicine-ways-9-month-virtual-course-meeting-4/
LOCATION:AV Zoom
END:VEVENT
BEGIN:VEVENT
DTSTART;TZID=America/Los_Angeles:20250517T100000
DTEND;TZID=America/Los_Angeles:20250518T180000
DTSTAMP:20260424T090836
CREATED:20250507T221651Z
LAST-MODIFIED:20250507T221651Z
UID:2532-1747476000-1747591200@ancestralvoice.org
SUMMARY:2-Day Intensive - Indigenous Healing
DESCRIPTION:Medicine peoples’ relationship to and understanding of disease\, illness\, addiction and trauma is wholly unique. Advanced techniques in ancient Native methods of evaluation and treatment\, as well as Indigenous perspectives to such phenomena are introduced and thoroughly practiced. Prerequisite: The Indigenous Journey or prior experience with journeywork \nIn this intensive participants receive:\n– An appreciation of Indigenous worldviews regarding health\, healing and balance\n– An understanding of the nature of disease\, addiction and trauma from an Indigenous perspective\n– An overview of the myriad healing practices and techniques employed by Indigenous peoples worldwide\n– Instruction in the protocols and foundation of Prayer and preparation of Sacred Altars\n– Cultivation and fortification of relationship to Healing Spirits\n– Tools for assessment and treatment of various imbalances and afflictions\n– Practice in specific Native Healing modalities for self and others
URL:https://ancestralvoice.org/calendar/2-day-intensive-indigenous-healing/
LOCATION:Novato (108D Oliva Ct.)
END:VEVENT
BEGIN:VEVENT
DTSTART;TZID=America/Los_Angeles:20250516T100000
DTEND;TZID=America/Los_Angeles:20250516T180000
DTSTAMP:20260424T090836
CREATED:20250507T221431Z
LAST-MODIFIED:20250507T221431Z
UID:2530-1747389600-1747418400@ancestralvoice.org
SUMMARY:Intensive - The Indigenous Journey
DESCRIPTION:Indigenous Medicine is one of the most ancient Paths known and traversed by humanity for the acquisition of wisdom\, knowledge and healing for one’s community\, nation\, planet and self.  Via the vehicles of Indigenous song\, movement\, Prayer and music\, we journey to and explore landscapes and Sacred geographies that Medicine People from diverse cultures have frequented for millennia. Undertaken with specific intent and purpose\, we encounter and acquaint ourselves with the Spirits and powerful denizens of these realms- our Allies\, Benefactors and Guardians – to learn and partake of the Medicine they have to offer.  It is an experience steeped in Spirit\, Mystery and Magic\, presented in a Traditional manner and provides the foundation upon which to embark on the Path. Additionally\, we will address the importance and necessity of decolonizing modern “shamanism” and protecting Sacred Plant Medicines.\n\n\nNo prerequisites – everyone welcome. \n\n\n\n\n\n\n\n\nIn this intensive participants will receive:\n\n\n\nAn understanding of various indigenous relationships to Ancestral Realms\n\n\n\n\nInstruction in the mechanics of effective Journeying (without Sacred Plant Medicines)\n\n\n\nDirect contact and introduction to one’s Helping Spirits & Ancestors\nAn appreciation of the requirements and responsibilities to become a Traditional Healer/Medicine person\nTools to become an ally in decolonizing modern “shamanism” & protecting Sacred Plant Medicines
URL:https://ancestralvoice.org/calendar/intensive-the-indigenous-journey-2/
LOCATION:Novato (108D Oliva Ct.)
END:VEVENT
BEGIN:VEVENT
DTSTART;TZID=America/Los_Angeles:20250513T200000
DTEND;TZID=America/Los_Angeles:20250513T213000
DTSTAMP:20260424T090836
CREATED:20250507T221306Z
LAST-MODIFIED:20250507T221306Z
UID:2528-1747166400-1747171800@ancestralvoice.org
SUMMARY:Traditional Full Moon & Sacred Tobacco Ceremony
DESCRIPTION:at New Mission Yoga in San Francisco
URL:https://ancestralvoice.org/calendar/traditional-full-moon-sacred-tobacco-ceremony-2/
LOCATION:New Mission Yoga in San Francisco (2415 Mission St.)
END:VEVENT
BEGIN:VEVENT
DTSTART;TZID=America/Los_Angeles:20250512T193000
DTEND;TZID=America/Los_Angeles:20250512T220000
DTSTAMP:20260424T090836
CREATED:20250507T221144Z
LAST-MODIFIED:20250507T221144Z
UID:2526-1747078200-1747087200@ancestralvoice.org
SUMMARY:Traditional Sacred Pipe and Full Moon Ceremony
DESCRIPTION:
URL:https://ancestralvoice.org/calendar/traditional-sacred-pipe-and-full-moon-ceremony/
LOCATION:Novato (108D Oliva Ct.)
END:VEVENT
BEGIN:VEVENT
DTSTART;TZID=America/Los_Angeles:20250509T160000
DTEND;TZID=America/Los_Angeles:20250509T173000
DTSTAMP:20260424T090836
CREATED:20250507T220939Z
LAST-MODIFIED:20250507T220939Z
UID:2523-1746806400-1746811800@ancestralvoice.org
SUMMARY:Traditional Full Moon Ceremony [ZOOM]
DESCRIPTION:Let us gather to pray\, heal and let go under the full moon. We will gather virtually to honor the moon cycles and call in that which we desire to make manifest. Please email me for the Zoom link at phillip@ancestralvoice.org
URL:https://ancestralvoice.org/calendar/traditional-full-moon-ceremony-zoom-2/
LOCATION:Zoomcast CF
END:VEVENT
BEGIN:VEVENT
DTSTART;TZID=America/Los_Angeles:20250508T193000
DTEND;TZID=America/Los_Angeles:20250508T220000
DTSTAMP:20260424T090836
CREATED:20250507T220714Z
LAST-MODIFIED:20250507T220714Z
UID:2519-1746732600-1746741600@ancestralvoice.org
SUMMARY:Traditional Drum Tie
DESCRIPTION:A gathering in honour of my father\, a beloved and respected Roadman who sang his Final Set of Songs on the Earth\, we Tie up the Water Drum and\, along with the Gourd Rattle practice Sacred NAC Songs and receive Teachings regarding the Tipi Way. Everyone welcome. Please text me to RSVP at (415) 310-0981
URL:https://ancestralvoice.org/calendar/traditional-drum-tie-11/
LOCATION:Novato (108D Oliva Ct.)
END:VEVENT
BEGIN:VEVENT
DTSTART;TZID=America/Los_Angeles:20250424T193000
DTEND;TZID=America/Los_Angeles:20250424T220000
DTSTAMP:20260424T090836
CREATED:20250405T004316Z
LAST-MODIFIED:20250405T004316Z
UID:2506-1745523000-1745532000@ancestralvoice.org
SUMMARY:Sacred Hoops
DESCRIPTION:Gatherings dedicated to exploring and deepening our connections to the Sacred by receiving Teachings\, learning Traditional Native Songs and the fundamentals of respectful Ceremonial participation and/or by listening to the Wisdom of invited Elders\, Medicine People and Healers from various Indigenous Nations and cultures.  Everyone welcome. \nAvailable in-person and via Zoom. \nPlease contact me directly for the Zoom link at phillip@ancestralvoice.org
URL:https://ancestralvoice.org/calendar/sacred-hoops-4/
LOCATION:Novato (108D Oliva Ct.)
END:VEVENT
BEGIN:VEVENT
DTSTART;TZID=America/Los_Angeles:20250420T190000
DTEND;TZID=America/Los_Angeles:20250420T210000
DTSTAMP:20260424T090836
CREATED:20250405T004214Z
LAST-MODIFIED:20250405T004214Z
UID:2504-1745175600-1745182800@ancestralvoice.org
SUMMARY:Indigenous Medicine Ways - 9 Month Virtual Course [Meeting 3]
DESCRIPTION:Indigenous Medicine is the most ancient form of healing on the planet. Its elegant\, sophisticated methods remain potent and efficacious to this day. The cycles of Nature are honoured and intimate relationships with the Earth and Unseen realms are cultivated. This experiential course presents Indigenous perspectives– principles and practices- related to Medicine Ways. It is designed to introduce and inform the participant of the rich\, complex worldviews and lifeways of Native peoples as well as to foster religious/ cultural sensitivity and personal healing.  Exposed to and immersed in the Sacred traditions\, Dreaming and healing practices of Indigenous traditions\, participants will directly benefit from a deepening of relationship to the Source\, the Ancestors\, Earth and All of our Relations. Furthermore\, an appreciation and honouring of the diversity of other cultures will result. Contemporary matters regarding cultural appropriation\, the decolonization of “shamanism” and Sacred Plant Medicines will be addressed. \nIn terms of some of the topics that will be touched upon: \nIndigenous Perspectives & Healing Modalities\, The Sacred Hoop of Life (Medicine Wheel)\, Dreams & Sacred Plant Medicine\, Matrilineal Ways of Relationship and the Role of the Sacred/Earth/Ancestors and Community\, Death & Dying\, Cultivating Cultural Sensitivity & Awareness\, Decolonizing “shamanism”\, Contemporary Issues/Challenges & Applications.
URL:https://ancestralvoice.org/calendar/indigenous-medicine-ways-9-month-virtual-course-meeting-3/
LOCATION:AV Zoom
END:VEVENT
BEGIN:VEVENT
DTSTART;TZID=America/Los_Angeles:20250419T110000
DTEND;TZID=America/Los_Angeles:20250419T180000
DTSTAMP:20260424T090836
CREATED:20250405T004042Z
LAST-MODIFIED:20250405T004042Z
UID:2502-1745060400-1745085600@ancestralvoice.org
SUMMARY:Traditional Purification Lodge
DESCRIPTION:The Purification Lodge (often referred to as a “sweatlodge”) is an ancient\, Indigenous Prayer and Healing Ceremony\, which combines the Sacred elements- Water\, Air and Fire – within the womb of the Earth. The Ceremony is conducted in a Traditional manner. Everyone welcome. \nPlease sign up via the link below. \nhttps://www.eventbrite.com/e/1237598423199?aff=oddtdtcreator
URL:https://ancestralvoice.org/calendar/traditional-purification-lodge-15/
END:VEVENT
END:VCALENDAR