BEGIN:VCALENDAR
VERSION:2.0
PRODID:-//Ancestral Voice - ECPv6.15.20//NONSGML v1.0//EN
CALSCALE:GREGORIAN
METHOD:PUBLISH
X-WR-CALNAME:Ancestral Voice
X-ORIGINAL-URL:https://ancestralvoice.org
X-WR-CALDESC:Events for Ancestral Voice
REFRESH-INTERVAL;VALUE=DURATION:PT1H
X-Robots-Tag:noindex
X-PUBLISHED-TTL:PT1H
BEGIN:VTIMEZONE
TZID:America/Denver
BEGIN:DAYLIGHT
TZOFFSETFROM:-0700
TZOFFSETTO:-0600
TZNAME:MDT
DTSTART:20220313T090000
END:DAYLIGHT
BEGIN:STANDARD
TZOFFSETFROM:-0600
TZOFFSETTO:-0700
TZNAME:MST
DTSTART:20221106T080000
END:STANDARD
BEGIN:DAYLIGHT
TZOFFSETFROM:-0700
TZOFFSETTO:-0600
TZNAME:MDT
DTSTART:20230312T090000
END:DAYLIGHT
BEGIN:STANDARD
TZOFFSETFROM:-0600
TZOFFSETTO:-0700
TZNAME:MST
DTSTART:20231105T080000
END:STANDARD
BEGIN:DAYLIGHT
TZOFFSETFROM:-0700
TZOFFSETTO:-0600
TZNAME:MDT
DTSTART:20240310T090000
END:DAYLIGHT
BEGIN:STANDARD
TZOFFSETFROM:-0600
TZOFFSETTO:-0700
TZNAME:MST
DTSTART:20241103T080000
END:STANDARD
END:VTIMEZONE
BEGIN:VEVENT
DTSTART;TZID=America/Denver:20230603T100000
DTEND;TZID=America/Denver:20230604T180000
DTSTAMP:20260424T210045
CREATED:20230608T134536Z
LAST-MODIFIED:20230608T134536Z
UID:1816-1685786400-1685901600@ancestralvoice.org
SUMMARY:Intensive: Mitakuye Oyasin: All of my Relations - the Interconnectivity of Creation
DESCRIPTION:
URL:https://ancestralvoice.org/calendar/intensive-mitakuye-oyasin-all-of-my-relations-the-interconnectivity-of-creation-3/
END:VEVENT
BEGIN:VEVENT
DTSTART;VALUE=DATE:20230603
DTEND;VALUE=DATE:20230604
DTSTAMP:20260424T210045
CREATED:20230608T134618Z
LAST-MODIFIED:20230608T134618Z
UID:1818-1685750400-1685836799@ancestralvoice.org
SUMMARY:Full Moon Purification Lodge in Petaluma\, Note: 5pm arrival
DESCRIPTION:
URL:https://ancestralvoice.org/calendar/full-moon-purification-lodge-in-petaluma-note-5pm-arrival/
END:VEVENT
BEGIN:VEVENT
DTSTART;VALUE=DATE:20230524
DTEND;VALUE=DATE:20230530
DTSTAMP:20260424T210045
CREATED:20230420T233759Z
LAST-MODIFIED:20230504T011807Z
UID:1464-1684886400-1685404799@ancestralvoice.org
SUMMARY:Lightning in a Bottle Festival
DESCRIPTION:
URL:https://ancestralvoice.org/calendar/may-24-29-lightning-in-a-bottle-festival/
END:VEVENT
BEGIN:VEVENT
DTSTART;VALUE=DATE:20230523
DTEND;VALUE=DATE:20230524
DTSTAMP:20260424T210045
CREATED:20230420T233726Z
LAST-MODIFIED:20230504T011821Z
UID:1462-1684800000-1684886399@ancestralvoice.org
SUMMARY:Drum Ceremony at New Mission Yoga in San Francisco\, 8pm
DESCRIPTION:
URL:https://ancestralvoice.org/calendar/tuesday-may-23-drum-ceremony-at-new-mission-yoga-in-san-francisco-8pm/
END:VEVENT
BEGIN:VEVENT
DTSTART;VALUE=DATE:20230520
DTEND;VALUE=DATE:20230521
DTSTAMP:20260424T210045
CREATED:20230420T233630Z
LAST-MODIFIED:20230504T011831Z
UID:1458-1684540800-1684627199@ancestralvoice.org
SUMMARY:Purification Lodge in Petaluma\, 11am
DESCRIPTION:
URL:https://ancestralvoice.org/calendar/saturday-may-20-purification-lodge-in-petaluma-11am/
END:VEVENT
BEGIN:VEVENT
DTSTART;VALUE=DATE:20230519
DTEND;VALUE=DATE:20230520
DTSTAMP:20260424T210045
CREATED:20230420T233610Z
LAST-MODIFIED:20230501T195833Z
UID:1456-1684454400-1684540799@ancestralvoice.org
SUMMARY:Good of the Whole Zoomcast (email us for link)\, 4pm Pacific time
DESCRIPTION:
URL:https://ancestralvoice.org/calendar/friday-may-19-good-of-the-whole-zoomcast-see-link-below-4pm-pacific-time/
END:VEVENT
BEGIN:VEVENT
DTSTART;VALUE=DATE:20230518
DTEND;VALUE=DATE:20230519
DTSTAMP:20260424T210045
CREATED:20230420T233543Z
LAST-MODIFIED:20230504T011856Z
UID:1454-1684368000-1684454399@ancestralvoice.org
SUMMARY:Sacred Hoops in Novato and via Zoom Ancestral Voice AV (email us for link)\, 7:30pm Pacific time
DESCRIPTION:
URL:https://ancestralvoice.org/calendar/thursday-may-18-sacred-hoops-in-novato-and-via-zoom-ancestral-voice-av-see-link-below-730pm-pacific-time/
END:VEVENT
BEGIN:VEVENT
DTSTART;VALUE=DATE:20230507
DTEND;VALUE=DATE:20230518
DTSTAMP:20260424T210045
CREATED:20230420T233518Z
LAST-MODIFIED:20230504T011911Z
UID:1452-1683417600-1684367999@ancestralvoice.org
SUMMARY:Australia - Ceremonies\, Teachings & Healings
DESCRIPTION:
URL:https://ancestralvoice.org/calendar/may-7-17-australia-ceremonies-teachings-healings/
END:VEVENT
BEGIN:VEVENT
DTSTART;VALUE=DATE:20230505
DTEND;VALUE=DATE:20230506
DTSTAMP:20260424T210045
CREATED:20230420T233421Z
LAST-MODIFIED:20230504T012205Z
UID:1450-1683244800-1683331199@ancestralvoice.org
SUMMARY:Full Moon Ceremony in Novato\, 7:30pm
DESCRIPTION:
URL:https://ancestralvoice.org/calendar/friday-may-5-full-moon-ceremony-in-novato-730pm/
END:VEVENT
BEGIN:VEVENT
DTSTART;VALUE=DATE:20230501
DTEND;VALUE=DATE:20230502
DTSTAMP:20260424T210045
CREATED:20230420T233404Z
LAST-MODIFIED:20230504T012218Z
UID:1448-1682899200-1682985599@ancestralvoice.org
SUMMARY:Beltane Ceremony in Novato\, 7:30pm
DESCRIPTION:
URL:https://ancestralvoice.org/calendar/monday-may-1-beltane-ceremony-in-novato-730pm/
END:VEVENT
BEGIN:VEVENT
DTSTART;TZID=America/Denver:20230427T080000
DTEND;TZID=America/Denver:20230427T170000
DTSTAMP:20260424T210045
CREATED:20230420T233347Z
LAST-MODIFIED:20230420T233347Z
UID:1446-1682582400-1682614800@ancestralvoice.org
SUMMARY:Thursday\, April 27: Sacred Hoops in Novato and via Zoom Ancestral Voice AV (see link below)\, 7:30pm Pacific time
DESCRIPTION:
URL:https://ancestralvoice.org/calendar/thursday-april-27-sacred-hoops-in-novato-and-via-zoom-ancestral-voice-av-see-link-below-730pm-pacific-time/
END:VEVENT
BEGIN:VEVENT
DTSTART;VALUE=DATE:20230423
DTEND;VALUE=DATE:20230424
DTSTAMP:20260424T210045
CREATED:20230420T233319Z
LAST-MODIFIED:20230420T233319Z
UID:1444-1682208000-1682294399@ancestralvoice.org
SUMMARY:Sunday\, April 23: Indigenous Medicine Ways 9 month online course\, hosted by the Sufi Universal Fraternal Institute\, 12:30 - 1:30pm
DESCRIPTION:
URL:https://ancestralvoice.org/calendar/sunday-april-23-indigenous-medicine-ways-9-month-online-course-hosted-by-the-sufi-universal-fraternal-institute-1230-130pm/
END:VEVENT
BEGIN:VEVENT
DTSTART;VALUE=DATE:20230422
DTEND;VALUE=DATE:20230423
DTSTAMP:20260424T210045
CREATED:20230420T233215Z
LAST-MODIFIED:20230420T233215Z
UID:1442-1682121600-1682207999@ancestralvoice.org
SUMMARY:Saturday\, April 22: Purification Lodge in Petaluma\, 11am
DESCRIPTION:
URL:https://ancestralvoice.org/calendar/saturday-april-22-purification-lodge-in-petaluma-11am/
END:VEVENT
BEGIN:VEVENT
DTSTART;VALUE=DATE:20230421
DTEND;VALUE=DATE:20230422
DTSTAMP:20260424T210045
CREATED:20230421T060945Z
LAST-MODIFIED:20230421T060945Z
UID:1433-1682035200-1682121599@ancestralvoice.org
SUMMARY:Friday\, April 21: Good of the Whole Zoomcast (see link below)\, 4pm Pacific time
DESCRIPTION:
URL:https://ancestralvoice.org/calendar/friday-april-21-good-of-the-whole-zoomcast-see-link-below-4pm-pacific-time/
END:VEVENT
END:VCALENDAR