BEGIN:VCALENDAR
VERSION:2.0
PRODID:-//Ancestral Voice - ECPv6.15.20//NONSGML v1.0//EN
CALSCALE:GREGORIAN
METHOD:PUBLISH
X-WR-CALNAME:Ancestral Voice
X-ORIGINAL-URL:https://ancestralvoice.org
X-WR-CALDESC:Events for Ancestral Voice
REFRESH-INTERVAL;VALUE=DURATION:PT1H
X-Robots-Tag:noindex
X-PUBLISHED-TTL:PT1H
BEGIN:VTIMEZONE
TZID:America/Denver
BEGIN:DAYLIGHT
TZOFFSETFROM:-0700
TZOFFSETTO:-0600
TZNAME:MDT
DTSTART:20220313T090000
END:DAYLIGHT
BEGIN:STANDARD
TZOFFSETFROM:-0600
TZOFFSETTO:-0700
TZNAME:MST
DTSTART:20221106T080000
END:STANDARD
BEGIN:DAYLIGHT
TZOFFSETFROM:-0700
TZOFFSETTO:-0600
TZNAME:MDT
DTSTART:20230312T090000
END:DAYLIGHT
BEGIN:STANDARD
TZOFFSETFROM:-0600
TZOFFSETTO:-0700
TZNAME:MST
DTSTART:20231105T080000
END:STANDARD
BEGIN:DAYLIGHT
TZOFFSETFROM:-0700
TZOFFSETTO:-0600
TZNAME:MDT
DTSTART:20240310T090000
END:DAYLIGHT
BEGIN:STANDARD
TZOFFSETFROM:-0600
TZOFFSETTO:-0700
TZNAME:MST
DTSTART:20241103T080000
END:STANDARD
END:VTIMEZONE
BEGIN:VEVENT
DTSTART;TZID=America/Denver:20230928T193000
DTEND;TZID=America/Denver:20230928T193000
DTSTAMP:20260424T205957
CREATED:20230805T152302Z
LAST-MODIFIED:20230805T152302Z
UID:2023-1695929400-1695929400@ancestralvoice.org
SUMMARY:Sacred Hoops in Novato and via Zoom
DESCRIPTION:
URL:https://ancestralvoice.org/calendar/sacred-hoops-in-novato-and-via-zoom/
END:VEVENT
BEGIN:VEVENT
DTSTART;VALUE=DATE:20230918
DTEND;VALUE=DATE:20230924
DTSTAMP:20260424T205957
CREATED:20230805T152241Z
LAST-MODIFIED:20230805T152241Z
UID:2021-1694995200-1695513599@ancestralvoice.org
SUMMARY:Intensive - Sacred Hoop of Life Teachings in Chaco Canyon\, NM
DESCRIPTION:
URL:https://ancestralvoice.org/calendar/intensive-sacred-hoop-of-life-teachings-in-chaco-canyon-nm/
END:VEVENT
BEGIN:VEVENT
DTSTART;TZID=America/Denver:20230915T160000
DTEND;TZID=America/Denver:20230915T160000
DTSTAMP:20260424T205957
CREATED:20230805T152219Z
LAST-MODIFIED:20230805T152219Z
UID:2019-1694793600-1694793600@ancestralvoice.org
SUMMARY:Good of the Whole Zoomcast
DESCRIPTION:
URL:https://ancestralvoice.org/calendar/good-of-the-whole-zoomcast/
END:VEVENT
BEGIN:VEVENT
DTSTART;TZID=America/Denver:20230912T200000
DTEND;TZID=America/Denver:20230912T200000
DTSTAMP:20260424T205957
CREATED:20230805T152147Z
LAST-MODIFIED:20230805T152147Z
UID:2017-1694548800-1694548800@ancestralvoice.org
SUMMARY:Traditional New Moon Drum Ceremony at New Mission Yoga in San Francisco
DESCRIPTION:
URL:https://ancestralvoice.org/calendar/traditional-new-moon-drum-ceremony-at-new-mission-yoga-in-san-francisco/
END:VEVENT
BEGIN:VEVENT
DTSTART;TZID=America/Denver:20230903T133000
DTEND;TZID=America/Denver:20230903T133000
DTSTAMP:20260424T205957
CREATED:20230805T152112Z
LAST-MODIFIED:20230805T152112Z
UID:2015-1693747800-1693747800@ancestralvoice.org
SUMMARY:Mt. Tamalpais Traditional Autumnal Equinox Medicine Wheel Ceremony
DESCRIPTION:
URL:https://ancestralvoice.org/calendar/mt-tamalpais-traditional-autumnal-equinox-medicine-wheel-ceremony/
END:VEVENT
BEGIN:VEVENT
DTSTART;TZID=America/Denver:20230903T100000
DTEND;TZID=America/Denver:20230903T100000
DTSTAMP:20260424T205957
CREATED:20230805T152044Z
LAST-MODIFIED:20230805T152044Z
UID:2013-1693735200-1693735200@ancestralvoice.org
SUMMARY:Prayer Service & Presentation at East County Shared Ministry
DESCRIPTION:
URL:https://ancestralvoice.org/calendar/prayer-service-presentation-at-east-county-shared-ministry/
END:VEVENT
BEGIN:VEVENT
DTSTART;TZID=America/Denver:20230902T110000
DTEND;TZID=America/Denver:20230902T110000
DTSTAMP:20260424T205957
CREATED:20230805T152018Z
LAST-MODIFIED:20230805T152018Z
UID:2011-1693652400-1693652400@ancestralvoice.org
SUMMARY:Traditional Purification Lodge in Petaluma
DESCRIPTION:
URL:https://ancestralvoice.org/calendar/traditional-purification-lodge-in-petaluma-4/
END:VEVENT
BEGIN:VEVENT
DTSTART;TZID=America/Denver:20230830T193000
DTEND;TZID=America/Denver:20230830T193000
DTSTAMP:20260424T205957
CREATED:20230805T151946Z
LAST-MODIFIED:20230805T151946Z
UID:2009-1693423800-1693423800@ancestralvoice.org
SUMMARY:Sacred Hoops & Traditional Full Moon Ceremony in Novato and via Zoom
DESCRIPTION:
URL:https://ancestralvoice.org/calendar/sacred-hoops-traditional-full-moon-ceremony-in-novato-and-via-zoom/
END:VEVENT
BEGIN:VEVENT
DTSTART;TZID=America/Denver:20230827T120000
DTEND;TZID=America/Denver:20230827T130000
DTSTAMP:20260424T205957
CREATED:20230805T151916Z
LAST-MODIFIED:20230805T151916Z
UID:2007-1693137600-1693141200@ancestralvoice.org
SUMMARY:Indigenous Medicine Ways 9 month online course\, hosted by the Sufi Universal Fraternal Institute
DESCRIPTION:
URL:https://ancestralvoice.org/calendar/indigenous-medicine-ways-9-month-online-course-hosted-by-the-sufi-universal-fraternal-institute-2/
END:VEVENT
BEGIN:VEVENT
DTSTART;TZID=America/Denver:20230826T110000
DTEND;TZID=America/Denver:20230826T110000
DTSTAMP:20260424T205957
CREATED:20230805T151825Z
LAST-MODIFIED:20230805T151825Z
UID:2005-1693047600-1693047600@ancestralvoice.org
SUMMARY:Traditional Purification Lodge in Petaluma
DESCRIPTION:
URL:https://ancestralvoice.org/calendar/traditional-purification-lodge-in-petaluma-3/
END:VEVENT
BEGIN:VEVENT
DTSTART;TZID=America/Denver:20230824T190000
DTEND;TZID=America/Denver:20230824T190000
DTSTAMP:20260424T205957
CREATED:20230805T151712Z
LAST-MODIFIED:20230805T151712Z
UID:2001-1692903600-1692903600@ancestralvoice.org
SUMMARY:Traditional Ceremony & Teachings in Mill Valley
DESCRIPTION:
URL:https://ancestralvoice.org/calendar/traditional-ceremony-teachings-in-mill-valley/
END:VEVENT
BEGIN:VEVENT
DTSTART;TZID=America/Denver:20230824T160000
DTEND;TZID=America/Denver:20230824T160000
DTSTAMP:20260424T205957
CREATED:20230805T151748Z
LAST-MODIFIED:20230805T151748Z
UID:2003-1692892800-1692892800@ancestralvoice.org
SUMMARY:Traditional Ceremony & Teachings in Mill Valley
DESCRIPTION:
URL:https://ancestralvoice.org/calendar/traditional-ceremony-teachings-in-mill-valley-2/
END:VEVENT
BEGIN:VEVENT
DTSTART;TZID=America/Denver:20230819T100000
DTEND;TZID=America/Denver:20230820T180000
DTSTAMP:20260424T205957
CREATED:20230805T151504Z
LAST-MODIFIED:20230805T151504Z
UID:1999-1692439200-1692554400@ancestralvoice.org
SUMMARY:Intensive - The Art of Tracking in Novato
DESCRIPTION:
URL:https://ancestralvoice.org/calendar/intensive-the-art-of-tracking-in-novato/
END:VEVENT
BEGIN:VEVENT
DTSTART;VALUE=DATE:20230814
DTEND;VALUE=DATE:20230819
DTSTAMP:20260424T205957
CREATED:20230805T151005Z
LAST-MODIFIED:20230805T151440Z
UID:1997-1691971200-1692403199@ancestralvoice.org
SUMMARY:Parliament of World Religions
DESCRIPTION:
URL:https://ancestralvoice.org/calendar/parliament-of-world-religions/
END:VEVENT
BEGIN:VEVENT
DTSTART;TZID=America/Denver:20230812T110000
DTEND;TZID=America/Denver:20230812T110000
DTSTAMP:20260424T205957
CREATED:20230805T150943Z
LAST-MODIFIED:20230805T150943Z
UID:1995-1691838000-1691838000@ancestralvoice.org
SUMMARY:Traditional Purification Lodge in Petaluma
DESCRIPTION:
URL:https://ancestralvoice.org/calendar/traditional-purification-lodge-in-petaluma-2/
END:VEVENT
BEGIN:VEVENT
DTSTART;TZID=America/Denver:20230810T200000
DTEND;TZID=America/Denver:20230810T200000
DTSTAMP:20260424T205957
CREATED:20230805T150904Z
LAST-MODIFIED:20230805T150904Z
UID:1993-1691697600-1691697600@ancestralvoice.org
SUMMARY:Traditional Drum Ceremony at New Mission Yoga in San Francisco
DESCRIPTION:
URL:https://ancestralvoice.org/calendar/traditional-drum-ceremony-at-new-mission-yoga-in-san-francisco/
END:VEVENT
BEGIN:VEVENT
DTSTART;TZID=America/Denver:20230729T110000
DTEND;TZID=America/Denver:20230729T110000
DTSTAMP:20260424T205957
CREATED:20230710T161338Z
LAST-MODIFIED:20230710T161338Z
UID:1978-1690628400-1690628400@ancestralvoice.org
SUMMARY:Traditional Purification Lodge in Petaluma
DESCRIPTION:
URL:https://ancestralvoice.org/calendar/traditional-purification-lodge-in-petaluma/
END:VEVENT
BEGIN:VEVENT
DTSTART;TZID=America/Denver:20230727T193000
DTEND;TZID=America/Denver:20230727T193000
DTSTAMP:20260424T205957
CREATED:20230710T161231Z
LAST-MODIFIED:20230710T161231Z
UID:1976-1690486200-1690486200@ancestralvoice.org
SUMMARY:Sacred Hoops in Novato & via Zoom (email us for the link)
DESCRIPTION:
URL:https://ancestralvoice.org/calendar/sacred-hoops-in-novato-via-zoom-email-us-for-the-link/
END:VEVENT
BEGIN:VEVENT
DTSTART;TZID=America/Denver:20230720T190000
DTEND;TZID=America/Denver:20230720T190000
DTSTAMP:20260424T205957
CREATED:20230710T161100Z
LAST-MODIFIED:20230710T161100Z
UID:1974-1689879600-1689879600@ancestralvoice.org
SUMMARY:Traditional New Moon Ceremony in Mill Valley\, CA
DESCRIPTION:
URL:https://ancestralvoice.org/calendar/traditional-new-moon-ceremony-in-mill-valley-ca/
END:VEVENT
BEGIN:VEVENT
DTSTART;TZID=America/Denver:20230718T200000
DTEND;TZID=America/Denver:20230718T200000
DTSTAMP:20260424T205957
CREATED:20230710T161000Z
LAST-MODIFIED:20230710T161000Z
UID:1972-1689710400-1689710400@ancestralvoice.org
SUMMARY:Traditional New Moon Ceremony at New Mission Yoga\, SF
DESCRIPTION:
URL:https://ancestralvoice.org/calendar/traditional-new-moon-ceremony-at-new-mission-yoga-sf/
END:VEVENT
BEGIN:VEVENT
DTSTART;TZID=America/Denver:20230715T110000
DTEND;TZID=America/Denver:20230715T170000
DTSTAMP:20260424T205957
CREATED:20230710T160922Z
LAST-MODIFIED:20230710T160922Z
UID:1970-1689418800-1689440400@ancestralvoice.org
SUMMARY:Traditional Purification Lodge in Petaluma\, CA
DESCRIPTION:
URL:https://ancestralvoice.org/calendar/traditional-purification-lodge-in-petaluma-ca/
END:VEVENT
BEGIN:VEVENT
DTSTART;TZID=America/Denver:20230714T160000
DTEND;TZID=America/Denver:20230714T170000
DTSTAMP:20260424T205957
CREATED:20230710T160844Z
LAST-MODIFIED:20230710T160844Z
UID:1968-1689350400-1689354000@ancestralvoice.org
SUMMARY:Ceremony & Teachings via Zoom (email us for the link)
DESCRIPTION:
URL:https://ancestralvoice.org/calendar/ceremony-teachings-via-zoom-email-us-for-the-link/
END:VEVENT
BEGIN:VEVENT
DTSTART;VALUE=DATE:20230701
DTEND;VALUE=DATE:20230709
DTSTAMP:20260424T205957
CREATED:20230710T160717Z
LAST-MODIFIED:20230710T160717Z
UID:1966-1688169600-1688860799@ancestralvoice.org
SUMMARY:Traditional Sundance in Arizona
DESCRIPTION:
URL:https://ancestralvoice.org/calendar/traditional-sundance-in-arizona/
END:VEVENT
BEGIN:VEVENT
DTSTART;VALUE=DATE:20230620
DTEND;VALUE=DATE:20230627
DTSTAMP:20260424T205957
CREATED:20230608T135146Z
LAST-MODIFIED:20230608T170840Z
UID:1834-1687219200-1687823999@ancestralvoice.org
SUMMARY:Denver\, CO - Psychedelic Science Conference
DESCRIPTION:
URL:https://ancestralvoice.org/calendar/denver-co-psychedelic-science-conference/
END:VEVENT
BEGIN:VEVENT
DTSTART;TZID=America/Denver:20230619T193000
DTEND;TZID=America/Denver:20230619T193000
DTSTAMP:20260424T205957
CREATED:20230608T135124Z
LAST-MODIFIED:20230608T135124Z
UID:1832-1687203000-1687203000@ancestralvoice.org
SUMMARY:Sacred Hoops & Summer Solstice Ceremony in Novato and via Zoom Ancestral Voice AV (email us for link))
DESCRIPTION:
URL:https://ancestralvoice.org/calendar/sacred-hoops-summer-solstice-ceremony-in-novato-and-via-zoom-ancestral-voice-av-email-us-for-link/
END:VEVENT
BEGIN:VEVENT
DTSTART;TZID=America/Denver:20230618T140000
DTEND;TZID=America/Denver:20230618T140000
DTSTAMP:20260424T205957
CREATED:20230608T135039Z
LAST-MODIFIED:20230608T135039Z
UID:1830-1687096800-1687096800@ancestralvoice.org
SUMMARY:Mt. Tamalpais Summer Solstice Medicine Wheel Ceremony
DESCRIPTION:
URL:https://ancestralvoice.org/calendar/mt-tamalpais-summer-solstice-medicine-wheel-ceremony/
END:VEVENT
BEGIN:VEVENT
DTSTART;TZID=America/Denver:20230618T120000
DTEND;TZID=America/Denver:20230618T130000
DTSTAMP:20260424T205957
CREATED:20230608T135010Z
LAST-MODIFIED:20230608T135010Z
UID:1828-1687089600-1687093200@ancestralvoice.org
SUMMARY:Indigenous Medicine Ways 9 month online course\, hosted by the Sufi Universal Fraternal Institute
DESCRIPTION:
URL:https://ancestralvoice.org/calendar/indigenous-medicine-ways-9-month-online-course-hosted-by-the-sufi-universal-fraternal-institute/
END:VEVENT
BEGIN:VEVENT
DTSTART;TZID=America/Denver:20230617T110000
DTEND;TZID=America/Denver:20230617T110000
DTSTAMP:20260424T205957
CREATED:20230608T134938Z
LAST-MODIFIED:20230608T134938Z
UID:1826-1686999600-1686999600@ancestralvoice.org
SUMMARY:Purification Lodge in Petaluma
DESCRIPTION:
URL:https://ancestralvoice.org/calendar/purification-lodge-in-petaluma/
END:VEVENT
BEGIN:VEVENT
DTSTART;TZID=America/Denver:20230616T160000
DTEND;TZID=America/Denver:20230616T160000
DTSTAMP:20260424T205957
CREATED:20230608T134859Z
LAST-MODIFIED:20230608T134859Z
UID:1824-1686931200-1686931200@ancestralvoice.org
SUMMARY:Good of the Whole Zoomcast (email us for link)
DESCRIPTION:
URL:https://ancestralvoice.org/calendar/good-of-the-whole-zoomcast-email-us-for-link/
END:VEVENT
BEGIN:VEVENT
DTSTART;TZID=America/Denver:20230615T200000
DTEND;TZID=America/Denver:20230615T200000
DTSTAMP:20260424T205957
CREATED:20230608T134738Z
LAST-MODIFIED:20230608T134738Z
UID:1822-1686859200-1686859200@ancestralvoice.org
SUMMARY:Drum Ceremony at New Mission Yoga in San Francisco
DESCRIPTION:
URL:https://ancestralvoice.org/calendar/drum-ceremony-at-new-mission-yoga-in-san-francisco/
END:VEVENT
END:VCALENDAR