BEGIN:VCALENDAR
VERSION:2.0
PRODID:-//Ancestral Voice - ECPv6.15.20//NONSGML v1.0//EN
CALSCALE:GREGORIAN
METHOD:PUBLISH
X-WR-CALNAME:Ancestral Voice
X-ORIGINAL-URL:https://ancestralvoice.org
X-WR-CALDESC:Events for Ancestral Voice
REFRESH-INTERVAL;VALUE=DURATION:PT1H
X-Robots-Tag:noindex
X-PUBLISHED-TTL:PT1H
BEGIN:VTIMEZONE
TZID:America/Denver
BEGIN:DAYLIGHT
TZOFFSETFROM:-0700
TZOFFSETTO:-0600
TZNAME:MDT
DTSTART:20230312T090000
END:DAYLIGHT
BEGIN:STANDARD
TZOFFSETFROM:-0600
TZOFFSETTO:-0700
TZNAME:MST
DTSTART:20231105T080000
END:STANDARD
BEGIN:DAYLIGHT
TZOFFSETFROM:-0700
TZOFFSETTO:-0600
TZNAME:MDT
DTSTART:20240310T090000
END:DAYLIGHT
BEGIN:STANDARD
TZOFFSETFROM:-0600
TZOFFSETTO:-0700
TZNAME:MST
DTSTART:20241103T080000
END:STANDARD
BEGIN:DAYLIGHT
TZOFFSETFROM:-0700
TZOFFSETTO:-0600
TZNAME:MDT
DTSTART:20250309T090000
END:DAYLIGHT
BEGIN:STANDARD
TZOFFSETFROM:-0600
TZOFFSETTO:-0700
TZNAME:MST
DTSTART:20251102T080000
END:STANDARD
END:VTIMEZONE
BEGIN:VEVENT
DTSTART;TZID=America/Denver:20240518T110000
DTEND;TZID=America/Denver:20240518T110000
DTSTAMP:20260424T093033
CREATED:20240520T153210Z
LAST-MODIFIED:20240520T153210Z
UID:2229-1716030000-1716030000@ancestralvoice.org
SUMMARY:Traditional Purification Lodge
DESCRIPTION:in Petaluma
URL:https://ancestralvoice.org/calendar/traditional-purification-lodge-5/
END:VEVENT
BEGIN:VEVENT
DTSTART;TZID=America/Denver:20240516T193000
DTEND;TZID=America/Denver:20240516T193000
DTSTAMP:20260424T093033
CREATED:20240520T153045Z
LAST-MODIFIED:20240520T153045Z
UID:2227-1715887800-1715887800@ancestralvoice.org
SUMMARY:Traditional Drum Tie
DESCRIPTION:in Novato
URL:https://ancestralvoice.org/calendar/traditional-drum-tie-4/
END:VEVENT
BEGIN:VEVENT
DTSTART;VALUE=DATE:20240501
DTEND;VALUE=DATE:20240515
DTSTAMP:20260424T093033
CREATED:20240520T153001Z
LAST-MODIFIED:20240520T153001Z
UID:2225-1714521600-1715731199@ancestralvoice.org
SUMMARY:Bali - Ceremonies\, Teachings & Healings
DESCRIPTION:
URL:https://ancestralvoice.org/calendar/bali-ceremonies-teachings-healings-2/
END:VEVENT
BEGIN:VEVENT
DTSTART;TZID=America/Denver:20240423T200000
DTEND;TZID=America/Denver:20240423T200000
DTSTAMP:20260424T093033
CREATED:20240520T152903Z
LAST-MODIFIED:20240520T153119Z
UID:2223-1713902400-1713902400@ancestralvoice.org
SUMMARY:Traditional Full Moon Ceremony
DESCRIPTION:at New Mission Yoga in San Francisco (2415 Mission St.)
URL:https://ancestralvoice.org/calendar/traditional-full-moon-ceremony/
END:VEVENT
BEGIN:VEVENT
DTSTART;TZID=America/Denver:20240420T110000
DTEND;TZID=America/Denver:20240420T110000
DTSTAMP:20260424T093033
CREATED:20240520T152739Z
LAST-MODIFIED:20240520T152739Z
UID:2221-1713610800-1713610800@ancestralvoice.org
SUMMARY:Traditional Purification Lodge in Petaluma
DESCRIPTION:
URL:https://ancestralvoice.org/calendar/traditional-purification-lodge-in-petaluma-6/
END:VEVENT
BEGIN:VEVENT
DTSTART;TZID=America/Denver:20240419T160000
DTEND;TZID=America/Denver:20240419T160000
DTSTAMP:20260424T093033
CREATED:20240520T152650Z
LAST-MODIFIED:20240520T152650Z
UID:2219-1713542400-1713542400@ancestralvoice.org
SUMMARY:Good of the Whole Traditional Ceremony & Teachings Zoomcast
DESCRIPTION:Please email for Zoom link.
URL:https://ancestralvoice.org/calendar/good-of-the-whole-traditional-ceremony-teachings-zoomcast/
END:VEVENT
BEGIN:VEVENT
DTSTART;TZID=America/Denver:20240418T193000
DTEND;TZID=America/Denver:20240418T193000
DTSTAMP:20260424T093033
CREATED:20240520T152543Z
LAST-MODIFIED:20240520T152543Z
UID:2217-1713468600-1713468600@ancestralvoice.org
SUMMARY:Sacred Hoops in Novato and via zoom
DESCRIPTION:Please email for Zoom link
URL:https://ancestralvoice.org/calendar/sacred-hoops-in-novato-and-via-zoom-4/
END:VEVENT
BEGIN:VEVENT
DTSTART;TZID=America/Denver:20240324T120000
DTEND;TZID=America/Denver:20240324T133000
DTSTAMP:20260424T093033
CREATED:20240115T174952Z
LAST-MODIFIED:20240115T174952Z
UID:2207-1711281600-1711287000@ancestralvoice.org
SUMMARY:Awakened Leadership 9 month online course via Zoom
DESCRIPTION:
URL:https://ancestralvoice.org/calendar/awakened-leadership-9-month-online-course-via-zoom/
END:VEVENT
BEGIN:VEVENT
DTSTART;TZID=America/Denver:20240321T193000
DTEND;TZID=America/Denver:20240321T193000
DTSTAMP:20260424T093033
CREATED:20240115T174813Z
LAST-MODIFIED:20240115T174813Z
UID:2204-1711049400-1711049400@ancestralvoice.org
SUMMARY:Sacred Hoops in Novato and via Zoom
DESCRIPTION:Email for the Zoom link.
URL:https://ancestralvoice.org/calendar/sacred-hoops-in-novato-and-via-zoom-3/
END:VEVENT
BEGIN:VEVENT
DTSTART;TZID=America/Denver:20240319T200000
DTEND;TZID=America/Denver:20240319T200000
DTSTAMP:20260424T093033
CREATED:20240115T174728Z
LAST-MODIFIED:20240115T174728Z
UID:2202-1710878400-1710878400@ancestralvoice.org
SUMMARY:Traditional Spring Equinox Ceremony
DESCRIPTION:
URL:https://ancestralvoice.org/calendar/traditional-spring-equinox-ceremony-2/
LOCATION:New Mission Yoga in San Francisco (2415 Mission St.)
END:VEVENT
BEGIN:VEVENT
DTSTART;TZID=America/Denver:20240318T200000
DTEND;TZID=America/Denver:20240318T200000
DTSTAMP:20260424T093033
CREATED:20240115T174539Z
LAST-MODIFIED:20240115T174539Z
UID:2200-1710792000-1710792000@ancestralvoice.org
SUMMARY:Traditional Spring Equinox Ceremony
DESCRIPTION:
URL:https://ancestralvoice.org/calendar/traditional-spring-equinox-ceremony/
LOCATION:New Mission Yoga in San Francisco (2415 Mission St.)
END:VEVENT
BEGIN:VEVENT
DTSTART;TZID=America/Denver:20240317T133000
DTEND;TZID=America/Denver:20240317T133000
DTSTAMP:20260424T093033
CREATED:20240115T174455Z
LAST-MODIFIED:20240115T174455Z
UID:2198-1710682200-1710682200@ancestralvoice.org
SUMMARY:Mt. Tamalpais Traditional Spring Equinox Medicine Wheel Ceremony
DESCRIPTION:
URL:https://ancestralvoice.org/calendar/mt-tamalpais-traditional-spring-equinox-medicine-wheel-ceremony/
END:VEVENT
BEGIN:VEVENT
DTSTART;TZID=America/Denver:20240316T110000
DTEND;TZID=America/Denver:20240316T110000
DTSTAMP:20260424T093033
CREATED:20240115T174358Z
LAST-MODIFIED:20240115T174358Z
UID:2196-1710586800-1710586800@ancestralvoice.org
SUMMARY:Traditional Purification Lodge
DESCRIPTION:
URL:https://ancestralvoice.org/calendar/traditional-purification-lodge-4/
LOCATION:Petaluma
END:VEVENT
BEGIN:VEVENT
DTSTART;TZID=America/Denver:20240315T160000
DTEND;TZID=America/Denver:20240315T160000
DTSTAMP:20260424T093033
CREATED:20240115T174330Z
LAST-MODIFIED:20240115T174330Z
UID:2194-1710518400-1710518400@ancestralvoice.org
SUMMARY:Good of the Whole Traditional Spring Equinox Ceremony Zoomcast
DESCRIPTION:Email for zoom link.
URL:https://ancestralvoice.org/calendar/good-of-the-whole-traditional-spring-equinox-ceremony-zoomcast/
END:VEVENT
BEGIN:VEVENT
DTSTART;TZID=America/Denver:20240307T193000
DTEND;TZID=America/Denver:20240307T193000
DTSTAMP:20260424T093033
CREATED:20240115T174245Z
LAST-MODIFIED:20240115T174245Z
UID:2192-1709839800-1709839800@ancestralvoice.org
SUMMARY:Traditional Drum Tie
DESCRIPTION:
URL:https://ancestralvoice.org/calendar/traditional-drum-tie-3/
LOCATION:Novato
END:VEVENT
BEGIN:VEVENT
DTSTART;TZID=America/Denver:20240225T100000
DTEND;TZID=America/Denver:20240225T180000
DTSTAMP:20260424T093033
CREATED:20240115T173936Z
LAST-MODIFIED:20240115T173936Z
UID:2190-1708855200-1708884000@ancestralvoice.org
SUMMARY:Intensive - Human Artistry
DESCRIPTION:
URL:https://ancestralvoice.org/calendar/intensive-human-artistry/
END:VEVENT
BEGIN:VEVENT
DTSTART;TZID=America/Denver:20240224T160000
DTEND;TZID=America/Denver:20240224T160000
DTSTAMP:20260424T093033
CREATED:20240115T173906Z
LAST-MODIFIED:20240115T173906Z
UID:2188-1708790400-1708790400@ancestralvoice.org
SUMMARY:Traditional Full Moon Purification Lodge
DESCRIPTION:Note: 4pm arrival
URL:https://ancestralvoice.org/calendar/traditional-full-moon-purification-lodge/
LOCATION:Petaluma
END:VEVENT
BEGIN:VEVENT
DTSTART;TZID=America/Denver:20240223T160000
DTEND;TZID=America/Denver:20240223T160000
DTSTAMP:20260424T093033
CREATED:20240115T173802Z
LAST-MODIFIED:20240115T173802Z
UID:2186-1708704000-1708704000@ancestralvoice.org
SUMMARY:Good of the Whole Traditional Full Moon Ceremony Zoomcast
DESCRIPTION:Email for the Zoom link.
URL:https://ancestralvoice.org/calendar/good-of-the-whole-traditional-full-moon-ceremony-zoomcast-2/
END:VEVENT
BEGIN:VEVENT
DTSTART;TZID=America/Denver:20240222T193000
DTEND;TZID=America/Denver:20240222T193000
DTSTAMP:20260424T093033
CREATED:20240115T173706Z
LAST-MODIFIED:20240115T173706Z
UID:2184-1708630200-1708630200@ancestralvoice.org
SUMMARY:Sacred Hoops in Novato and via Zoom
DESCRIPTION:
URL:https://ancestralvoice.org/calendar/sacred-hoops-in-novato-and-via-zoom-2/
END:VEVENT
BEGIN:VEVENT
DTSTART;TZID=America/Denver:20240220T200000
DTEND;TZID=America/Denver:20240220T200000
DTSTAMP:20260424T093033
CREATED:20240115T173631Z
LAST-MODIFIED:20240115T173631Z
UID:2182-1708459200-1708459200@ancestralvoice.org
SUMMARY:Traditional Drum & Sacred Tobacco Ceremony
DESCRIPTION:
URL:https://ancestralvoice.org/calendar/traditional-drum-sacred-tobacco-ceremony-2/
LOCATION:New Mission Yoga in San Francisco (2415 Mission St.)
END:VEVENT
BEGIN:VEVENT
DTSTART;TZID=America/Denver:20240218T120000
DTEND;TZID=America/Denver:20240218T133000
DTSTAMP:20260424T093033
CREATED:20240115T173551Z
LAST-MODIFIED:20240115T173551Z
UID:2180-1708257600-1708263000@ancestralvoice.org
SUMMARY:Awakened Leadership 9 month online course
DESCRIPTION:via Zoom
URL:https://ancestralvoice.org/calendar/awakened-leadership-9-month-online-course-2/
END:VEVENT
BEGIN:VEVENT
DTSTART;TZID=America/Denver:20240218T100000
DTEND;TZID=America/Denver:20240218T100000
DTSTAMP:20260424T093033
CREATED:20240115T173503Z
LAST-MODIFIED:20240115T173503Z
UID:2177-1708250400-1708250400@ancestralvoice.org
SUMMARY:Prayer Service & Presentation
DESCRIPTION:
URL:https://ancestralvoice.org/calendar/prayer-service-presentation/
LOCATION:East County Shared Ministry
END:VEVENT
BEGIN:VEVENT
DTSTART;TZID=America/Denver:20240215T193000
DTEND;TZID=America/Denver:20240215T193000
DTSTAMP:20260424T093033
CREATED:20240115T173405Z
LAST-MODIFIED:20240115T173405Z
UID:2175-1708025400-1708025400@ancestralvoice.org
SUMMARY:Traditional Drum Tie
DESCRIPTION:
URL:https://ancestralvoice.org/calendar/traditional-drum-tie-2/
LOCATION:Novato
END:VEVENT
BEGIN:VEVENT
DTSTART;TZID=America/Denver:20240210T110000
DTEND;TZID=America/Denver:20240210T110000
DTSTAMP:20260424T093033
CREATED:20240115T173312Z
LAST-MODIFIED:20240115T173312Z
UID:2173-1707562800-1707562800@ancestralvoice.org
SUMMARY:Traditional Purification Lodge
DESCRIPTION:
URL:https://ancestralvoice.org/calendar/traditional-purification-lodge-3/
LOCATION:Petaluma
END:VEVENT
BEGIN:VEVENT
DTSTART;VALUE=DATE:20240129
DTEND;VALUE=DATE:20240210
DTSTAMP:20260424T093033
CREATED:20240115T173156Z
LAST-MODIFIED:20240115T173156Z
UID:2171-1706486400-1707523199@ancestralvoice.org
SUMMARY:Bali - Ceremonies\, Teachings & Healings
DESCRIPTION:
URL:https://ancestralvoice.org/calendar/bali-ceremonies-teachings-healings/
END:VEVENT
BEGIN:VEVENT
DTSTART;TZID=America/Denver:20240128T120000
DTEND;TZID=America/Denver:20240128T133000
DTSTAMP:20260424T093033
CREATED:20240115T173123Z
LAST-MODIFIED:20240115T173123Z
UID:2169-1706443200-1706448600@ancestralvoice.org
SUMMARY:Awakened Leadership 9 month online course
DESCRIPTION:via zoom
URL:https://ancestralvoice.org/calendar/awakened-leadership-9-month-online-course/
END:VEVENT
BEGIN:VEVENT
DTSTART;TZID=America/Denver:20240127T110000
DTEND;TZID=America/Denver:20240127T110000
DTSTAMP:20260424T093033
CREATED:20240115T173035Z
LAST-MODIFIED:20240115T173035Z
UID:2167-1706353200-1706353200@ancestralvoice.org
SUMMARY:Traditional Purification Lodge
DESCRIPTION:
URL:https://ancestralvoice.org/calendar/traditional-purification-lodge-2/
LOCATION:Petaluma
END:VEVENT
BEGIN:VEVENT
DTSTART;TZID=America/Denver:20240126T160000
DTEND;TZID=America/Denver:20240126T160000
DTSTAMP:20260424T093033
CREATED:20240115T173002Z
LAST-MODIFIED:20240115T173002Z
UID:2165-1706284800-1706284800@ancestralvoice.org
SUMMARY:Good of the Whole Traditional Full Moon Ceremony Zoomcast
DESCRIPTION:Please email for the zoom link.
URL:https://ancestralvoice.org/calendar/good-of-the-whole-traditional-full-moon-ceremony-zoomcast/
END:VEVENT
BEGIN:VEVENT
DTSTART;TZID=America/Denver:20240125T193000
DTEND;TZID=America/Denver:20240125T193000
DTSTAMP:20260424T093033
CREATED:20240115T172838Z
LAST-MODIFIED:20240115T172838Z
UID:2163-1706211000-1706211000@ancestralvoice.org
SUMMARY:Sacred Hoops & Traditional Full Moon Ceremony in Novato and via Zoom
DESCRIPTION:
URL:https://ancestralvoice.org/calendar/sacred-hoops-traditional-full-moon-ceremony-in-novato-and-via-zoom-2/
LOCATION:Novato
END:VEVENT
BEGIN:VEVENT
DTSTART;TZID=America/Denver:20240116T200000
DTEND;TZID=America/Denver:20240116T200000
DTSTAMP:20260424T093033
CREATED:20240115T172750Z
LAST-MODIFIED:20240115T172750Z
UID:2161-1705435200-1705435200@ancestralvoice.org
SUMMARY:Traditional Drum & Sacred Tobacco Ceremony
DESCRIPTION:
URL:https://ancestralvoice.org/calendar/traditional-drum-sacred-tobacco-ceremony/
LOCATION:New Mission Yoga in San Francisco (2415 Mission St.)
END:VEVENT
END:VCALENDAR