BEGIN:VCALENDAR
VERSION:2.0
PRODID:-//Ancestral Voice - ECPv6.15.20//NONSGML v1.0//EN
CALSCALE:GREGORIAN
METHOD:PUBLISH
X-WR-CALNAME:Ancestral Voice
X-ORIGINAL-URL:https://ancestralvoice.org
X-WR-CALDESC:Events for Ancestral Voice
REFRESH-INTERVAL;VALUE=DURATION:PT1H
X-Robots-Tag:noindex
X-PUBLISHED-TTL:PT1H
BEGIN:VTIMEZONE
TZID:America/Denver
BEGIN:DAYLIGHT
TZOFFSETFROM:-0700
TZOFFSETTO:-0600
TZNAME:MDT
DTSTART:20230312T090000
END:DAYLIGHT
BEGIN:STANDARD
TZOFFSETFROM:-0600
TZOFFSETTO:-0700
TZNAME:MST
DTSTART:20231105T080000
END:STANDARD
BEGIN:DAYLIGHT
TZOFFSETFROM:-0700
TZOFFSETTO:-0600
TZNAME:MDT
DTSTART:20240310T090000
END:DAYLIGHT
BEGIN:STANDARD
TZOFFSETFROM:-0600
TZOFFSETTO:-0700
TZNAME:MST
DTSTART:20241103T080000
END:STANDARD
BEGIN:DAYLIGHT
TZOFFSETFROM:-0700
TZOFFSETTO:-0600
TZNAME:MDT
DTSTART:20250309T090000
END:DAYLIGHT
BEGIN:STANDARD
TZOFFSETFROM:-0600
TZOFFSETTO:-0700
TZNAME:MST
DTSTART:20251102T080000
END:STANDARD
END:VTIMEZONE
BEGIN:VEVENT
DTSTART;TZID=America/Denver:20240922T133000
DTEND;TZID=America/Denver:20240922T133000
DTSTAMP:20260424T083950
CREATED:20240806T195422Z
LAST-MODIFIED:20240806T195422Z
UID:2362-1727011800-1727011800@ancestralvoice.org
SUMMARY:Mt. Tamalpais Traditional Autumnal Equinox Medicine Wheel Ceremony
DESCRIPTION:
URL:https://ancestralvoice.org/calendar/mt-tamalpais-traditional-autumnal-equinox-medicine-wheel-ceremony-2/
END:VEVENT
BEGIN:VEVENT
DTSTART;TZID=America/Denver:20240922T100000
DTEND;TZID=America/Denver:20240922T113000
DTSTAMP:20260424T083950
CREATED:20240806T195352Z
LAST-MODIFIED:20240806T195352Z
UID:2360-1726999200-1727004600@ancestralvoice.org
SUMMARY:Awakened Leadership 9 month online course via Zoom Ancestral Voice AV
DESCRIPTION:Please email for the link
URL:https://ancestralvoice.org/calendar/awakened-leadership-9-month-online-course-via-zoom-ancestral-voice-av-3/
END:VEVENT
BEGIN:VEVENT
DTSTART;VALUE=DATE:20240916
DTEND;VALUE=DATE:20240922
DTSTAMP:20260424T083950
CREATED:20240806T195306Z
LAST-MODIFIED:20240806T195306Z
UID:2358-1726444800-1726963199@ancestralvoice.org
SUMMARY:Ancient Teachings & Technologies of Survival intensive
DESCRIPTION:in Novato
URL:https://ancestralvoice.org/calendar/ancient-teachings-technologies-of-survival-intensive/
END:VEVENT
BEGIN:VEVENT
DTSTART;TZID=America/Denver:20240914T110000
DTEND;TZID=America/Denver:20240914T110000
DTSTAMP:20260424T083950
CREATED:20240806T195226Z
LAST-MODIFIED:20240806T195237Z
UID:2355-1726311600-1726311600@ancestralvoice.org
SUMMARY:Traditional Purification Lodge
DESCRIPTION:in Petaluma
URL:https://ancestralvoice.org/calendar/traditional-purification-lodge-in-petaluma-7/
END:VEVENT
BEGIN:VEVENT
DTSTART;TZID=America/Denver:20240913T160000
DTEND;TZID=America/Denver:20240913T160000
DTSTAMP:20260424T083950
CREATED:20240806T195153Z
LAST-MODIFIED:20240806T195153Z
UID:2353-1726243200-1726243200@ancestralvoice.org
SUMMARY:Good of the Whole Traditional Autumnal Equinox & Full Moon Ceremony Zoomcast
DESCRIPTION:Please email for link
URL:https://ancestralvoice.org/calendar/good-of-the-whole-traditional-autumnal-equinox-full-moon-ceremony-zoomcast/
END:VEVENT
BEGIN:VEVENT
DTSTART;TZID=America/Denver:20240912T193000
DTEND;TZID=America/Denver:20240912T193000
DTSTAMP:20260424T083950
CREATED:20240806T195034Z
LAST-MODIFIED:20240806T195034Z
UID:2351-1726169400-1726169400@ancestralvoice.org
SUMMARY:Traditional Drum Tie
DESCRIPTION:in Novato
URL:https://ancestralvoice.org/calendar/traditional-drum-tie-7/
END:VEVENT
BEGIN:VEVENT
DTSTART;TZID=America/Denver:20240906T193000
DTEND;TZID=America/Denver:20240906T193000
DTSTAMP:20260424T083950
CREATED:20240806T194954Z
LAST-MODIFIED:20240806T195110Z
UID:2349-1725651000-1725651000@ancestralvoice.org
SUMMARY:Traditional New Moon Ceremony
DESCRIPTION:in Novato
URL:https://ancestralvoice.org/calendar/traditional-new-moon-ceremony/
END:VEVENT
BEGIN:VEVENT
DTSTART;TZID=America/Denver:20240831T110000
DTEND;TZID=America/Denver:20240831T110000
DTSTAMP:20260424T083950
CREATED:20240806T194920Z
LAST-MODIFIED:20240806T194920Z
UID:2347-1725102000-1725102000@ancestralvoice.org
SUMMARY:Traditional Purification Lodge
DESCRIPTION:in Petaluma (4010 Bodega Ave.)
URL:https://ancestralvoice.org/calendar/traditional-purification-lodge-8/
END:VEVENT
BEGIN:VEVENT
DTSTART;TZID=America/Denver:20240829T193000
DTEND;TZID=America/Denver:20240829T193000
DTSTAMP:20260424T083950
CREATED:20240806T194804Z
LAST-MODIFIED:20240806T194804Z
UID:2345-1724959800-1724959800@ancestralvoice.org
SUMMARY:Sacred Hoops in Novato and via Zoom Ancestral Voice AV
DESCRIPTION:Please email for the link
URL:https://ancestralvoice.org/calendar/sacred-hoops-in-novato-and-via-zoom-ancestral-voice-av-2/
END:VEVENT
BEGIN:VEVENT
DTSTART;TZID=America/Denver:20240820T200000
DTEND;TZID=America/Denver:20240820T200000
DTSTAMP:20260424T083950
CREATED:20240806T194724Z
LAST-MODIFIED:20240806T194724Z
UID:2343-1724184000-1724184000@ancestralvoice.org
SUMMARY:Traditional Full Moon Ceremony
DESCRIPTION:at New Mission Yoga in San Francisco
URL:https://ancestralvoice.org/calendar/traditional-full-moon-ceremony-2/
END:VEVENT
BEGIN:VEVENT
DTSTART;TZID=America/Denver:20240818T130000
DTEND;TZID=America/Denver:20240818T200000
DTSTAMP:20260424T083950
CREATED:20240806T194647Z
LAST-MODIFIED:20240806T194647Z
UID:2341-1723986000-1724011200@ancestralvoice.org
SUMMARY:30th Anniversary of Ancestral Voice (including evening Full Moon Ceremony)
DESCRIPTION:in Novato
URL:https://ancestralvoice.org/calendar/30th-anniversary-of-ancestral-voice-including-evening-full-moon-ceremony/
END:VEVENT
BEGIN:VEVENT
DTSTART;TZID=America/Denver:20240818T100000
DTEND;TZID=America/Denver:20240818T113000
DTSTAMP:20260424T083950
CREATED:20240806T194604Z
LAST-MODIFIED:20240806T194604Z
UID:2339-1723975200-1723980600@ancestralvoice.org
SUMMARY:Awakened Leadership 9 month online course via Zoom Ancestral Voice AV
DESCRIPTION:Please email for the link
URL:https://ancestralvoice.org/calendar/awakened-leadership-9-month-online-course-via-zoom-ancestral-voice-av-2/
END:VEVENT
BEGIN:VEVENT
DTSTART;TZID=America/Denver:20240817T110000
DTEND;TZID=America/Denver:20240817T110000
DTSTAMP:20260424T083950
CREATED:20240806T194513Z
LAST-MODIFIED:20240806T194513Z
UID:2337-1723892400-1723892400@ancestralvoice.org
SUMMARY:Traditional Purification Lodge in Celebration of the 30th Anniversary of Ancestral Voice in Petaluma
DESCRIPTION:
URL:https://ancestralvoice.org/calendar/traditional-purification-lodge-in-celebration-of-the-30th-anniversary-of-ancestral-voice-in-petaluma/
END:VEVENT
BEGIN:VEVENT
DTSTART;TZID=America/Denver:20240816T190000
DTEND;TZID=America/Denver:20240816T190000
DTSTAMP:20260424T083950
CREATED:20240806T194421Z
LAST-MODIFIED:20240806T194421Z
UID:2335-1723834800-1723834800@ancestralvoice.org
SUMMARY:Traditional Ceremony & Teachings in Mill Valley
DESCRIPTION:
URL:https://ancestralvoice.org/calendar/traditional-ceremony-teachings-in-mill-valley-3/
END:VEVENT
BEGIN:VEVENT
DTSTART;TZID=America/Denver:20240816T160000
DTEND;TZID=America/Denver:20240816T160000
DTSTAMP:20260424T083950
CREATED:20240806T194355Z
LAST-MODIFIED:20240806T194355Z
UID:2333-1723824000-1723824000@ancestralvoice.org
SUMMARY:Good of the Whole Traditional Ceremony & Teachings Zoomcast
DESCRIPTION:Please email for the link
URL:https://ancestralvoice.org/calendar/good-of-the-whole-traditional-ceremony-teachings-zoomcast-3/
END:VEVENT
BEGIN:VEVENT
DTSTART;TZID=America/Denver:20240808T193000
DTEND;TZID=America/Denver:20240808T193000
DTSTAMP:20260424T083950
CREATED:20240806T194306Z
LAST-MODIFIED:20240806T194306Z
UID:2331-1723145400-1723145400@ancestralvoice.org
SUMMARY:Traditional Drum Tie in Novato
DESCRIPTION:
URL:https://ancestralvoice.org/calendar/traditional-drum-tie-in-novato-2/
END:VEVENT
BEGIN:VEVENT
DTSTART;TZID=America/Denver:20240802T193000
DTEND;TZID=America/Denver:20240802T193000
DTSTAMP:20260424T083950
CREATED:20240806T194232Z
LAST-MODIFIED:20240806T194232Z
UID:2329-1722627000-1722627000@ancestralvoice.org
SUMMARY:Lammas Ceremony in Novato & via Zoom
DESCRIPTION:
URL:https://ancestralvoice.org/calendar/lammas-ceremony-in-novato-via-zoom/
END:VEVENT
BEGIN:VEVENT
DTSTART;TZID=America/Denver:20240727T100000
DTEND;TZID=America/Denver:20240728T180000
DTSTAMP:20260424T083950
CREATED:20240806T194155Z
LAST-MODIFIED:20240806T194155Z
UID:2327-1722074400-1722189600@ancestralvoice.org
SUMMARY:Death & Dying intensive in Novato
DESCRIPTION:
URL:https://ancestralvoice.org/calendar/death-dying-intensive-in-novato/
END:VEVENT
BEGIN:VEVENT
DTSTART;TZID=America/Denver:20240726T190000
DTEND;TZID=America/Denver:20240726T190000
DTSTAMP:20260424T083950
CREATED:20240806T194108Z
LAST-MODIFIED:20240806T194108Z
UID:2325-1722020400-1722020400@ancestralvoice.org
SUMMARY:Traditional Ceremony & Teachings
DESCRIPTION:in Mill Valley (524 Cascade Dr.)
URL:https://ancestralvoice.org/calendar/traditional-ceremony-teachings/
END:VEVENT
BEGIN:VEVENT
DTSTART;TZID=America/Denver:20240726T160000
DTEND;TZID=America/Denver:20240726T160000
DTSTAMP:20260424T083950
CREATED:20240806T193911Z
LAST-MODIFIED:20240806T193911Z
UID:2323-1722009600-1722009600@ancestralvoice.org
SUMMARY:Good of the Whole Traditional Ceremony & Teachings Zoomcast
DESCRIPTION:Please email for the link
URL:https://ancestralvoice.org/calendar/good-of-the-whole-traditional-ceremony-teachings-zoomcast-2/
END:VEVENT
BEGIN:VEVENT
DTSTART;TZID=America/Denver:20240725T193000
DTEND;TZID=America/Denver:20240725T193000
DTSTAMP:20260424T083950
CREATED:20240806T193817Z
LAST-MODIFIED:20240806T193817Z
UID:2321-1721935800-1721935800@ancestralvoice.org
SUMMARY:Sacred Hoops in Novato and via zoom Ancestral Voice AV
DESCRIPTION:Please email for link
URL:https://ancestralvoice.org/calendar/sacred-hoops-in-novato-and-via-zoom-ancestral-voice-av/
END:VEVENT
BEGIN:VEVENT
DTSTART;TZID=America/Denver:20240723T200000
DTEND;TZID=America/Denver:20240723T200000
DTSTAMP:20260424T083950
CREATED:20240806T193720Z
LAST-MODIFIED:20240806T193720Z
UID:2319-1721764800-1721764800@ancestralvoice.org
SUMMARY:Traditional Sacred Tobacco & Drum Ceremony
DESCRIPTION:at New Mission Yoga in San Francisco (2415 Mission St.)
URL:https://ancestralvoice.org/calendar/traditional-sacred-tobacco-drum-ceremony/
END:VEVENT
BEGIN:VEVENT
DTSTART;TZID=America/Denver:20240721T160000
DTEND;TZID=America/Denver:20240721T160000
DTSTAMP:20260424T083950
CREATED:20240806T193620Z
LAST-MODIFIED:20240806T193620Z
UID:2317-1721577600-1721577600@ancestralvoice.org
SUMMARY:Traditional Full Moon Purification Lodge in Petaluma
DESCRIPTION:
URL:https://ancestralvoice.org/calendar/traditional-full-moon-purification-lodge-in-petaluma/
END:VEVENT
BEGIN:VEVENT
DTSTART;TZID=America/Denver:20240721T120000
DTEND;TZID=America/Denver:20240721T133000
DTSTAMP:20260424T083950
CREATED:20240806T193539Z
LAST-MODIFIED:20240806T193539Z
UID:2315-1721563200-1721568600@ancestralvoice.org
SUMMARY:Awakened Leadership 9 month online course via Zoom Ancestral Voice AV
DESCRIPTION:Please email for link
URL:https://ancestralvoice.org/calendar/awakened-leadership-9-month-online-course-via-zoom-ancestral-voice-av/
END:VEVENT
BEGIN:VEVENT
DTSTART;VALUE=DATE:20240714
DTEND;VALUE=DATE:20240721
DTSTAMP:20260424T083950
CREATED:20240806T193433Z
LAST-MODIFIED:20240806T193433Z
UID:2313-1720915200-1721519999@ancestralvoice.org
SUMMARY:Caux Democracy Forum\, Switzerland
DESCRIPTION:
URL:https://ancestralvoice.org/calendar/caux-democracy-forum-switzerland/
END:VEVENT
BEGIN:VEVENT
DTSTART;TZID=America/Denver:20240713T110000
DTEND;TZID=America/Denver:20240713T110000
DTSTAMP:20260424T083950
CREATED:20240806T193409Z
LAST-MODIFIED:20240806T193409Z
UID:2311-1720868400-1720868400@ancestralvoice.org
SUMMARY:Traditional Purification Lodge
DESCRIPTION:in Petaluma (4010 Bodega Ave.)
URL:https://ancestralvoice.org/calendar/traditional-purification-lodge-7/
END:VEVENT
BEGIN:VEVENT
DTSTART;TZID=America/Denver:20240711T193000
DTEND;TZID=America/Denver:20240711T193000
DTSTAMP:20260424T083950
CREATED:20240806T193334Z
LAST-MODIFIED:20240806T193334Z
UID:2309-1720726200-1720726200@ancestralvoice.org
SUMMARY:Traditional Drum Tie
DESCRIPTION:in Novato (108D Oliva Ct.)
URL:https://ancestralvoice.org/calendar/traditional-drum-tie-6/
END:VEVENT
BEGIN:VEVENT
DTSTART;VALUE=DATE:20240629
DTEND;VALUE=DATE:20240708
DTSTAMP:20260424T083950
CREATED:20240806T193250Z
LAST-MODIFIED:20240806T193250Z
UID:2307-1719619200-1720396799@ancestralvoice.org
SUMMARY:Little Big Medicine Sundance in Arizona
DESCRIPTION:
URL:https://ancestralvoice.org/calendar/little-big-medicine-sundance-in-arizona/
END:VEVENT
BEGIN:VEVENT
DTSTART;VALUE=DATE:20240629
DTEND;VALUE=DATE:20240708
DTSTAMP:20260424T083950
CREATED:20240520T154802Z
LAST-MODIFIED:20240520T154802Z
UID:2257-1719619200-1720396799@ancestralvoice.org
SUMMARY:Little Big Medicine Sundance
DESCRIPTION:In Arizona
URL:https://ancestralvoice.org/calendar/little-big-medicine-sundance/
END:VEVENT
BEGIN:VEVENT
DTSTART;TZID=America/Denver:20240623T133000
DTEND;TZID=America/Denver:20240623T133000
DTSTAMP:20260424T083950
CREATED:20240520T154722Z
LAST-MODIFIED:20240520T154722Z
UID:2255-1719149400-1719149400@ancestralvoice.org
SUMMARY:Mt. Tamalpais Traditional Summer Solstice Medicine Wheel Ceremony
DESCRIPTION:
URL:https://ancestralvoice.org/calendar/mt-tamalpais-traditional-summer-solstice-medicine-wheel-ceremony/
END:VEVENT
END:VCALENDAR