BEGIN:VCALENDAR
VERSION:2.0
PRODID:-//Ancestral Voice - ECPv6.15.20//NONSGML v1.0//EN
CALSCALE:GREGORIAN
METHOD:PUBLISH
X-WR-CALNAME:Ancestral Voice
X-ORIGINAL-URL:https://ancestralvoice.org
X-WR-CALDESC:Events for Ancestral Voice
REFRESH-INTERVAL;VALUE=DURATION:PT1H
X-Robots-Tag:noindex
X-PUBLISHED-TTL:PT1H
BEGIN:VTIMEZONE
TZID:America/Los_Angeles
BEGIN:DAYLIGHT
TZOFFSETFROM:-0800
TZOFFSETTO:-0700
TZNAME:PDT
DTSTART:20240310T100000
END:DAYLIGHT
BEGIN:STANDARD
TZOFFSETFROM:-0700
TZOFFSETTO:-0800
TZNAME:PST
DTSTART:20241103T090000
END:STANDARD
BEGIN:DAYLIGHT
TZOFFSETFROM:-0800
TZOFFSETTO:-0700
TZNAME:PDT
DTSTART:20250309T100000
END:DAYLIGHT
BEGIN:STANDARD
TZOFFSETFROM:-0700
TZOFFSETTO:-0800
TZNAME:PST
DTSTART:20251102T090000
END:STANDARD
BEGIN:DAYLIGHT
TZOFFSETFROM:-0800
TZOFFSETTO:-0700
TZNAME:PDT
DTSTART:20260308T100000
END:DAYLIGHT
BEGIN:STANDARD
TZOFFSETFROM:-0700
TZOFFSETTO:-0800
TZNAME:PST
DTSTART:20261101T090000
END:STANDARD
BEGIN:DAYLIGHT
TZOFFSETFROM:-0800
TZOFFSETTO:-0700
TZNAME:PDT
DTSTART:20270314T100000
END:DAYLIGHT
BEGIN:STANDARD
TZOFFSETFROM:-0700
TZOFFSETTO:-0800
TZNAME:PST
DTSTART:20271107T090000
END:STANDARD
END:VTIMEZONE
BEGIN:VEVENT
DTSTART;TZID=America/Los_Angeles:20260205T193000
DTEND;TZID=America/Los_Angeles:20260205T220000
DTSTAMP:20260423T165926
CREATED:20251219T175830Z
LAST-MODIFIED:20251219T175830Z
UID:2672-1770319800-1770328800@ancestralvoice.org
SUMMARY:Traditional Drum Tie
DESCRIPTION:A gathering in honour of my father\, a beloved and respected Roadman who sang his Final Set of Songs on the Earth\, we Tie up the Water Drum and\, along with the Gourd Rattle practice Sacred NAC Songs and receive Teachings regarding the Tipi Way. Everyone welcome. Please text me to RSVP at (415) 310-0981
URL:https://ancestralvoice.org/calendar/traditional-drum-tie-17/
LOCATION:Novato (108D Oliva Ct.)
END:VEVENT
BEGIN:VEVENT
DTSTART;TZID=America/Los_Angeles:20260203T200000
DTEND;TZID=America/Los_Angeles:20260203T220000
DTSTAMP:20260423T165926
CREATED:20251219T181046Z
LAST-MODIFIED:20251219T181046Z
UID:2687-1770148800-1770156000@ancestralvoice.org
SUMMARY:Traditional Sacred Tobacco & Drum Tie Ceremony
DESCRIPTION:at New Mission Yoga in San Francisco
URL:https://ancestralvoice.org/calendar/traditional-sacred-tobacco-drum-tie-ceremony-2/
LOCATION:New Mission Yoga in SF (2415 Mission St.)
END:VEVENT
BEGIN:VEVENT
DTSTART;TZID=America/Los_Angeles:20260202T193000
DTEND;TZID=America/Los_Angeles:20260202T220000
DTSTAMP:20260423T165926
CREATED:20251219T181808Z
LAST-MODIFIED:20251219T181808Z
UID:2701-1770060600-1770069600@ancestralvoice.org
SUMMARY:Imbolc & Full Moon Ceremony
DESCRIPTION:Let us gather to pray\, heal and let go under the full moon. We will gather virtually to honor the moon cycles and call in that which we desire to make manifest.
URL:https://ancestralvoice.org/calendar/imbolc-full-moon-ceremony/
LOCATION:Novato (108D Oliva Ct.)
END:VEVENT
BEGIN:VEVENT
DTSTART;TZID=America/Los_Angeles:20260131T100000
DTEND;TZID=America/Los_Angeles:20260201T180000
DTSTAMP:20260423T165926
CREATED:20251219T181703Z
LAST-MODIFIED:20260123T045604Z
UID:2699-1769853600-1769968800@ancestralvoice.org
SUMMARY:Death as an Ally 2-Day Intensive
DESCRIPTION:Experience firsthand the Medicine person’s unique relationship to death and dying by learning techniques from Indigenous and Toltec traditions to befriend the shadow who stalks us moment to moment and to discover how to glean and harness the power of this formidable force/being. Prerequisite: The Indigenous Journey or prior experience with journeywork. \nFor more information about reciprocity and to sign up for this Intensive\, please contact us via call or text at (410) 310-0981.
URL:https://ancestralvoice.org/calendar/death-as-an-ally-2-day-healing-intensive/
LOCATION:Novato (108D Oliva Ct.)
END:VEVENT
BEGIN:VEVENT
DTSTART;TZID=America/Los_Angeles:20260130T100000
DTEND;TZID=America/Los_Angeles:20260130T180000
DTSTAMP:20260423T165926
CREATED:20251219T181558Z
LAST-MODIFIED:20251219T182251Z
UID:2697-1769767200-1769796000@ancestralvoice.org
SUMMARY:The Indigenous Journey Healing Intensive
DESCRIPTION:Indigenous Medicine is one of the most ancient Paths known and traversed by humanity for the acquisition of wisdom\, knowledge and healing for one’s community\, nation\, planet and self.  Via the vehicles of Indigenous song\, movement\, Prayer and music\, we journey to and explore landscapes and Sacred geographies that Medicine People from diverse cultures have frequented for millennia. Undertaken with specific intent and purpose\, we encounter and acquaint ourselves with the Spirits and powerful denizens of these realms- our Allies\, Benefactors and Guardians – to learn and partake of the Medicine they have to offer.  It is an experience steeped in Spirit\, Mystery and Magic\, presented in a Traditional manner and provides the foundation upon which to embark on the Path. Additionally\, we will address the importance and necessity of decolonizing modern “shamanism” and protecting Sacred Plant Medicines.\n\n\nNo prerequisites – everyone welcome. \n\n\n\n\n\nIn this intensive participants will receive:\n\n\nAn understanding of various indigenous relationships to Ancestral Realms\n\n\nInstruction in the mechanics of effective Journeying (without Sacred Plant Medicines)\n\nDirect contact and introduction to one’s Helping Spirits & Ancestors\nAn appreciation of the requirements and responsibilities to become a Traditional Healer/Medicine person\nTools to become an ally in decolonizing modern “shamanism” & protecting Sacred Plant Medicines\n\n\nFor more information about the reciprocity and to sign up for this Intensive\, please contact us via call or text at (410) 310-0981
URL:https://ancestralvoice.org/calendar/the-indigenous-journey-healing-intensive/
LOCATION:Novato (108D Oliva Ct.)
END:VEVENT
BEGIN:VEVENT
DTSTART;TZID=America/Los_Angeles:20260129T193000
DTEND;TZID=America/Los_Angeles:20260129T220000
DTSTAMP:20260423T165926
CREATED:20251219T180104Z
LAST-MODIFIED:20251219T180104Z
UID:2676-1769715000-1769724000@ancestralvoice.org
SUMMARY:Sacred Hoops
DESCRIPTION:Gatherings dedicated to exploring and deepening our connections to the Sacred by receiving Teachings\, learning Traditional Native Songs and the fundamentals of respectful Ceremonial participation and/or by listening to the Wisdom of invited Elders\, Medicine People and Healers from various Indigenous Nations and cultures.  Everyone welcome. \nAvailable in-person for Bay Area locals and via Zoom. \nPlease contact me directly for the Zoom link at phillip@ancestralvoice.org
URL:https://ancestralvoice.org/calendar/sacred-hoops-11/
LOCATION:Novato (108D Oliva Ct.)
END:VEVENT
BEGIN:VEVENT
DTSTART;TZID=America/Los_Angeles:20260120T200000
DTEND;TZID=America/Los_Angeles:20260120T220000
DTSTAMP:20260423T165926
CREATED:20251219T181005Z
LAST-MODIFIED:20251219T181005Z
UID:2685-1768939200-1768946400@ancestralvoice.org
SUMMARY:Traditional Sacred Tobacco & Drum Tie Ceremony
DESCRIPTION:at New Mission Yoga in San Francisco
URL:https://ancestralvoice.org/calendar/traditional-sacred-tobacco-drum-tie-ceremony/
LOCATION:New Mission Yoga in SF (2415 Mission St.)
END:VEVENT
BEGIN:VEVENT
DTSTART;TZID=America/Los_Angeles:20260117T110000
DTEND;TZID=America/Los_Angeles:20260117T170000
DTSTAMP:20260423T165926
CREATED:20251219T175324Z
LAST-MODIFIED:20251219T175324Z
UID:2660-1768647600-1768669200@ancestralvoice.org
SUMMARY:Traditional Purification Lodge (Inipi)
DESCRIPTION:The Purification Lodge (often referred to as a “sweatlodge”) is an ancient\, Indigenous Prayer and Healing Ceremony\, which combines the Sacred elements- Water\, Air and Fire – within the womb of the Earth. The Ceremony is conducted in a Traditional manner. Everyone welcome. \nIf new to the Lodge\, please notify us of your attendance so we can convey the protocols of what to bring\, what to where and how to show up in a good way. Call or text us at (415) 310-0981. \nToksa!
URL:https://ancestralvoice.org/calendar/traditional-purification-lodge-inipi-9/
LOCATION:4010 Bodega Ave.
END:VEVENT
BEGIN:VEVENT
DTSTART;TZID=America/Los_Angeles:20260116T160000
DTEND;TZID=America/Los_Angeles:20260116T173000
DTSTAMP:20260423T165926
CREATED:20251219T181309Z
LAST-MODIFIED:20251219T181309Z
UID:2691-1768579200-1768584600@ancestralvoice.org
SUMMARY:Zoom Ceremony
DESCRIPTION:Please reach out to us at (415) 310-0981 to sign up and receive the Zoom link.
URL:https://ancestralvoice.org/calendar/zoom-ceremony/
LOCATION:AV Zoom
END:VEVENT
BEGIN:VEVENT
DTSTART;TZID=America/Los_Angeles:20260115T193000
DTEND;TZID=America/Los_Angeles:20260115T220000
DTSTAMP:20260423T165926
CREATED:20251219T175751Z
LAST-MODIFIED:20251219T175854Z
UID:2670-1768505400-1768514400@ancestralvoice.org
SUMMARY:Traditional Drum Tie
DESCRIPTION:A gathering in honour of my father\, a beloved and respected Roadman who sang his Final Set of Songs on the Earth\, we Tie up the Water Drum and\, along with the Gourd Rattle practice Sacred NAC Songs and receive Teachings regarding the Tipi Way. Everyone welcome. Please text me to RSVP at (415) 310-0981
URL:https://ancestralvoice.org/calendar/traditional-drum-tie-16/
LOCATION:Novato (108D Oliva Ct.)
END:VEVENT
BEGIN:VEVENT
DTSTART;TZID=America/Los_Angeles:20260103T160000
DTEND;TZID=America/Los_Angeles:20260103T213000
DTSTAMP:20260423T165926
CREATED:20251219T175206Z
LAST-MODIFIED:20251219T175206Z
UID:2658-1767456000-1767475800@ancestralvoice.org
SUMMARY:Full Moon Traditional Purification Lodge (Inipi)
DESCRIPTION:The Purification Lodge (often referred to as a “sweatlodge”) is an ancient\, Indigenous Prayer and Healing Ceremony\, which combines the Sacred elements- Water\, Air and Fire – within the womb of the Earth. The Ceremony is conducted in a Traditional manner. Everyone welcome. \nIf new to the Lodge\, please notify us of your attendance so we can convey the protocols of what to bring\, what to where and how to show up in a good way. Call or text us at (415) 310-0981. \nToksa!
URL:https://ancestralvoice.org/calendar/full-moon-traditional-purification-lodge-inipi/
LOCATION:4010 Bodega Ave.
END:VEVENT
BEGIN:VEVENT
DTSTART;TZID=America/Los_Angeles:20251221T133000
DTEND;TZID=America/Los_Angeles:20251221T170000
DTSTAMP:20260423T165926
CREATED:20251112T003532Z
LAST-MODIFIED:20251112T003532Z
UID:2633-1766323800-1766336400@ancestralvoice.org
SUMMARY:Mt. Tam Winter Solstice Medicine Wheel Ceremony
DESCRIPTION:The Medicine Wheel is an ancient\, powerful navigational way of life employed by Indigenous peoples throughout the world for health and healing. \nWe will initially meet at the Whole Foods on Miller Ave in Mill Valley\, then caravan together to assemble atop Mt. Tamalpais\, the Sacred mountain of the Coastal Miwok\, Pomo and Ohlone Nations for a Ceremony to create a Medicine Wheel (Sacred Hoop of Life) in honour and celebration of the seasonal shifts and thresholds and to Pray for All of Our Relations. Everyone is welcome.
URL:https://ancestralvoice.org/calendar/mt-tam-winter-solstice-medicine-wheel-ceremony/
LOCATION:Whole Foods Mill Valley\, Miller Ave\, Mill Valley
END:VEVENT
BEGIN:VEVENT
DTSTART;TZID=America/Los_Angeles:20251220T110000
DTEND;TZID=America/Los_Angeles:20251220T170000
DTSTAMP:20260423T165926
CREATED:20251112T002713Z
LAST-MODIFIED:20251112T002713Z
UID:2626-1766228400-1766250000@ancestralvoice.org
SUMMARY:Traditional Purification Lodge (Inipi)
DESCRIPTION:The Purification Lodge (often referred to as a “sweatlodge”) is an ancient\, Indigenous Prayer and Healing Ceremony\, which combines the Sacred elements- Water\, Air and Fire – within the womb of the Earth. The Ceremony is conducted in a Traditional manner. Everyone welcome. \nPlease sign up via the link below.
URL:https://ancestralvoice.org/calendar/traditional-purification-lodge-inipi-8/
LOCATION:Novato (108D Oliva Ct.)
END:VEVENT
BEGIN:VEVENT
DTSTART;TZID=America/Los_Angeles:20251218T193000
DTEND;TZID=America/Los_Angeles:20251218T220000
DTSTAMP:20260423T165926
CREATED:20251112T002158Z
LAST-MODIFIED:20251112T002357Z
UID:2620-1766086200-1766095200@ancestralvoice.org
SUMMARY:Sacred Hoops
DESCRIPTION:Gatherings dedicated to exploring and deepening our connections to the Sacred by receiving Teachings\, learning Traditional Native Songs and the fundamentals of respectful Ceremonial participation and/or by listening to the Wisdom of invited Elders\, Medicine People and Healers from various Indigenous Nations and cultures.  Everyone welcome. \nAvailable in-person for Bay Area locals and via Zoom. \nPlease contact me directly for the Zoom link at phillip@ancestralvoice.org
URL:https://ancestralvoice.org/calendar/sacred-hoops-10/
LOCATION:Novato (108D Oliva Ct.)
END:VEVENT
BEGIN:VEVENT
DTSTART;TZID=America/Los_Angeles:20251213T100000
DTEND;TZID=America/Los_Angeles:20251214T180000
DTSTAMP:20260423T165926
CREATED:20251112T003041Z
LAST-MODIFIED:20251112T003426Z
UID:2630-1765620000-1765735200@ancestralvoice.org
SUMMARY:Fearlessness Weekend Intensive
DESCRIPTION:Please contact Phillip for more information at (415) 310-0981
URL:https://ancestralvoice.org/calendar/fearlessness-weekend-intensive/
LOCATION:Novato (108D Oliva Ct.)
END:VEVENT
BEGIN:VEVENT
DTSTART;TZID=America/Los_Angeles:20251209T193000
DTEND;TZID=America/Los_Angeles:20251209T213000
DTSTAMP:20260423T165926
CREATED:20251112T002847Z
LAST-MODIFIED:20251112T002847Z
UID:2628-1765308600-1765315800@ancestralvoice.org
SUMMARY:Traditional Drum Tie
DESCRIPTION:A gathering in honour of my father\, a beloved and respected Roadman who sang his Final Set of Songs on the Earth\, we Tie up the Water Drum and\, along with the Gourd Rattle practice Sacred NAC Songs and receive Teachings regarding the Tipi Way. Everyone welcome. Please text me to RSVP at (415) 310-0981
URL:https://ancestralvoice.org/calendar/traditional-drum-tie-15/
LOCATION:Novato (108D Oliva Ct.)
END:VEVENT
BEGIN:VEVENT
DTSTART;TZID=America/Los_Angeles:20251206T080000
DTEND;TZID=America/Los_Angeles:20251206T170000
DTSTAMP:20260423T165926
CREATED:20251112T002620Z
LAST-MODIFIED:20251112T002620Z
UID:2624-1765008000-1765040400@ancestralvoice.org
SUMMARY:Traditional Purification Lodge (Inipi)
DESCRIPTION:The Purification Lodge (often referred to as a “sweatlodge”) is an ancient\, Indigenous Prayer and Healing Ceremony\, which combines the Sacred elements- Water\, Air and Fire – within the womb of the Earth. The Ceremony is conducted in a Traditional manner. Everyone welcome. \nPlease sign up via the link below.
URL:https://ancestralvoice.org/calendar/traditional-purification-lodge-inipi-7/
LOCATION:Petaluma (4010 Bodega Ave.)
END:VEVENT
BEGIN:VEVENT
DTSTART;TZID=America/Los_Angeles:20251129T110000
DTEND;TZID=America/Los_Angeles:20251129T170000
DTSTAMP:20260423T165926
CREATED:20251112T002542Z
LAST-MODIFIED:20251112T002542Z
UID:2622-1764414000-1764435600@ancestralvoice.org
SUMMARY:Traditional Purification Lodge (Inipi)
DESCRIPTION:The Purification Lodge (often referred to as a “sweatlodge”) is an ancient\, Indigenous Prayer and Healing Ceremony\, which combines the Sacred elements- Water\, Air and Fire – within the womb of the Earth. The Ceremony is conducted in a Traditional manner. Everyone welcome. \nPlease sign up via the link below.
URL:https://ancestralvoice.org/calendar/traditional-purification-lodge-inipi-6/
LOCATION:Petaluma (4010 Bodega Ave.)
END:VEVENT
BEGIN:VEVENT
DTSTART;TZID=America/Los_Angeles:20251120T193000
DTEND;TZID=America/Los_Angeles:20251120T220000
DTSTAMP:20260423T165926
CREATED:20251112T002034Z
LAST-MODIFIED:20251112T002034Z
UID:2618-1763667000-1763676000@ancestralvoice.org
SUMMARY:Sacred Hoops
DESCRIPTION:Gatherings dedicated to exploring and deepening our connections to the Sacred by receiving Teachings\, learning Traditional Native Songs and the fundamentals of respectful Ceremonial participation and/or by listening to the Wisdom of invited Elders\, Medicine People and Healers from various Indigenous Nations and cultures.  Everyone welcome. \nAvailable in-person for San Francisco Bay Area locals and via Zoom. \nPlease contact me directly for the Zoom link at phillip@ancestralvoice.org
URL:https://ancestralvoice.org/calendar/sacred-hoops-9/
LOCATION:Novato (108D Oliva Ct.)
END:VEVENT
BEGIN:VEVENT
DTSTART;VALUE=DATE:20250922
DTEND;VALUE=DATE:20250928
DTSTAMP:20260423T165926
CREATED:20250714T192547Z
LAST-MODIFIED:20250714T192547Z
UID:2602-1758499200-1759017599@ancestralvoice.org
SUMMARY:Awakened Warriorship Intensive [Week-Long]
DESCRIPTION:A week long intensive dedicated to learning the ways of Awakened Warriorship. \nThis intensive starts Monday September 22nd at 4pm and will conclude Saturday September 27th at noon. \nMore info coming soon.
URL:https://ancestralvoice.org/calendar/awakened-warriorship-intensive-week-long/
LOCATION:Novato (108D Oliva Ct.)
END:VEVENT
BEGIN:VEVENT
DTSTART;TZID=America/Los_Angeles:20250921T133000
DTEND;TZID=America/Los_Angeles:20250921T170000
DTSTAMP:20260423T165926
CREATED:20250714T192248Z
LAST-MODIFIED:20250714T192248Z
UID:2600-1758461400-1758474000@ancestralvoice.org
SUMMARY:Mt. Tam Autumn Equinox Medicine Wheel Ceremony
DESCRIPTION:The Medicine Wheel is an ancient\, powerful navigational way of life employed by Indigenous peoples throughout the world for health and healing. \nWe will initially meet at the Whole Foods on Miller Ave in Mill Valley\, then caravan together to assemble atop Mt. Tamalpais\, the Sacred mountain of the Coastal Miwok\, Pomo and Ohlone Nations for a Ceremony to create a Medicine Wheel (Sacred Hoop of Life) in honour and celebration of the seasonal shifts and thresholds and to Pray for All of Our Relations. Everyone is welcome.
URL:https://ancestralvoice.org/calendar/mt-tam-autumn-equinox-medicine-wheel-ceremony/
LOCATION:Novato (108D Oliva Ct.)
END:VEVENT
BEGIN:VEVENT
DTSTART;TZID=America/Los_Angeles:20250920T110000
DTEND;TZID=America/Los_Angeles:20250920T173000
DTSTAMP:20260423T165926
CREATED:20250714T191139Z
LAST-MODIFIED:20250714T191139Z
UID:2598-1758366000-1758389400@ancestralvoice.org
SUMMARY:Traditional Purification Lodge (Inipi)
DESCRIPTION:The Purification Lodge (often referred to as a “sweatlodge”) is an ancient\, Indigenous Prayer and Healing Ceremony\, which combines the Sacred elements- Water\, Air and Fire – within the womb of the Earth. The Ceremony is conducted in a Traditional manner. Everyone welcome. \nPlease sign up via the link below.
URL:https://ancestralvoice.org/calendar/traditional-purification-lodge-inipi-5/
LOCATION:Novato (108D Oliva Ct.)
END:VEVENT
BEGIN:VEVENT
DTSTART;TZID=America/Los_Angeles:20250918T193000
DTEND;TZID=America/Los_Angeles:20250918T220000
DTSTAMP:20260423T165926
CREATED:20250714T190937Z
LAST-MODIFIED:20251112T002421Z
UID:2596-1758223800-1758232800@ancestralvoice.org
SUMMARY:Sacred Hoops
DESCRIPTION:Gatherings dedicated to exploring and deepening our connections to the Sacred by receiving Teachings\, learning Traditional Native Songs and the fundamentals of respectful Ceremonial participation and/or by listening to the Wisdom of invited Elders\, Medicine People and Healers from various Indigenous Nations and cultures.  Everyone welcome. \nAvailable in-person for Bay Area locals and via Zoom. \nPlease contact me directly for the Zoom link at phillip@ancestralvoice.org
URL:https://ancestralvoice.org/calendar/sacred-hoops-8/
LOCATION:Novato (108D Oliva Ct.)
END:VEVENT
BEGIN:VEVENT
DTSTART;TZID=America/Los_Angeles:20250907T190000
DTEND;TZID=America/Los_Angeles:20250907T213000
DTSTAMP:20260423T165926
CREATED:20250714T190724Z
LAST-MODIFIED:20250714T190724Z
UID:2592-1757271600-1757280600@ancestralvoice.org
SUMMARY:Full Moon Lunar Eclipse Ceremony
DESCRIPTION:Join us in ceremony under the light of the Full Moon to release and recharge for the next lunation.
URL:https://ancestralvoice.org/calendar/full-moon-lunar-eclipse-ceremony/
LOCATION:Novato (108D Oliva Ct.)
END:VEVENT
BEGIN:VEVENT
DTSTART;TZID=America/Los_Angeles:20250906T110000
DTEND;TZID=America/Los_Angeles:20250906T173000
DTSTAMP:20260423T165926
CREATED:20250714T190359Z
LAST-MODIFIED:20250714T190359Z
UID:2590-1757156400-1757179800@ancestralvoice.org
SUMMARY:Traditional Purification Lodge (Inipi)
DESCRIPTION:The Purification Lodge (often referred to as a “sweatlodge”) is an ancient\, Indigenous Prayer and Healing Ceremony\, which combines the Sacred elements- Water\, Air and Fire – within the womb of the Earth. The Ceremony is conducted in a Traditional manner. Everyone welcome. \nPlease sign up via the link below.
URL:https://ancestralvoice.org/calendar/traditional-purification-lodge-inipi-4/
LOCATION:4010 Bodega Ave.
END:VEVENT
BEGIN:VEVENT
DTSTART;TZID=America/Los_Angeles:20250904T193000
DTEND;TZID=America/Los_Angeles:20250904T213000
DTSTAMP:20260423T165926
CREATED:20250714T190831Z
LAST-MODIFIED:20250714T193520Z
UID:2594-1757014200-1757021400@ancestralvoice.org
SUMMARY:Traditional Drum Tie
DESCRIPTION:A gathering in honour of my father\, a beloved and respected Roadman who sang his Final Set of Songs on the Earth\, we Tie up the Water Drum and\, along with the Gourd Rattle practice Sacred NAC Songs and receive Teachings regarding the Tipi Way. Everyone welcome. Please text me to RSVP at (415) 310-0981
URL:https://ancestralvoice.org/calendar/traditional-drum-tie-14/
LOCATION:Novato (108D Oliva Ct.)
END:VEVENT
BEGIN:VEVENT
DTSTART;TZID=America/Los_Angeles:20250831T100000
DTEND;TZID=America/Los_Angeles:20250831T180000
DTSTAMP:20260423T165926
CREATED:20250714T190145Z
LAST-MODIFIED:20250822T231549Z
UID:2588-1756634400-1756663200@ancestralvoice.org
SUMMARY:Healing the Human Being Intensive
DESCRIPTION:Traditional Medicine People are recognized throughout the world as wounded healers. They harness the energy\, wisdom and Medicine gleaned from their wounds\, pain and adversities for the purposes of healing themselves and others. All of us are wounded- that is part of the journey.  The quest is to discover the necessary tools to nourish\, purify and heal ourselves- to transmute the poisons and toxins of our thoughts and actions into personal strength and integrity. Employing the Sacred Hoop of Life to assess our balance\, we will draw upon ancient practices from Indigenous Traditions to heal and nurture ourselves as well as learn potent methods to place the being back in human in order to be of greater service to All of Our Relations. No prerequisites – everyone welcome.\n\n\n\n\n\nIn this intensive participants will receive:\n\n\n– An understanding and employment of the Sacred Hoop of Life (the Medicine Wheel ) as a means to assess health\n\n\n– An embodiment of Ancient practices and principles to achieve balance in all aspects – Body\, Heart\, Spirit and Mind\n\n\n– Healing of fears\, wounds and issues\, which prevent the discovery of fulfillment\, purpose and freedom\n\n\n– Sacred\, time tested rituals and methods for the care and nurturance of self and others\n\n– The cultivation of greater appreciation\, confidence\, respect and esteem in one’s life
URL:https://ancestralvoice.org/calendar/healing-the-human-being-intensive/
LOCATION:Novato (108D Oliva Ct.)
END:VEVENT
BEGIN:VEVENT
DTSTART;TZID=America/Los_Angeles:20250824T110000
DTEND;TZID=America/Los_Angeles:20250824T173000
DTSTAMP:20260423T165926
CREATED:20250714T185837Z
LAST-MODIFIED:20250717T170315Z
UID:2584-1756033200-1756056600@ancestralvoice.org
SUMMARY:Traditional Purification Lodge (Inipi)
DESCRIPTION:The Purification Lodge (often referred to as a “sweatlodge”) is an ancient\, Indigenous Prayer and Healing Ceremony\, which combines the Sacred elements- Water\, Air and Fire – within the womb of the Earth. The Ceremony is conducted in a Traditional manner. Everyone welcome. \nPlease sign up via the link below.
URL:https://ancestralvoice.org/calendar/traditional-purification-lodge-inipi-3/
LOCATION:4010 Bodega Ave.
END:VEVENT
BEGIN:VEVENT
DTSTART;TZID=America/Los_Angeles:20250821T193000
DTEND;TZID=America/Los_Angeles:20250821T220000
DTSTAMP:20260423T165926
CREATED:20250714T185732Z
LAST-MODIFIED:20250714T185732Z
UID:2582-1755804600-1755813600@ancestralvoice.org
SUMMARY:Sacred Hoops
DESCRIPTION:Gatherings dedicated to exploring and deepening our connections to the Sacred by receiving Teachings\, learning Traditional Native Songs and the fundamentals of respectful Ceremonial participation and/or by listening to the Wisdom of invited Elders\, Medicine People and Healers from various Indigenous Nations and cultures.  Everyone welcome. \nAvailable in-person for Bay Area locals and via Zoom. \nPlease contact me directly for the Zoom link at phillip@ancestralvoice.org
URL:https://ancestralvoice.org/calendar/sacred-hoops-7/
LOCATION:Novato (108D Oliva Ct.)
END:VEVENT
BEGIN:VEVENT
DTSTART;TZID=America/Los_Angeles:20250810T103000
DTEND;TZID=America/Los_Angeles:20250810T180000
DTSTAMP:20260423T165926
CREATED:20250714T190109Z
LAST-MODIFIED:20250725T155817Z
UID:2586-1754821800-1754848800@ancestralvoice.org
SUMMARY:The Medicine of Community Intensive
DESCRIPTION:More info coming soon
URL:https://ancestralvoice.org/calendar/the-medicine-of-community-intensive/
LOCATION:Novato (108D Oliva Ct.)
END:VEVENT
END:VCALENDAR