BEGIN:VCALENDAR
VERSION:2.0
PRODID:-//Ancestral Voice - ECPv6.15.20//NONSGML v1.0//EN
CALSCALE:GREGORIAN
METHOD:PUBLISH
X-WR-CALNAME:Ancestral Voice
X-ORIGINAL-URL:https://ancestralvoice.org
X-WR-CALDESC:Events for Ancestral Voice
REFRESH-INTERVAL;VALUE=DURATION:PT1H
X-Robots-Tag:noindex
X-PUBLISHED-TTL:PT1H
BEGIN:VTIMEZONE
TZID:America/Los_Angeles
BEGIN:DAYLIGHT
TZOFFSETFROM:-0800
TZOFFSETTO:-0700
TZNAME:PDT
DTSTART:20240310T100000
END:DAYLIGHT
BEGIN:STANDARD
TZOFFSETFROM:-0700
TZOFFSETTO:-0800
TZNAME:PST
DTSTART:20241103T090000
END:STANDARD
BEGIN:DAYLIGHT
TZOFFSETFROM:-0800
TZOFFSETTO:-0700
TZNAME:PDT
DTSTART:20250309T100000
END:DAYLIGHT
BEGIN:STANDARD
TZOFFSETFROM:-0700
TZOFFSETTO:-0800
TZNAME:PST
DTSTART:20251102T090000
END:STANDARD
BEGIN:DAYLIGHT
TZOFFSETFROM:-0800
TZOFFSETTO:-0700
TZNAME:PDT
DTSTART:20260308T100000
END:DAYLIGHT
BEGIN:STANDARD
TZOFFSETFROM:-0700
TZOFFSETTO:-0800
TZNAME:PST
DTSTART:20261101T090000
END:STANDARD
END:VTIMEZONE
BEGIN:VTIMEZONE
TZID:America/Denver
BEGIN:DAYLIGHT
TZOFFSETFROM:-0700
TZOFFSETTO:-0600
TZNAME:MDT
DTSTART:20240310T090000
END:DAYLIGHT
BEGIN:STANDARD
TZOFFSETFROM:-0600
TZOFFSETTO:-0700
TZNAME:MST
DTSTART:20241103T080000
END:STANDARD
BEGIN:DAYLIGHT
TZOFFSETFROM:-0700
TZOFFSETTO:-0600
TZNAME:MDT
DTSTART:20250309T090000
END:DAYLIGHT
BEGIN:STANDARD
TZOFFSETFROM:-0600
TZOFFSETTO:-0700
TZNAME:MST
DTSTART:20251102T080000
END:STANDARD
BEGIN:DAYLIGHT
TZOFFSETFROM:-0700
TZOFFSETTO:-0600
TZNAME:MDT
DTSTART:20260308T090000
END:DAYLIGHT
BEGIN:STANDARD
TZOFFSETFROM:-0600
TZOFFSETTO:-0700
TZNAME:MST
DTSTART:20261101T080000
END:STANDARD
END:VTIMEZONE
BEGIN:VEVENT
DTSTART;TZID=America/Los_Angeles:20250518T190000
DTEND;TZID=America/Los_Angeles:20250518T210000
DTSTAMP:20260424T091306
CREATED:20250507T222003Z
LAST-MODIFIED:20250507T222003Z
UID:2534-1747594800-1747602000@ancestralvoice.org
SUMMARY:Indigenous Medicine Ways - 9 Month Virtual Course [Meeting 4]
DESCRIPTION:Indigenous Medicine is the most ancient form of healing on the planet. Its elegant\, sophisticated methods remain potent and efficacious to this day. The cycles of Nature are honoured and intimate relationships with the Earth and Unseen realms are cultivated. This experiential course presents Indigenous perspectives– principles and practices- related to Medicine Ways. It is designed to introduce and inform the participant of the rich\, complex worldviews and lifeways of Native peoples as well as to foster religious/ cultural sensitivity and personal healing.  Exposed to and immersed in the Sacred traditions\, Dreaming and healing practices of Indigenous traditions\, participants will directly benefit from a deepening of relationship to the Source\, the Ancestors\, Earth and All of our Relations. Furthermore\, an appreciation and honouring of the diversity of other cultures will result. Contemporary matters regarding cultural appropriation\, the decolonization of “shamanism” and Sacred Plant Medicines will be addressed. \nIn terms of some of the topics that will be touched upon: \nIndigenous Perspectives & Healing Modalities\, The Sacred Hoop of Life (Medicine Wheel)\, Dreams & Sacred Plant Medicine\, Matrilineal Ways of Relationship and the Role of the Sacred/Earth/Ancestors and Community\, Death & Dying\, Cultivating Cultural Sensitivity & Awareness\, Decolonizing “shamanism”\, Contemporary Issues/Challenges & Applications.
URL:https://ancestralvoice.org/calendar/indigenous-medicine-ways-9-month-virtual-course-meeting-4/
LOCATION:AV Zoom
END:VEVENT
BEGIN:VEVENT
DTSTART;TZID=America/Los_Angeles:20250517T100000
DTEND;TZID=America/Los_Angeles:20250518T180000
DTSTAMP:20260424T091306
CREATED:20250507T221651Z
LAST-MODIFIED:20250507T221651Z
UID:2532-1747476000-1747591200@ancestralvoice.org
SUMMARY:2-Day Intensive - Indigenous Healing
DESCRIPTION:Medicine peoples’ relationship to and understanding of disease\, illness\, addiction and trauma is wholly unique. Advanced techniques in ancient Native methods of evaluation and treatment\, as well as Indigenous perspectives to such phenomena are introduced and thoroughly practiced. Prerequisite: The Indigenous Journey or prior experience with journeywork \nIn this intensive participants receive:\n– An appreciation of Indigenous worldviews regarding health\, healing and balance\n– An understanding of the nature of disease\, addiction and trauma from an Indigenous perspective\n– An overview of the myriad healing practices and techniques employed by Indigenous peoples worldwide\n– Instruction in the protocols and foundation of Prayer and preparation of Sacred Altars\n– Cultivation and fortification of relationship to Healing Spirits\n– Tools for assessment and treatment of various imbalances and afflictions\n– Practice in specific Native Healing modalities for self and others
URL:https://ancestralvoice.org/calendar/2-day-intensive-indigenous-healing/
LOCATION:Novato (108D Oliva Ct.)
END:VEVENT
BEGIN:VEVENT
DTSTART;TZID=America/Los_Angeles:20250516T100000
DTEND;TZID=America/Los_Angeles:20250516T180000
DTSTAMP:20260424T091306
CREATED:20250507T221431Z
LAST-MODIFIED:20250507T221431Z
UID:2530-1747389600-1747418400@ancestralvoice.org
SUMMARY:Intensive - The Indigenous Journey
DESCRIPTION:Indigenous Medicine is one of the most ancient Paths known and traversed by humanity for the acquisition of wisdom\, knowledge and healing for one’s community\, nation\, planet and self.  Via the vehicles of Indigenous song\, movement\, Prayer and music\, we journey to and explore landscapes and Sacred geographies that Medicine People from diverse cultures have frequented for millennia. Undertaken with specific intent and purpose\, we encounter and acquaint ourselves with the Spirits and powerful denizens of these realms- our Allies\, Benefactors and Guardians – to learn and partake of the Medicine they have to offer.  It is an experience steeped in Spirit\, Mystery and Magic\, presented in a Traditional manner and provides the foundation upon which to embark on the Path. Additionally\, we will address the importance and necessity of decolonizing modern “shamanism” and protecting Sacred Plant Medicines.\n\n\nNo prerequisites – everyone welcome. \n\n\n\n\n\n\n\n\nIn this intensive participants will receive:\n\n\n\nAn understanding of various indigenous relationships to Ancestral Realms\n\n\n\n\nInstruction in the mechanics of effective Journeying (without Sacred Plant Medicines)\n\n\n\nDirect contact and introduction to one’s Helping Spirits & Ancestors\nAn appreciation of the requirements and responsibilities to become a Traditional Healer/Medicine person\nTools to become an ally in decolonizing modern “shamanism” & protecting Sacred Plant Medicines
URL:https://ancestralvoice.org/calendar/intensive-the-indigenous-journey-2/
LOCATION:Novato (108D Oliva Ct.)
END:VEVENT
BEGIN:VEVENT
DTSTART;TZID=America/Los_Angeles:20250513T200000
DTEND;TZID=America/Los_Angeles:20250513T213000
DTSTAMP:20260424T091306
CREATED:20250507T221306Z
LAST-MODIFIED:20250507T221306Z
UID:2528-1747166400-1747171800@ancestralvoice.org
SUMMARY:Traditional Full Moon & Sacred Tobacco Ceremony
DESCRIPTION:at New Mission Yoga in San Francisco
URL:https://ancestralvoice.org/calendar/traditional-full-moon-sacred-tobacco-ceremony-2/
LOCATION:New Mission Yoga in San Francisco (2415 Mission St.)
END:VEVENT
BEGIN:VEVENT
DTSTART;TZID=America/Los_Angeles:20250512T193000
DTEND;TZID=America/Los_Angeles:20250512T220000
DTSTAMP:20260424T091306
CREATED:20250507T221144Z
LAST-MODIFIED:20250507T221144Z
UID:2526-1747078200-1747087200@ancestralvoice.org
SUMMARY:Traditional Sacred Pipe and Full Moon Ceremony
DESCRIPTION:
URL:https://ancestralvoice.org/calendar/traditional-sacred-pipe-and-full-moon-ceremony/
LOCATION:Novato (108D Oliva Ct.)
END:VEVENT
BEGIN:VEVENT
DTSTART;TZID=America/Los_Angeles:20250509T160000
DTEND;TZID=America/Los_Angeles:20250509T173000
DTSTAMP:20260424T091306
CREATED:20250507T220939Z
LAST-MODIFIED:20250507T220939Z
UID:2523-1746806400-1746811800@ancestralvoice.org
SUMMARY:Traditional Full Moon Ceremony [ZOOM]
DESCRIPTION:Let us gather to pray\, heal and let go under the full moon. We will gather virtually to honor the moon cycles and call in that which we desire to make manifest. Please email me for the Zoom link at phillip@ancestralvoice.org
URL:https://ancestralvoice.org/calendar/traditional-full-moon-ceremony-zoom-2/
LOCATION:Zoomcast CF
END:VEVENT
BEGIN:VEVENT
DTSTART;TZID=America/Los_Angeles:20250508T193000
DTEND;TZID=America/Los_Angeles:20250508T220000
DTSTAMP:20260424T091306
CREATED:20250507T220714Z
LAST-MODIFIED:20250507T220714Z
UID:2519-1746732600-1746741600@ancestralvoice.org
SUMMARY:Traditional Drum Tie
DESCRIPTION:A gathering in honour of my father\, a beloved and respected Roadman who sang his Final Set of Songs on the Earth\, we Tie up the Water Drum and\, along with the Gourd Rattle practice Sacred NAC Songs and receive Teachings regarding the Tipi Way. Everyone welcome. Please text me to RSVP at (415) 310-0981
URL:https://ancestralvoice.org/calendar/traditional-drum-tie-11/
LOCATION:Novato (108D Oliva Ct.)
END:VEVENT
BEGIN:VEVENT
DTSTART;TZID=America/Los_Angeles:20250424T193000
DTEND;TZID=America/Los_Angeles:20250424T220000
DTSTAMP:20260424T091306
CREATED:20250405T004316Z
LAST-MODIFIED:20250405T004316Z
UID:2506-1745523000-1745532000@ancestralvoice.org
SUMMARY:Sacred Hoops
DESCRIPTION:Gatherings dedicated to exploring and deepening our connections to the Sacred by receiving Teachings\, learning Traditional Native Songs and the fundamentals of respectful Ceremonial participation and/or by listening to the Wisdom of invited Elders\, Medicine People and Healers from various Indigenous Nations and cultures.  Everyone welcome. \nAvailable in-person and via Zoom. \nPlease contact me directly for the Zoom link at phillip@ancestralvoice.org
URL:https://ancestralvoice.org/calendar/sacred-hoops-4/
LOCATION:Novato (108D Oliva Ct.)
END:VEVENT
BEGIN:VEVENT
DTSTART;TZID=America/Los_Angeles:20250420T190000
DTEND;TZID=America/Los_Angeles:20250420T210000
DTSTAMP:20260424T091306
CREATED:20250405T004214Z
LAST-MODIFIED:20250405T004214Z
UID:2504-1745175600-1745182800@ancestralvoice.org
SUMMARY:Indigenous Medicine Ways - 9 Month Virtual Course [Meeting 3]
DESCRIPTION:Indigenous Medicine is the most ancient form of healing on the planet. Its elegant\, sophisticated methods remain potent and efficacious to this day. The cycles of Nature are honoured and intimate relationships with the Earth and Unseen realms are cultivated. This experiential course presents Indigenous perspectives– principles and practices- related to Medicine Ways. It is designed to introduce and inform the participant of the rich\, complex worldviews and lifeways of Native peoples as well as to foster religious/ cultural sensitivity and personal healing.  Exposed to and immersed in the Sacred traditions\, Dreaming and healing practices of Indigenous traditions\, participants will directly benefit from a deepening of relationship to the Source\, the Ancestors\, Earth and All of our Relations. Furthermore\, an appreciation and honouring of the diversity of other cultures will result. Contemporary matters regarding cultural appropriation\, the decolonization of “shamanism” and Sacred Plant Medicines will be addressed. \nIn terms of some of the topics that will be touched upon: \nIndigenous Perspectives & Healing Modalities\, The Sacred Hoop of Life (Medicine Wheel)\, Dreams & Sacred Plant Medicine\, Matrilineal Ways of Relationship and the Role of the Sacred/Earth/Ancestors and Community\, Death & Dying\, Cultivating Cultural Sensitivity & Awareness\, Decolonizing “shamanism”\, Contemporary Issues/Challenges & Applications.
URL:https://ancestralvoice.org/calendar/indigenous-medicine-ways-9-month-virtual-course-meeting-3/
LOCATION:AV Zoom
END:VEVENT
BEGIN:VEVENT
DTSTART;TZID=America/Los_Angeles:20250419T110000
DTEND;TZID=America/Los_Angeles:20250419T180000
DTSTAMP:20260424T091306
CREATED:20250405T004042Z
LAST-MODIFIED:20250405T004042Z
UID:2502-1745060400-1745085600@ancestralvoice.org
SUMMARY:Traditional Purification Lodge
DESCRIPTION:The Purification Lodge (often referred to as a “sweatlodge”) is an ancient\, Indigenous Prayer and Healing Ceremony\, which combines the Sacred elements- Water\, Air and Fire – within the womb of the Earth. The Ceremony is conducted in a Traditional manner. Everyone welcome. \nPlease sign up via the link below. \nhttps://www.eventbrite.com/e/1237598423199?aff=oddtdtcreator
URL:https://ancestralvoice.org/calendar/traditional-purification-lodge-15/
LOCATION:CA
END:VEVENT
BEGIN:VEVENT
DTSTART;TZID=America/Los_Angeles:20250415T200000
DTEND;TZID=America/Los_Angeles:20250415T213000
DTSTAMP:20260424T091306
CREATED:20250405T003958Z
LAST-MODIFIED:20250405T003958Z
UID:2500-1744747200-1744752600@ancestralvoice.org
SUMMARY:Traditional Full Moon Ceremony
DESCRIPTION:at New Mission Yoga in San Francisco
URL:https://ancestralvoice.org/calendar/traditional-full-moon-ceremony-3/
LOCATION:New Mission Yoga in San Francisco (2415 Mission St.)
END:VEVENT
BEGIN:VEVENT
DTSTART;TZID=America/Los_Angeles:20250413T190000
DTEND;TZID=America/Los_Angeles:20250413T210000
DTSTAMP:20260424T091306
CREATED:20250405T003848Z
LAST-MODIFIED:20250405T003848Z
UID:2497-1744570800-1744578000@ancestralvoice.org
SUMMARY:Men's Hoop: A 9-Month Journey Toward Awakened Warriorship [Meeting 3]
DESCRIPTION:A nine month journey of learning to receive teachings and challenges in order to cultivate the code and values of Awakened Warriorship – integrity\, honesty\, respect\, maturity\, responsibility and accountability – within a Sacred container to explore healthy masculinity in the modern world. Please email at phillip@ancestralvoice.org to join via Zoom.
URL:https://ancestralvoice.org/calendar/mens-hoop-a-9-month-journey-toward-awakened-warriorship-meeting-3/
LOCATION:AV Zoom
END:VEVENT
BEGIN:VEVENT
DTSTART;TZID=America/Los_Angeles:20250411T160000
DTEND;TZID=America/Los_Angeles:20250411T180000
DTSTAMP:20260424T091306
CREATED:20250405T003724Z
LAST-MODIFIED:20250405T003724Z
UID:2495-1744387200-1744394400@ancestralvoice.org
SUMMARY:Traditional Full Moon Ceremony [ZOOM]
DESCRIPTION:Let us gather to pray\, heal and let go under the full moon. We will gather virtually to honor the moon cycles and call in that which we desire to make manifest. Please email me for the Zoom link at phillip@ancestralvoice.org
URL:https://ancestralvoice.org/calendar/traditional-full-moon-ceremony-zoom/
LOCATION:CA
END:VEVENT
BEGIN:VEVENT
DTSTART;TZID=America/Denver:20250405T110000
DTEND;TZID=America/Denver:20250405T180000
DTSTAMP:20260424T091306
CREATED:20250404T180030Z
LAST-MODIFIED:20250405T003031Z
UID:2490-1743850800-1743876000@ancestralvoice.org
SUMMARY:Traditional Purification Lodge
DESCRIPTION:The Purification Lodge (often referred to as a “sweatlodge”) is an ancient\, Indigenous Prayer and Healing Ceremony\, which combines the Sacred elements- Water\, Air and Fire – within the womb of the Earth. The Ceremony is conducted in a Traditional manner. Everyone welcome. \nPlease sign up via the link below. \n 
URL:https://ancestralvoice.org/calendar/traditional-purification-lodge-14/
LOCATION:CA
END:VEVENT
BEGIN:VEVENT
DTSTART;TZID=America/Los_Angeles:20250404T193000
DTEND;TZID=America/Los_Angeles:20250404T220000
DTSTAMP:20260424T091306
CREATED:20250405T003310Z
LAST-MODIFIED:20250405T003310Z
UID:2492-1743795000-1743804000@ancestralvoice.org
SUMMARY:Traditional Drum Tie
DESCRIPTION:A gathering in honour of my father\, a beloved and respected Roadman who sang his Final Set of Songs on the Earth\, we Tie up the Water Drum and\, along with the Gourd Rattle practice Sacred NAC Songs and receive Teachings regarding the Tipi Way. Everyone welcome. Please text me to RSVP at (415) 310-0981
URL:https://ancestralvoice.org/calendar/traditional-drum-tie-10/
LOCATION:Novato (108D Oliva Ct.)
END:VEVENT
BEGIN:VEVENT
DTSTART;TZID=America/Los_Angeles:20250330T120000
DTEND;TZID=America/Los_Angeles:20250330T140000
DTSTAMP:20260424T091306
CREATED:20250111T053740Z
LAST-MODIFIED:20250206T164902Z
UID:2446-1743336000-1743343200@ancestralvoice.org
SUMMARY:Indigenous Medicine Ways - 9 Month Virtual Course [Meeting 2]
DESCRIPTION:Indigenous Medicine is the most ancient form of healing on the planet. Its elegant\, sophisticated methods remain potent and efficacious to this day. The cycles of Nature are honoured and intimate relationships with the Earth and Unseen realms are cultivated. This experiential course presents Indigenous perspectives– principles and practices- related to Medicine Ways. It is designed to introduce and inform the participant of the rich\, complex worldviews and lifeways of Native peoples as well as to foster religious/ cultural sensitivity and personal healing.  Exposed to and immersed in the Sacred traditions\, Dreaming and healing practices of Indigenous traditions\, participants will directly benefit from a deepening of relationship to the Source\, the Ancestors\, Earth and All of our Relations. Furthermore\, an appreciation and honouring of the diversity of other cultures will result. Contemporary matters regarding cultural appropriation\, the decolonization of “shamanism” and Sacred Plant Medicines will be addressed. \nIn terms of some of the topics that will be touched upon: \nIndigenous Perspectives & Healing Modalities\, The Sacred Hoop of Life (Medicine Wheel)\, Dreams & Sacred Plant Medicine\, Matrilineal Ways of Relationship and the Role of the Sacred/Earth/Ancestors and Community\, Death & Dying\, Cultivating Cultural Sensitivity & Awareness\, Decolonizing “shamanism”\, Contemporary Issues/Challenges & Applications.
URL:https://ancestralvoice.org/calendar/indigenous-medicine-ways-9-month-virtual-course-meeting-2/
LOCATION:AV Zoom
END:VEVENT
BEGIN:VEVENT
DTSTART;TZID=America/Los_Angeles:20250323T133000
DTEND;TZID=America/Los_Angeles:20250323T170000
DTSTAMP:20260424T091306
CREATED:20250111T053643Z
LAST-MODIFIED:20250206T164846Z
UID:2444-1742736600-1742749200@ancestralvoice.org
SUMMARY:Mt. Tamalpais Spring Equinox Medicine Wheel Ceremony
DESCRIPTION:The Medicine Wheel is an ancient\, powerful navigational way of life employed by Indigenous peoples throughout the world for health and healing.  We assemble atop Mt. Tamalpais\,  the Sacred mountain of the Coastal Miwok\, Pomo and Ohlone Nations for a Ceremony to create a Medicine Wheel (Sacred Hoop of Life) in honour and celebration of the seasonal shifts and thresholds and to Pray for All of Our Relations. Everyone welcome. \nPlease sign up via the link below.
URL:https://ancestralvoice.org/calendar/mt-tamalpais-spring-equinox-medicine-wheel-ceremony/
LOCATION:CA
END:VEVENT
BEGIN:VEVENT
DTSTART;TZID=America/Los_Angeles:20250322T110000
DTEND;TZID=America/Los_Angeles:20250322T170000
DTSTAMP:20260424T091306
CREATED:20250111T053352Z
LAST-MODIFIED:20250206T164825Z
UID:2442-1742641200-1742662800@ancestralvoice.org
SUMMARY:Traditional Spring Equinox Purification Lodge
DESCRIPTION:The Purification Lodge (often referred to as a “sweatlodge”) is an ancient\, Indigenous Prayer and Healing Ceremony\, which combines the Sacred elements- Water\, Air and Fire – within the womb of the Earth. The Ceremony is conducted in a Traditional manner. Everyone welcome. \nPlease sign up via the link below.
URL:https://ancestralvoice.org/calendar/traditional-spring-equinox-purification-lodge/
LOCATION:4010 Bodega Ave.
END:VEVENT
BEGIN:VEVENT
DTSTART;TZID=America/Los_Angeles:20250321T160000
DTEND;TZID=America/Los_Angeles:20250321T180000
DTSTAMP:20260424T091306
CREATED:20250111T053208Z
LAST-MODIFIED:20250206T164806Z
UID:2440-1742572800-1742580000@ancestralvoice.org
SUMMARY:Traditional Spring Equinox Ceremony
DESCRIPTION:Available via Zoom only\, please reach out to me directly at phillip@ancestralvoice.org for the Zoom Link.
URL:https://ancestralvoice.org/calendar/traditional-spring-equinox-ceremony-3/
LOCATION:CA
END:VEVENT
BEGIN:VEVENT
DTSTART;TZID=America/Los_Angeles:20250320T193000
DTEND;TZID=America/Los_Angeles:20250320T220000
DTSTAMP:20260424T091306
CREATED:20250111T053044Z
LAST-MODIFIED:20250206T164740Z
UID:2438-1742499000-1742508000@ancestralvoice.org
SUMMARY:Sacred Hoops & Spring Equinox Ceremony
DESCRIPTION:Gatherings dedicated to exploring and deepening our connections to the Sacred by receiving Teachings\, learning Traditional Native Songs and the fundamentals of respectful Ceremonial participation and/or by listening to the Wisdom of invited Elders\, Medicine People and Healers from various Indigenous Nations and cultures.  Everyone welcome \nAvailable in-person for locals and via Zoom for non-locals. \nContact me directly for details via phillip@ancestralvoice.org
URL:https://ancestralvoice.org/calendar/sacred-hoops-spring-equinox-ceremony/
LOCATION:Novato (108D Oliva Ct.)
END:VEVENT
BEGIN:VEVENT
DTSTART;TZID=America/Los_Angeles:20250311T200000
DTEND;TZID=America/Los_Angeles:20250311T213000
DTSTAMP:20260424T091306
CREATED:20250111T052929Z
LAST-MODIFIED:20250206T164716Z
UID:2436-1741723200-1741728600@ancestralvoice.org
SUMMARY:Traditional Full Moon & Spring Equinox Ceremony
DESCRIPTION:Please sign up via the link below.
URL:https://ancestralvoice.org/calendar/traditional-full-moon-spring-equinox-ceremony/
LOCATION:New Mission Yoga in San Francisco (2415 Mission St.)
END:VEVENT
BEGIN:VEVENT
DTSTART;TZID=America/Los_Angeles:20250309T120000
DTEND;TZID=America/Los_Angeles:20250309T140000
DTSTAMP:20260424T091306
CREATED:20250111T052807Z
LAST-MODIFIED:20250206T164649Z
UID:2434-1741521600-1741528800@ancestralvoice.org
SUMMARY:Men's Hoop: A 9-Month Journey Toward Awakened Warriorship [Meeting 2]
DESCRIPTION:A nine month journey of learning to receive teachings and challenges in order to cultivate the code and values of Awakened Warriorship – integrity\, honesty\, respect\, maturity\, responsibility and accountability – within a Sacred container to explore healthy masculinity in the modern world.
URL:https://ancestralvoice.org/calendar/mens-hoop-a-9-month-journey-toward-awakened-warriorship-meeting-2/
LOCATION:CA
END:VEVENT
BEGIN:VEVENT
DTSTART;TZID=America/Los_Angeles:20250308T110000
DTEND;TZID=America/Los_Angeles:20250308T170000
DTSTAMP:20260424T091306
CREATED:20250111T052622Z
LAST-MODIFIED:20250206T164630Z
UID:2431-1741431600-1741453200@ancestralvoice.org
SUMMARY:Traditional Purification Lodge
DESCRIPTION:The Purification Lodge (often referred to as a “sweatlodge”) is an ancient\, Indigenous Prayer and Healing Ceremony\, which combines the Sacred elements- Water\, Air and Fire – within the womb of the Earth. The Ceremony is conducted in a Traditional manner. Everyone welcome. \nPlease sign up via the link below.
URL:https://ancestralvoice.org/calendar/traditional-purification-lodge-13/
LOCATION:4010 Bodega Ave.
END:VEVENT
BEGIN:VEVENT
DTSTART;TZID=America/Los_Angeles:20250306T193000
DTEND;TZID=America/Los_Angeles:20250306T213000
DTSTAMP:20260424T091306
CREATED:20250111T052545Z
LAST-MODIFIED:20250209T225749Z
UID:2429-1741289400-1741296600@ancestralvoice.org
SUMMARY:Traditional Drum Tie
DESCRIPTION:A gathering in honour of my father\, a beloved and respected Roadman who sang his Final Set of Songs on the Earth\, we Tie up the Water Drum and\, along with the Gourd Rattle practice Sacred NAC Songs and receive Teachings regarding the Tipi Way. Everyone welcome.
URL:https://ancestralvoice.org/calendar/traditional-drum-tie-9/
LOCATION:Novato (108D Oliva Ct.)
END:VEVENT
BEGIN:VEVENT
DTSTART;TZID=America/Los_Angeles:20250227T193000
DTEND;TZID=America/Los_Angeles:20250227T220000
DTSTAMP:20260424T091306
CREATED:20250111T052459Z
LAST-MODIFIED:20250206T164417Z
UID:2427-1740684600-1740693600@ancestralvoice.org
SUMMARY:Sacred Hoops
DESCRIPTION:Gatherings dedicated to exploring and deepening our connections to the Sacred by receiving Teachings\, learning Traditional Native Songs and the fundamentals of respectful Ceremonial participation and/or by listening to the Wisdom of invited Elders\, Medicine People and Healers from various Indigenous Nations and cultures.  Everyone welcome. \nAvailable in-person and via Zoom. \nPlease contact me directly for the Zoom link at phillip@ancestralvoice.org
URL:https://ancestralvoice.org/calendar/sacred-hoops-3/
LOCATION:Novato (108D Oliva Ct.)
END:VEVENT
BEGIN:VEVENT
DTSTART;TZID=America/Los_Angeles:20250221T160000
DTEND;TZID=America/Los_Angeles:20250221T180000
DTSTAMP:20260424T091306
CREATED:20250111T052342Z
LAST-MODIFIED:20250206T164050Z
UID:2425-1740153600-1740160800@ancestralvoice.org
SUMMARY:Traditional Teachings & Ceremony
DESCRIPTION:Via Zoom \nPlease email me directly at phillip@ancestralvoice.org for the Zoom Link
URL:https://ancestralvoice.org/calendar/traditional-teachings-ceremony/
LOCATION:CA
END:VEVENT
BEGIN:VEVENT
DTSTART;TZID=America/Los_Angeles:20250215T100000
DTEND;TZID=America/Los_Angeles:20250216T180000
DTSTAMP:20260424T091306
CREATED:20250111T052215Z
LAST-MODIFIED:20250206T163805Z
UID:2423-1739613600-1739728800@ancestralvoice.org
SUMMARY:Soul Retrieval Intensive
DESCRIPTION:We dwell in the Quickening\, a time when life is accelerating.  The potential for spiritual evolution or dissolution is equally great.  Depression\, what shamans refer to as being dis-spirited\, runs rampant in our society.  Medicine People\, who “see” everything as alive\, imbued with Spirit\, with Soul\, regard those afflicted as suffering from soul loss.  Trauma\, illness\, addiction and disease may also contribute to a loss of soul.  In this workshop\, Indigenous tools are employed to assist the practitioner in understanding the origins\, identifying the symptoms and providing treatment for this condition.  In addition\, Indigenous techniques and strategies for remaining in the eye of the tornado and preventing soul loss in one’s personal life are revealed. Prerequisite: The Indigenous Journey or prior experience with journeywork. \nPlease reach out to me directly at phillip@ancestralvoice.org to sign up
URL:https://ancestralvoice.org/calendar/soul-retrieval-intensive/
LOCATION:CA
END:VEVENT
BEGIN:VEVENT
DTSTART;TZID=America/Los_Angeles:20250214T100000
DTEND;TZID=America/Los_Angeles:20250214T180000
DTSTAMP:20260424T091306
CREATED:20250111T051935Z
LAST-MODIFIED:20250206T163632Z
UID:2419-1739527200-1739556000@ancestralvoice.org
SUMMARY:The Indigenous Journey Intensive
DESCRIPTION:Indigenous Medicine is one of the most ancient Paths known and traversed by humanity for the acquisition of wisdom\, knowledge and healing for one’s community\, nation\, planet and self.  Via the vehicles of Indigenous song\, movement\, Prayer and music\, we journey to and explore landscapes and Sacred geographies that Medicine People from diverse cultures have frequented for millennia. Undertaken with specific intent and purpose\, we encounter and acquaint ourselves with the Spirits and powerful denizens of these realms- our Allies\, Benefactors and Guardians – to learn and partake of the Medicine they have to offer.  It is an experience steeped in Spirit\, Mystery and Magic\, presented in a Traditional manner and provides the foundation upon which to embark on the Path. Additionally\, we will address the importance and necessity of decolonizing modern “shamanism” and protecting Sacred Plant Medicines.\n\n\nNo prerequisites – everyone welcome. \n\n\n\n\n\n\nIn this intensive participants will receive:\n\n\nAn understanding of various indigenous relationships to Ancestral Realms\n\n\nInstruction in the mechanics of effective Journeying (without Sacred Plant Medicines)\n\nDirect contact and introduction to one’s Helping Spirits & Ancestors\nAn appreciation of the requirements and responsibilities to become a Traditional Healer/Medicine person\nTools to become an ally in decolonizing modern “shamanism” & protecting Sacred Plant Medicines\n\n\nPlease contact me directly via email at phillip@ancestralvoice.org to sign up.
URL:https://ancestralvoice.org/calendar/traditional-full-moon-sacred-pipe-ceremony/
LOCATION:Novato (108D Oliva Ct.)
END:VEVENT
BEGIN:VEVENT
DTSTART;TZID=America/Los_Angeles:20250212T193000
DTEND;TZID=America/Los_Angeles:20250212T220000
DTSTAMP:20260424T091306
CREATED:20250206T163742Z
LAST-MODIFIED:20250206T163742Z
UID:2449-1739388600-1739397600@ancestralvoice.org
SUMMARY:Traditional Full Moon Sacred Pipe Ceremony
DESCRIPTION:In-person only in Novato
URL:https://ancestralvoice.org/calendar/traditional-full-moon-sacred-pipe-ceremony-2/
LOCATION:Novato (108D Oliva Ct.)
END:VEVENT
BEGIN:VEVENT
DTSTART;TZID=America/Los_Angeles:20250211T200000
DTEND;TZID=America/Los_Angeles:20250211T220000
DTSTAMP:20260424T091306
CREATED:20250111T050853Z
LAST-MODIFIED:20250206T163539Z
UID:2417-1739304000-1739311200@ancestralvoice.org
SUMMARY:Traditional Full Moon & Sacred Tobacco Ceremony
DESCRIPTION:
URL:https://ancestralvoice.org/calendar/traditional-full-moon-sacred-tobacco-ceremony/
LOCATION:CA
END:VEVENT
END:VCALENDAR