BEGIN:VCALENDAR
VERSION:2.0
PRODID:-//Ancestral Voice - ECPv6.15.20//NONSGML v1.0//EN
CALSCALE:GREGORIAN
METHOD:PUBLISH
X-WR-CALNAME:Ancestral Voice
X-ORIGINAL-URL:https://ancestralvoice.org
X-WR-CALDESC:Events for Ancestral Voice
REFRESH-INTERVAL;VALUE=DURATION:PT1H
X-Robots-Tag:noindex
X-PUBLISHED-TTL:PT1H
BEGIN:VTIMEZONE
TZID:America/Los_Angeles
BEGIN:DAYLIGHT
TZOFFSETFROM:-0800
TZOFFSETTO:-0700
TZNAME:PDT
DTSTART:20250309T100000
END:DAYLIGHT
BEGIN:STANDARD
TZOFFSETFROM:-0700
TZOFFSETTO:-0800
TZNAME:PST
DTSTART:20251102T090000
END:STANDARD
BEGIN:DAYLIGHT
TZOFFSETFROM:-0800
TZOFFSETTO:-0700
TZNAME:PDT
DTSTART:20260308T100000
END:DAYLIGHT
BEGIN:STANDARD
TZOFFSETFROM:-0700
TZOFFSETTO:-0800
TZNAME:PST
DTSTART:20261101T090000
END:STANDARD
BEGIN:DAYLIGHT
TZOFFSETFROM:-0800
TZOFFSETTO:-0700
TZNAME:PDT
DTSTART:20270314T100000
END:DAYLIGHT
BEGIN:STANDARD
TZOFFSETFROM:-0700
TZOFFSETTO:-0800
TZNAME:PST
DTSTART:20271107T090000
END:STANDARD
END:VTIMEZONE
BEGIN:VEVENT
DTSTART;TZID=America/Los_Angeles:20260614T133000
DTEND;TZID=America/Los_Angeles:20260614T173000
DTSTAMP:20260423T132543
CREATED:20260415T020111Z
LAST-MODIFIED:20260415T020111Z
UID:2800-1781443800-1781458200@ancestralvoice.org
SUMMARY:Mt. Tamalpais Summer Solstice Medicine Wheel Ceremony
DESCRIPTION:The Medicine Wheel is an ancient\, powerful navigational way of life employed by Indigenous peoples throughout the world for health and healing. \nWe will initially meet at the OLD Whole Foods on Miller Ave in Mill Valley\, then caravan together to assemble atop Mt. Tamalpais\, the Sacred mountain of the Coastal Miwok\, Pomo and Ohlone Nations for a Ceremony to create a Medicine Wheel (Sacred Hoop of Life) in honour and celebration of the seasonal shifts and thresholds and to Pray for All of Our Relations. Everyone is welcome. \nIf new to the Medicine Wheel Ceremony\, please RSVP for this event so we can send you information on what to bring\, what to where and how to show up in a good way. Please notify us of your attendance by calling or texting us at (415) 310-0981.
URL:https://ancestralvoice.org/calendar/mt-tamalpais-summer-solstice-medicine-wheel-ceremony-3/
LOCATION:Whole Foods Mill Valley\, Miller Ave\, Mill Valley
END:VEVENT
BEGIN:VEVENT
DTSTART;TZID=America/Los_Angeles:20260614T183000
DTEND;TZID=America/Los_Angeles:20260614T203000
DTSTAMP:20260423T132543
CREATED:20260415T020313Z
LAST-MODIFIED:20260415T020313Z
UID:2802-1781461800-1781469000@ancestralvoice.org
SUMMARY:Traditional Summer Solstice Ceremony
DESCRIPTION:at 11:11 Portal in Novato (863 Grant Ave.)
URL:https://ancestralvoice.org/calendar/traditional-summer-solstice-ceremony-2/
LOCATION:11:11 Portal (863 Grand Ave. Novato)\, 863 Grand Ave\, Novato\, CA\, United States
END:VEVENT
END:VCALENDAR