BEGIN:VCALENDAR
VERSION:2.0
PRODID:-//Ancestral Voice - ECPv6.15.20//NONSGML v1.0//EN
CALSCALE:GREGORIAN
METHOD:PUBLISH
X-ORIGINAL-URL:https://ancestralvoice.org
X-WR-CALDESC:Events for Ancestral Voice
REFRESH-INTERVAL;VALUE=DURATION:PT1H
X-Robots-Tag:noindex
X-PUBLISHED-TTL:PT1H
BEGIN:VTIMEZONE
TZID:America/Los_Angeles
BEGIN:DAYLIGHT
TZOFFSETFROM:-0800
TZOFFSETTO:-0700
TZNAME:PDT
DTSTART:20250309T100000
END:DAYLIGHT
BEGIN:STANDARD
TZOFFSETFROM:-0700
TZOFFSETTO:-0800
TZNAME:PST
DTSTART:20251102T090000
END:STANDARD
BEGIN:DAYLIGHT
TZOFFSETFROM:-0800
TZOFFSETTO:-0700
TZNAME:PDT
DTSTART:20260308T100000
END:DAYLIGHT
BEGIN:STANDARD
TZOFFSETFROM:-0700
TZOFFSETTO:-0800
TZNAME:PST
DTSTART:20261101T090000
END:STANDARD
BEGIN:DAYLIGHT
TZOFFSETFROM:-0800
TZOFFSETTO:-0700
TZNAME:PDT
DTSTART:20270314T100000
END:DAYLIGHT
BEGIN:STANDARD
TZOFFSETFROM:-0700
TZOFFSETTO:-0800
TZNAME:PST
DTSTART:20271107T090000
END:STANDARD
END:VTIMEZONE
BEGIN:VEVENT
DTSTART;TZID=America/Los_Angeles:20260528T193000
DTEND;TZID=America/Los_Angeles:20260528T220000
DTSTAMP:20260423T115822
CREATED:20260415T013626Z
LAST-MODIFIED:20260415T013626Z
UID:2769-1779996600-1780005600@ancestralvoice.org
SUMMARY:Sacred Hoops
DESCRIPTION:Gatherings dedicated to exploring and deepening our connections to the Sacred by receiving Teachings\, learning Traditional Native Songs and the fundamentals of respectful Ceremonial participation and/or by listening to the Wisdom of invited Elders\, Medicine People and Healers from various Indigenous Nations and cultures.  Everyone welcome. \nAvailable in-person for Bay Area locals and via Zoom. \nPlease contact me directly for the Zoom link at phillip@ancestralvoice.org
URL:https://ancestralvoice.org/calendar/sacred-hoops-14/
LOCATION:Novato (108D Oliva Ct.)
END:VEVENT
END:VCALENDAR