BEGIN:VCALENDAR
VERSION:2.0
PRODID:-//Ancestral Voice - ECPv6.15.20//NONSGML v1.0//EN
CALSCALE:GREGORIAN
METHOD:PUBLISH
X-WR-CALNAME:Ancestral Voice
X-ORIGINAL-URL:https://ancestralvoice.org
X-WR-CALDESC:Events for Ancestral Voice
REFRESH-INTERVAL;VALUE=DURATION:PT1H
X-Robots-Tag:noindex
X-PUBLISHED-TTL:PT1H
BEGIN:VTIMEZONE
TZID:America/Los_Angeles
BEGIN:DAYLIGHT
TZOFFSETFROM:-0800
TZOFFSETTO:-0700
TZNAME:PDT
DTSTART:20250309T100000
END:DAYLIGHT
BEGIN:STANDARD
TZOFFSETFROM:-0700
TZOFFSETTO:-0800
TZNAME:PST
DTSTART:20251102T090000
END:STANDARD
BEGIN:DAYLIGHT
TZOFFSETFROM:-0800
TZOFFSETTO:-0700
TZNAME:PDT
DTSTART:20260308T100000
END:DAYLIGHT
BEGIN:STANDARD
TZOFFSETFROM:-0700
TZOFFSETTO:-0800
TZNAME:PST
DTSTART:20261101T090000
END:STANDARD
BEGIN:DAYLIGHT
TZOFFSETFROM:-0800
TZOFFSETTO:-0700
TZNAME:PDT
DTSTART:20270314T100000
END:DAYLIGHT
BEGIN:STANDARD
TZOFFSETFROM:-0700
TZOFFSETTO:-0800
TZNAME:PST
DTSTART:20271107T090000
END:STANDARD
END:VTIMEZONE
BEGIN:VEVENT
DTSTART;TZID=America/Los_Angeles:20260228T100000
DTEND;TZID=America/Los_Angeles:20260301T180000
DTSTAMP:20260423T121141
CREATED:20251219T182100Z
LAST-MODIFIED:20251219T182448Z
UID:2703-1772272800-1772388000@ancestralvoice.org
SUMMARY:Sound Healing Intensive [2-Days]
DESCRIPTION:Everything is alive.  Everything sings\, dances and pulsates with precious life.  Everything is energy and vibration.  Sound is vibration.  Disease\, trauma\, illness and stress result from being out of synchrony with the song\, rhythm and pulse of Nature and the universe. Indigenous peoples from diverse cultures worldwide recognize and harness the power of sound and vibration- through voice\, musical instruments\, and movement- to reestablish health and harmony and thereby effect healing.  Both ancient and modern techniques involving sound/movement for healing and protection\, some of which Medicine People have employed for millennia are introduced and experienced. No prior experience necessary. \nFor information about reciprocity and to sign up for the Sound Healing Intensive\, please contact us via call or text at (410) 310-0981.
URL:https://ancestralvoice.org/calendar/sound-healing-intensive-2-days/
LOCATION:Novato (108D Oliva Ct.)
END:VEVENT
END:VCALENDAR