BEGIN:VCALENDAR
VERSION:2.0
PRODID:-//Ancestral Voice - ECPv6.15.20//NONSGML v1.0//EN
CALSCALE:GREGORIAN
METHOD:PUBLISH
X-WR-CALNAME:Ancestral Voice
X-ORIGINAL-URL:https://ancestralvoice.org
X-WR-CALDESC:Events for Ancestral Voice
REFRESH-INTERVAL;VALUE=DURATION:PT1H
X-Robots-Tag:noindex
X-PUBLISHED-TTL:PT1H
BEGIN:VTIMEZONE
TZID:America/Los_Angeles
BEGIN:DAYLIGHT
TZOFFSETFROM:-0800
TZOFFSETTO:-0700
TZNAME:PDT
DTSTART:20250309T100000
END:DAYLIGHT
BEGIN:STANDARD
TZOFFSETFROM:-0700
TZOFFSETTO:-0800
TZNAME:PST
DTSTART:20251102T090000
END:STANDARD
BEGIN:DAYLIGHT
TZOFFSETFROM:-0800
TZOFFSETTO:-0700
TZNAME:PDT
DTSTART:20260308T100000
END:DAYLIGHT
BEGIN:STANDARD
TZOFFSETFROM:-0700
TZOFFSETTO:-0800
TZNAME:PST
DTSTART:20261101T090000
END:STANDARD
BEGIN:DAYLIGHT
TZOFFSETFROM:-0800
TZOFFSETTO:-0700
TZNAME:PDT
DTSTART:20270314T100000
END:DAYLIGHT
BEGIN:STANDARD
TZOFFSETFROM:-0700
TZOFFSETTO:-0800
TZNAME:PST
DTSTART:20271107T090000
END:STANDARD
END:VTIMEZONE
BEGIN:VEVENT
DTSTART;TZID=America/Los_Angeles:20260130T100000
DTEND;TZID=America/Los_Angeles:20260130T180000
DTSTAMP:20260423T134519
CREATED:20251219T181558Z
LAST-MODIFIED:20251219T182251Z
UID:2697-1769767200-1769796000@ancestralvoice.org
SUMMARY:The Indigenous Journey Healing Intensive
DESCRIPTION:Indigenous Medicine is one of the most ancient Paths known and traversed by humanity for the acquisition of wisdom\, knowledge and healing for one’s community\, nation\, planet and self.  Via the vehicles of Indigenous song\, movement\, Prayer and music\, we journey to and explore landscapes and Sacred geographies that Medicine People from diverse cultures have frequented for millennia. Undertaken with specific intent and purpose\, we encounter and acquaint ourselves with the Spirits and powerful denizens of these realms- our Allies\, Benefactors and Guardians – to learn and partake of the Medicine they have to offer.  It is an experience steeped in Spirit\, Mystery and Magic\, presented in a Traditional manner and provides the foundation upon which to embark on the Path. Additionally\, we will address the importance and necessity of decolonizing modern “shamanism” and protecting Sacred Plant Medicines.\n\n\nNo prerequisites – everyone welcome. \n\n\n\n\n\nIn this intensive participants will receive:\n\n\nAn understanding of various indigenous relationships to Ancestral Realms\n\n\nInstruction in the mechanics of effective Journeying (without Sacred Plant Medicines)\n\nDirect contact and introduction to one’s Helping Spirits & Ancestors\nAn appreciation of the requirements and responsibilities to become a Traditional Healer/Medicine person\nTools to become an ally in decolonizing modern “shamanism” & protecting Sacred Plant Medicines\n\n\nFor more information about the reciprocity and to sign up for this Intensive\, please contact us via call or text at (410) 310-0981
URL:https://ancestralvoice.org/calendar/the-indigenous-journey-healing-intensive/
LOCATION:Novato (108D Oliva Ct.)
END:VEVENT
END:VCALENDAR