BEGIN:VCALENDAR
VERSION:2.0
PRODID:-//Ancestral Voice - ECPv6.15.20//NONSGML v1.0//EN
CALSCALE:GREGORIAN
METHOD:PUBLISH
X-WR-CALNAME:Ancestral Voice
X-ORIGINAL-URL:https://ancestralvoice.org
X-WR-CALDESC:Events for Ancestral Voice
REFRESH-INTERVAL;VALUE=DURATION:PT1H
X-Robots-Tag:noindex
X-PUBLISHED-TTL:PT1H
BEGIN:VTIMEZONE
TZID:America/Los_Angeles
BEGIN:DAYLIGHT
TZOFFSETFROM:-0800
TZOFFSETTO:-0700
TZNAME:PDT
DTSTART:20240310T100000
END:DAYLIGHT
BEGIN:STANDARD
TZOFFSETFROM:-0700
TZOFFSETTO:-0800
TZNAME:PST
DTSTART:20241103T090000
END:STANDARD
BEGIN:DAYLIGHT
TZOFFSETFROM:-0800
TZOFFSETTO:-0700
TZNAME:PDT
DTSTART:20250309T100000
END:DAYLIGHT
BEGIN:STANDARD
TZOFFSETFROM:-0700
TZOFFSETTO:-0800
TZNAME:PST
DTSTART:20251102T090000
END:STANDARD
BEGIN:DAYLIGHT
TZOFFSETFROM:-0800
TZOFFSETTO:-0700
TZNAME:PDT
DTSTART:20260308T100000
END:DAYLIGHT
BEGIN:STANDARD
TZOFFSETFROM:-0700
TZOFFSETTO:-0800
TZNAME:PST
DTSTART:20261101T090000
END:STANDARD
END:VTIMEZONE
BEGIN:VEVENT
DTSTART;TZID=America/Los_Angeles:20251221T133000
DTEND;TZID=America/Los_Angeles:20251221T170000
DTSTAMP:20260423T165333
CREATED:20251112T003532Z
LAST-MODIFIED:20251112T003532Z
UID:2633-1766323800-1766336400@ancestralvoice.org
SUMMARY:Mt. Tam Winter Solstice Medicine Wheel Ceremony
DESCRIPTION:The Medicine Wheel is an ancient\, powerful navigational way of life employed by Indigenous peoples throughout the world for health and healing. \nWe will initially meet at the Whole Foods on Miller Ave in Mill Valley\, then caravan together to assemble atop Mt. Tamalpais\, the Sacred mountain of the Coastal Miwok\, Pomo and Ohlone Nations for a Ceremony to create a Medicine Wheel (Sacred Hoop of Life) in honour and celebration of the seasonal shifts and thresholds and to Pray for All of Our Relations. Everyone is welcome.
URL:https://ancestralvoice.org/calendar/mt-tam-winter-solstice-medicine-wheel-ceremony/
LOCATION:Whole Foods Mill Valley\, Miller Ave\, Mill Valley
END:VEVENT
END:VCALENDAR