BEGIN:VCALENDAR
VERSION:2.0
PRODID:-//Ancestral Voice - ECPv6.15.20//NONSGML v1.0//EN
CALSCALE:GREGORIAN
METHOD:PUBLISH
X-ORIGINAL-URL:https://ancestralvoice.org
X-WR-CALDESC:Events for Ancestral Voice
REFRESH-INTERVAL;VALUE=DURATION:PT1H
X-Robots-Tag:noindex
X-PUBLISHED-TTL:PT1H
BEGIN:VTIMEZONE
TZID:America/Los_Angeles
BEGIN:DAYLIGHT
TZOFFSETFROM:-0800
TZOFFSETTO:-0700
TZNAME:PDT
DTSTART:20240310T100000
END:DAYLIGHT
BEGIN:STANDARD
TZOFFSETFROM:-0700
TZOFFSETTO:-0800
TZNAME:PST
DTSTART:20241103T090000
END:STANDARD
BEGIN:DAYLIGHT
TZOFFSETFROM:-0800
TZOFFSETTO:-0700
TZNAME:PDT
DTSTART:20250309T100000
END:DAYLIGHT
BEGIN:STANDARD
TZOFFSETFROM:-0700
TZOFFSETTO:-0800
TZNAME:PST
DTSTART:20251102T090000
END:STANDARD
BEGIN:DAYLIGHT
TZOFFSETFROM:-0800
TZOFFSETTO:-0700
TZNAME:PDT
DTSTART:20260308T100000
END:DAYLIGHT
BEGIN:STANDARD
TZOFFSETFROM:-0700
TZOFFSETTO:-0800
TZNAME:PST
DTSTART:20261101T090000
END:STANDARD
END:VTIMEZONE
BEGIN:VEVENT
DTSTART;TZID=America/Los_Angeles:20251209T193000
DTEND;TZID=America/Los_Angeles:20251209T213000
DTSTAMP:20260423T165428
CREATED:20251112T002847Z
LAST-MODIFIED:20251112T002847Z
UID:2628-1765308600-1765315800@ancestralvoice.org
SUMMARY:Traditional Drum Tie
DESCRIPTION:A gathering in honour of my father\, a beloved and respected Roadman who sang his Final Set of Songs on the Earth\, we Tie up the Water Drum and\, along with the Gourd Rattle practice Sacred NAC Songs and receive Teachings regarding the Tipi Way. Everyone welcome. Please text me to RSVP at (415) 310-0981
URL:https://ancestralvoice.org/calendar/traditional-drum-tie-15/
LOCATION:Novato (108D Oliva Ct.)
END:VEVENT
END:VCALENDAR