BEGIN:VCALENDAR
VERSION:2.0
PRODID:-//Ancestral Voice - ECPv6.15.20//NONSGML v1.0//EN
CALSCALE:GREGORIAN
METHOD:PUBLISH
X-ORIGINAL-URL:https://ancestralvoice.org
X-WR-CALDESC:Events for Ancestral Voice
REFRESH-INTERVAL;VALUE=DURATION:PT1H
X-Robots-Tag:noindex
X-PUBLISHED-TTL:PT1H
BEGIN:VTIMEZONE
TZID:America/Denver
BEGIN:DAYLIGHT
TZOFFSETFROM:-0700
TZOFFSETTO:-0600
TZNAME:MDT
DTSTART:20240310T090000
END:DAYLIGHT
BEGIN:STANDARD
TZOFFSETFROM:-0600
TZOFFSETTO:-0700
TZNAME:MST
DTSTART:20241103T080000
END:STANDARD
BEGIN:DAYLIGHT
TZOFFSETFROM:-0700
TZOFFSETTO:-0600
TZNAME:MDT
DTSTART:20250309T090000
END:DAYLIGHT
BEGIN:STANDARD
TZOFFSETFROM:-0600
TZOFFSETTO:-0700
TZNAME:MST
DTSTART:20251102T080000
END:STANDARD
BEGIN:DAYLIGHT
TZOFFSETFROM:-0700
TZOFFSETTO:-0600
TZNAME:MDT
DTSTART:20260308T090000
END:DAYLIGHT
BEGIN:STANDARD
TZOFFSETFROM:-0600
TZOFFSETTO:-0700
TZNAME:MST
DTSTART:20261101T080000
END:STANDARD
END:VTIMEZONE
BEGIN:VEVENT
DTSTART;TZID=America/Denver:20250202T120000
DTEND;TZID=America/Denver:20250202T140000
DTSTAMP:20260424T103348
CREATED:20250111T045528Z
LAST-MODIFIED:20250111T045528Z
UID:2402-1738497600-1738504800@ancestralvoice.org
SUMMARY:Indigenous Medicine Ways: A 9-Month Virtual Course [Meeting 1]
DESCRIPTION:Indigenous Medicine is the most ancient form of healing on the planet. Its elegant\, sophisticated methods remain potent and efficacious to this day. The cycles of Nature are honoured and intimate relationships with the Earth and Unseen realms are cultivated. This experiential course presents Indigenous perspectives– principles and practices- related to Medicine Ways. It is designed to introduce and inform the participant of the rich\, complex worldviews and lifeways of Native peoples as well as to foster religious/ cultural sensitivity and personal healing.  Exposed to and immersed in the Sacred traditions\, Dreaming and healing practices of Indigenous traditions\, participants will directly benefit from a deepening of relationship to the Source\, the Ancestors\, Earth and All of our Relations. Furthermore\, an appreciation and honouring of the diversity of other cultures will result. Contemporary matters regarding cultural appropriation\, the decolonization of “shamanism” and Sacred Plant Medicines will be addressed. \nIn terms of some of the topics that will be touched upon: \nIndigenous Perspectives & Healing Modalities\, The Sacred Hoop of Life (Medicine Wheel)\, Dreams & Sacred Plant Medicine\, Matrilineal Ways of Relationship and the Role of the Sacred/Earth/Ancestors and Community\, Death & Dying\, Cultivating Cultural Sensitivity & Awareness\, Decolonizing “shamanism”\, Contemporary Issues/Challenges & Applications. \nPlease contact me directly via email at phillip@ancestralvoice.org
URL:https://ancestralvoice.org/calendar/indigenous-medicine-ways-a-9-month-virtual-course-meeting-1/
LOCATION:CA
END:VEVENT
BEGIN:VEVENT
DTSTART;TZID=America/Denver:20250202T193000
DTEND;TZID=America/Denver:20250202T220000
DTSTAMP:20260424T103348
CREATED:20250111T045817Z
LAST-MODIFIED:20250111T045817Z
UID:2406-1738524600-1738533600@ancestralvoice.org
SUMMARY:Traditional Imbolc Ceremony
DESCRIPTION:Available via Zoom and in-person. \nPlease sign up using the link below.
URL:https://ancestralvoice.org/calendar/traditional-imbolc-ceremony/
LOCATION:Novato (108D Oliva Ct.)
END:VEVENT
END:VCALENDAR