BEGIN:VCALENDAR
VERSION:2.0
PRODID:-//Ancestral Voice - ECPv6.15.20//NONSGML v1.0//EN
CALSCALE:GREGORIAN
METHOD:PUBLISH
X-ORIGINAL-URL:https://ancestralvoice.org
X-WR-CALDESC:Events for Ancestral Voice
REFRESH-INTERVAL;VALUE=DURATION:PT1H
X-Robots-Tag:noindex
X-PUBLISHED-TTL:PT1H
BEGIN:VTIMEZONE
TZID:America/Denver
BEGIN:DAYLIGHT
TZOFFSETFROM:-0700
TZOFFSETTO:-0600
TZNAME:MDT
DTSTART:20230312T090000
END:DAYLIGHT
BEGIN:STANDARD
TZOFFSETFROM:-0600
TZOFFSETTO:-0700
TZNAME:MST
DTSTART:20231105T080000
END:STANDARD
BEGIN:DAYLIGHT
TZOFFSETFROM:-0700
TZOFFSETTO:-0600
TZNAME:MDT
DTSTART:20240310T090000
END:DAYLIGHT
BEGIN:STANDARD
TZOFFSETFROM:-0600
TZOFFSETTO:-0700
TZNAME:MST
DTSTART:20241103T080000
END:STANDARD
BEGIN:DAYLIGHT
TZOFFSETFROM:-0700
TZOFFSETTO:-0600
TZNAME:MDT
DTSTART:20250309T090000
END:DAYLIGHT
BEGIN:STANDARD
TZOFFSETFROM:-0600
TZOFFSETTO:-0700
TZNAME:MST
DTSTART:20251102T080000
END:STANDARD
END:VTIMEZONE
BEGIN:VEVENT
DTSTART;TZID=America/Denver:20240726T160000
DTEND;TZID=America/Denver:20240726T160000
DTSTAMP:20260424T211651
CREATED:20240806T193911Z
LAST-MODIFIED:20240806T193911Z
UID:2323-1722009600-1722009600@ancestralvoice.org
SUMMARY:Good of the Whole Traditional Ceremony & Teachings Zoomcast
DESCRIPTION:Please email for the link
URL:https://ancestralvoice.org/calendar/good-of-the-whole-traditional-ceremony-teachings-zoomcast-2/
LOCATION:CA
END:VEVENT
BEGIN:VEVENT
DTSTART;TZID=America/Denver:20240726T190000
DTEND;TZID=America/Denver:20240726T190000
DTSTAMP:20260424T211651
CREATED:20240806T194108Z
LAST-MODIFIED:20240806T194108Z
UID:2325-1722020400-1722020400@ancestralvoice.org
SUMMARY:Traditional Ceremony & Teachings
DESCRIPTION:in Mill Valley (524 Cascade Dr.)
URL:https://ancestralvoice.org/calendar/traditional-ceremony-teachings/
LOCATION:CA
END:VEVENT
END:VCALENDAR